BEGIN:VCALENDAR
VERSION:2.0
PRODID:-//Kernow Goth - ECPv6.3.4//NONSGML v1.0//EN
CALSCALE:GREGORIAN
METHOD:PUBLISH
X-WR-CALNAME:Kernow Goth
X-ORIGINAL-URL:https://kernowgoth.org
X-WR-CALDESC:Events for Kernow Goth
REFRESH-INTERVAL;VALUE=DURATION:PT1H
X-Robots-Tag:noindex
X-PUBLISHED-TTL:PT1H
BEGIN:VTIMEZONE
TZID:Europe/London
BEGIN:DAYLIGHT
TZOFFSETFROM:+0000
TZOFFSETTO:+0100
TZNAME:BST
DTSTART:20260329T010000
END:DAYLIGHT
BEGIN:STANDARD
TZOFFSETFROM:+0100
TZOFFSETTO:+0000
TZNAME:GMT
DTSTART:20261025T010000
END:STANDARD
END:VTIMEZONE
BEGIN:VEVENT
DTSTART;TZID=Europe/London:20260420T140000
DTEND;TZID=Europe/London:20260420T160000
DTSTAMP:20260420T013732
CREATED:20250421T092015Z
LAST-MODIFIED:20260403T102405Z
UID:10000868-1776693600-1776700800@kernowgoth.org
SUMMARY:Dialect Stories with Paul Phillips + Kea OCS AGM
DESCRIPTION:There will be cocktail pasties and saffron cake and Paul Phillips with some more dialect tales after the meeting.\nPlease could you confirm by April 15th if you will attend and what sort of pasty you require\nBeef\, cheese and onion or vegetable .\nThank you and look forward to seeing you all.
URL:https://kernowgoth.org/event/kea-ocs-agm/
LOCATION:Kea Community Centre\, 47 Old Coach Rd\, Playing Place\, Truro\, Cornwall\, TR3 6ET\, United Kingdom
CATEGORIES:AGM,Community,Talk
ATTACH;FMTTYPE=image/jpeg:https://kernowgoth.org/wp-content/uploads/2025/04/KOCS-20th-April-2026-scaled-e1775211713887.jpg
GEO:50.2335053;-5.0705334
X-APPLE-STRUCTURED-LOCATION;VALUE=URI;X-ADDRESS=Kea Community Centre 47 Old Coach Rd Playing Place Truro Cornwall TR3 6ET United Kingdom;X-APPLE-RADIUS=500;X-TITLE=47 Old Coach Rd:geo:-5.0705334,50.2335053
END:VEVENT
BEGIN:VEVENT
DTSTART;TZID=Europe/London:20260420T191500
DTEND;TZID=Europe/London:20260420T210000
DTSTAMP:20260420T013732
CREATED:20251201T202551Z
LAST-MODIFIED:20260324T090547Z
UID:10001195-1776712500-1776718800@kernowgoth.org
SUMMARY:Madron OCS Annual Dinner at The Packet\, Rosudgeon
DESCRIPTION:
URL:https://kernowgoth.org/event/madron-ocs-annual-dinner-at-the-packet-rosudgeon/
LOCATION:Billiard Room\, Landithy Hall\, Church Road\, Madron\, Cornwall\, TR20 8SW\, United Kingdom
CATEGORIES:Celebration,Community
ATTACH;FMTTYPE=image/png:https://kernowgoth.org/wp-content/uploads/2025/08/OCS-New-Logo-e1766097441213.png
GEO:50.1324492;-5.5648907
X-APPLE-STRUCTURED-LOCATION;VALUE=URI;X-ADDRESS=Billiard Room Landithy Hall Church Road Madron Cornwall TR20 8SW United Kingdom;X-APPLE-RADIUS=500;X-TITLE=Church Road:geo:-5.5648907,50.1324492
END:VEVENT
BEGIN:VEVENT
DTSTART;TZID=Europe/London:20260420T193000
DTEND;TZID=Europe/London:20260420T210000
DTSTAMP:20260420T013732
CREATED:20250701T133143Z
LAST-MODIFIED:20260329T155335Z
UID:10000961-1776713400-1776718800@kernowgoth.org
SUMMARY:Talk: Cornish Wrestling by Gerry Cawley + AGM
DESCRIPTION:
URL:https://kernowgoth.org/event/st-columb-agm-followed-by-short-talk/
LOCATION:Bowling Club\, West Street\, St Columb\, Cornwall\, TR9 6RX\, United Kingdom
CATEGORIES:AGM,Talk
ATTACH;FMTTYPE=image/jpeg:https://kernowgoth.org/wp-content/uploads/2026/03/659721853_980917781163845_4305029459676659792_n-e1774799608133.jpg
GEO:50.4341432;-4.9413454
X-APPLE-STRUCTURED-LOCATION;VALUE=URI;X-ADDRESS=Bowling Club West Street St Columb Cornwall TR9 6RX United Kingdom;X-APPLE-RADIUS=500;X-TITLE=West Street:geo:-4.9413454,50.4341432
END:VEVENT
BEGIN:VEVENT
DTSTART;TZID=Europe/London:20260420T193000
DTEND;TZID=Europe/London:20260420T210000
DTSTAMP:20260420T013732
CREATED:20250908T122159Z
LAST-MODIFIED:20260407T153354Z
UID:10001130-1776713400-1776718800@kernowgoth.org
SUMMARY:Talk: Memories of a 20th Century Caradon Miner by Brian Oldham
DESCRIPTION:
URL:https://kernowgoth.org/event/talk-memories-of-a-20th-century-caradon-miner-by-brian-oldham/
LOCATION:Pentewan Village Hall\, 16 Glentowan Road\, Pentewan\, Cornwall\, PL26 6DB\, United Kingdom
CATEGORIES:Talk
ATTACH;FMTTYPE=image/jpeg:https://kernowgoth.org/wp-content/uploads/2026/04/Pentewan-OCS-Meeting-Poster-scaled-e1775576029246.jpg
GEO:50.2927954;-4.7821365
X-APPLE-STRUCTURED-LOCATION;VALUE=URI;X-ADDRESS=Pentewan Village Hall 16 Glentowan Road Pentewan Cornwall PL26 6DB United Kingdom;X-APPLE-RADIUS=500;X-TITLE=16 Glentowan Road:geo:-4.7821365,50.2927954
END:VEVENT
END:VCALENDAR