BEGIN:VCALENDAR
VERSION:2.0
PRODID:-//Kernow Goth - ECPv6.3.4//NONSGML v1.0//EN
CALSCALE:GREGORIAN
METHOD:PUBLISH
X-WR-CALNAME:Kernow Goth
X-ORIGINAL-URL:https://kernowgoth.org
X-WR-CALDESC:Events for Kernow Goth
REFRESH-INTERVAL;VALUE=DURATION:PT1H
X-Robots-Tag:noindex
X-PUBLISHED-TTL:PT1H
BEGIN:VTIMEZONE
TZID:Europe/London
BEGIN:DAYLIGHT
TZOFFSETFROM:+0000
TZOFFSETTO:+0100
TZNAME:BST
DTSTART:20260329T010000
END:DAYLIGHT
BEGIN:STANDARD
TZOFFSETFROM:+0100
TZOFFSETTO:+0000
TZNAME:GMT
DTSTART:20261025T010000
END:STANDARD
END:VTIMEZONE
BEGIN:VEVENT
DTSTART;TZID=Europe/London:20260613T124500
DTEND;TZID=Europe/London:20260808T134500
DTSTAMP:20260420T132311
CREATED:20260414T101308Z
LAST-MODIFIED:20260420T111240Z
UID:10001380-1781354700-1786196700@kernowgoth.org
SUMMARY:Gool Goon Brenn - Walk: Guided Walk of Altarnun led by Peter Allen
DESCRIPTION:Start: 1245hrs @ St Nonna’s Church \nItinerary:- \nChurch history overview including link to Daphne Du Maurier’s Jamaica Inn\, Rev Tripp and his family\,\nPackhorse Bridge\, floods and the old ford\nJohn Wesley and methodism\nNeville Northey Burnard\nImpact of the C19 mining boom\nEarly 19th century politics in the village\nAltarnun’s 20th century decline and rebirth\nAnecdotes about buildings including Church Hall\, Village Hall\, chapels\, the mill demolished in 1960s etc \nThe walk will end up back at the Church gates. \nNumber limited to 12. Booking essential. \nBook your free ticket: https://buytickets.at/federationofoldcornwallsocieties1/2174759
URL:https://kernowgoth.org/event/gool-goon-brenn-walk-guided-walk-of-altarnun-led-by-peter-allen/
LOCATION:St Nonna’s Church\, Altarnun\, Cornwall\, PL15 7SJ\, United Kingdom
CATEGORIES:Walk
ATTACH;FMTTYPE=image/png:https://kernowgoth.org/wp-content/uploads/2026/03/FoW-Logo-2026-e1775902041270.png
GEO:50.606127;-4.512319
END:VEVENT
BEGIN:VEVENT
DTSTART;VALUE=DATE:20260621
DTEND;VALUE=DATE:20260629
DTSTAMP:20260420T132311
CREATED:20260115T154050Z
LAST-MODIFIED:20260115T154050Z
UID:10001247-1782000000-1782691199@kernowgoth.org
SUMMARY:Speak Cornish Week
DESCRIPTION:
URL:https://kernowgoth.org/event/speak-cornish-week/
LOCATION:Cornwall
CATEGORIES:Community
ATTACH;FMTTYPE=image/png:https://kernowgoth.org/wp-content/uploads/2026/01/SCW-26-poster-e1768491620189.png
END:VEVENT
BEGIN:VEVENT
DTSTART;VALUE=DATE:20260623
DTEND;VALUE=DATE:20260624
DTSTAMP:20260420T132311
CREATED:20250630T174231Z
LAST-MODIFIED:20250630T174231Z
UID:10000939-1782172800-1782259199@kernowgoth.org
SUMMARY:Callington Midsummer Bonfire – Tansys Golowan
DESCRIPTION:
URL:https://kernowgoth.org/event/callington-midsummer-bonfire-tansys-golowan/
LOCATION:Kit Hill\, Callington\, Cornwall\, PL17 8AX\, United Kingdom
CATEGORIES:Celebration,Community,Traditions
END:VEVENT
BEGIN:VEVENT
DTSTART;VALUE=DATE:20260623
DTEND;VALUE=DATE:20260624
DTSTAMP:20260420T132311
CREATED:20250827T085022Z
LAST-MODIFIED:20250827T085022Z
UID:10001067-1782172800-1782259199@kernowgoth.org
SUMMARY:Redruth OCS - Midsummer Bonfire
DESCRIPTION:
URL:https://kernowgoth.org/event/redruth-ocs-midsummer-bonfire-2/
LOCATION:Pencoose Farm\, Stithians\, Cornwall\, TR3 7DN\, United Kingdom
CATEGORIES:Community,Traditions
END:VEVENT
BEGIN:VEVENT
DTSTART;TZID=Europe/London:20260623T193000
DTEND;TZID=Europe/London:20260623T210000
DTSTAMP:20260420T132311
CREATED:20260216T190733Z
LAST-MODIFIED:20260216T190733Z
UID:10001284-1782243000-1782248400@kernowgoth.org
SUMMARY:St Just & Pendeen OCS - Midsummer Bonfire
DESCRIPTION:
URL:https://kernowgoth.org/event/st-just-pendeen-ocs-midsummer-bonfire-2/
LOCATION:Age Concern Centre\, 7 Fore Street\, St Just\, Cornwall\, TR19 7LJ\, United Kingdom
CATEGORIES:Community
GEO:50.1234928;-5.6796719
X-APPLE-STRUCTURED-LOCATION;VALUE=URI;X-ADDRESS=Age Concern Centre 7 Fore Street St Just Cornwall TR19 7LJ United Kingdom;X-APPLE-RADIUS=500;X-TITLE=7 Fore Street:geo:-5.6796719,50.1234928
END:VEVENT
BEGIN:VEVENT
DTSTART;TZID=Europe/London:20260623T201500
DTEND;TZID=Europe/London:20260623T213000
DTSTAMP:20260420T132311
CREATED:20260414T082733Z
LAST-MODIFIED:20260414T082733Z
UID:10001368-1782245700-1782250200@kernowgoth.org
SUMMARY:St Ives OCS - Midsummer Bonfire
DESCRIPTION:
URL:https://kernowgoth.org/event/st-ives-ocs-midsummer-bonfire/
LOCATION:Carnstabba Hill\, Halsetown\, St Ives\, Cornwall\, United Kingdom
CATEGORIES:Celebration,Community,Traditions
ATTACH;FMTTYPE=image/jpeg:https://kernowgoth.org/wp-content/uploads/2026/04/poster-2026-1-e1776155247653.jpg
ORGANIZER;CN="St Ives Old Cornwall Society":MAILTO:stivesoldcornwall@gmail.com
GEO:50.197127;-5.494819
X-APPLE-STRUCTURED-LOCATION;VALUE=URI;X-ADDRESS=Carnstabba Hill Halsetown St Ives Cornwall United Kingdom;X-APPLE-RADIUS=500;X-TITLE=Halsetown:geo:-5.494819,50.197127
END:VEVENT
END:VCALENDAR