BEGIN:VCALENDAR
VERSION:2.0
PRODID:-//Kernow Goth - ECPv6.3.4//NONSGML v1.0//EN
CALSCALE:GREGORIAN
METHOD:PUBLISH
X-WR-CALNAME:Kernow Goth
X-ORIGINAL-URL:https://kernowgoth.org
X-WR-CALDESC:Events for Kernow Goth
REFRESH-INTERVAL;VALUE=DURATION:PT1H
X-Robots-Tag:noindex
X-PUBLISHED-TTL:PT1H
BEGIN:VTIMEZONE
TZID:UTC
BEGIN:STANDARD
TZOFFSETFROM:+0000
TZOFFSETTO:+0000
TZNAME:UTC
DTSTART:20240101T000000
END:STANDARD
TZID:Europe/London
BEGIN:DAYLIGHT
TZOFFSETFROM:+0000
TZOFFSETTO:+0100
TZNAME:BST
DTSTART:20240331T010000
END:DAYLIGHT
BEGIN:STANDARD
TZOFFSETFROM:+0100
TZOFFSETTO:+0000
TZNAME:GMT
DTSTART:20241027T010000
END:STANDARD
END:VTIMEZONE
BEGIN:VEVENT
DTSTART;TZID=UTC:20240227T190000
DTEND;TZID=UTC:20240227T200000
DTSTAMP:20260422T094040
CREATED:20231117T181623Z
LAST-MODIFIED:20231117T181623Z
UID:10000283-1709060400-1709064000@kernowgoth.org
SUMMARY:Trewithen Dairy\, by Bill Clarke
DESCRIPTION:
URL:https://kernowgoth.org/event/trewithen-dairy-by-bill-clarke/
LOCATION:TBC
END:VEVENT
BEGIN:VEVENT
DTSTART;TZID=UTC:20240301T193000
DTEND;TZID=UTC:20240301T203000
DTSTAMP:20260422T094040
CREATED:20230806T081212Z
LAST-MODIFIED:20230806T081831Z
UID:10000044-1709321400-1709325000@kernowgoth.org
SUMMARY:Ancient Ships Around West Cornwall - Tony Farrell
DESCRIPTION:Meeting attendance – £1 for members and £2.50 for non-members.
URL:https://kernowgoth.org/event/ancient-ships-around-west-cornwall-tony-farrell/
LOCATION:The Day Care Centre\, Commercial Road\, Hayle\, Cornwall\, TR27 4DE\, United Kingdom
ORGANIZER;CN="Hayle Old Cornwall Society":MAILTO:trevor.smitheram@btopenworld.com
GEO:50.1901385;-5.4152156
X-APPLE-STRUCTURED-LOCATION;VALUE=URI;X-ADDRESS=The Day Care Centre Commercial Road Hayle Cornwall TR27 4DE United Kingdom;X-APPLE-RADIUS=500;X-TITLE=Commercial Road:geo:-5.4152156,50.1901385
END:VEVENT
BEGIN:VEVENT
DTSTART;TZID=UTC:20240302T150000
DTEND;TZID=UTC:20240302T170000
DTSTAMP:20260422T094040
CREATED:20231003T155826Z
LAST-MODIFIED:20231003T155826Z
UID:10000246-1709391600-1709398800@kernowgoth.org
SUMMARY:St Piran's Day Tea\, St Buryan Village Hall\, from 3pm - Derek Hughes et al
DESCRIPTION:From 3pm
URL:https://kernowgoth.org/event/st-pirans-day-tea-st-buryan-village-hall-from-3pm-derek-hughes-et-al/
LOCATION:Cornwall
END:VEVENT
BEGIN:VEVENT
DTSTART;TZID=UTC:20240304T190000
DTEND;TZID=UTC:20240304T203000
DTSTAMP:20260422T094040
CREATED:20230804T130845Z
LAST-MODIFIED:20240215T181709Z
UID:10000005-1709578800-1709584200@kernowgoth.org
SUMMARY:Forgotten and Lost Chapels of the St Ives Area - Val Thomas
DESCRIPTION:Do you know where all the chapels were located and can you recognise the buildings?
URL:https://kernowgoth.org/event/forgotten-and-lost-chapels-of-the-st-ives-area-val-thomas/
LOCATION:Carbis Bay Memorial Hall\, 7 Trencrom Lane\, Carbis Bay\,\, St Ives\, Cornwall\, TR26 2TA\, United Kingdom
CATEGORIES:Talk
ATTACH;FMTTYPE=image/jpeg:https://kernowgoth.org/wp-content/uploads/2023/08/March-2024-Val-Thomas-Chapels.jpg
ORGANIZER;CN="St Ives Old Cornwall Society":MAILTO:stivesoldcornwall@gmail.com
GEO:50.1915991;-5.4619559
X-APPLE-STRUCTURED-LOCATION;VALUE=URI;X-ADDRESS=Carbis Bay Memorial Hall 7 Trencrom Lane Carbis Bay St Ives Cornwall TR26 2TA United Kingdom;X-APPLE-RADIUS=500;X-TITLE=7 Trencrom Lane\, Carbis Bay\,:geo:-5.4619559,50.1915991
END:VEVENT
BEGIN:VEVENT
DTSTART;TZID=UTC:20240304T193000
DTEND;TZID=UTC:20240304T203000
DTSTAMP:20260422T094040
CREATED:20231003T155941Z
LAST-MODIFIED:20231003T155941Z
UID:10000247-1709580600-1709584200@kernowgoth.org
SUMMARY:Continuing the Tradition of Wisefolk in Cornwall - Cassandra Latham-Jones
DESCRIPTION:
URL:https://kernowgoth.org/event/continuing-the-tradition-of-wisefolk-in-cornwall-cassandra-latham-jones/
LOCATION:St Buryan Parish Rooms\, St Buryan\, Cornwall\, United Kingdom
GEO:50.075155;-5.6216989
X-APPLE-STRUCTURED-LOCATION;VALUE=URI;X-ADDRESS=St Buryan Parish Rooms St Buryan Cornwall United Kingdom;X-APPLE-RADIUS=500;X-TITLE=St Buryan:geo:-5.6216989,50.075155
END:VEVENT
BEGIN:VEVENT
DTSTART;TZID=UTC:20240304T193000
DTEND;TZID=UTC:20240304T203000
DTSTAMP:20260422T094040
CREATED:20240102T175301Z
LAST-MODIFIED:20240102T175301Z
UID:10000337-1709580600-1709584200@kernowgoth.org
SUMMARY:Mullion OCS St Piran's Day Annual Dinner and Entertainment
DESCRIPTION:Please contact the Society for further details.
URL:https://kernowgoth.org/event/mullion-ocs-st-pirans-day-annual-dinner-and-entertainment/
LOCATION:Mullion Golf Club\, Mullion\, Cornwall\, TR12 7BP\, United Kingdom
GEO:50.0456018;-5.2496823
X-APPLE-STRUCTURED-LOCATION;VALUE=URI;X-ADDRESS=Mullion Golf Club Mullion Cornwall TR12 7BP United Kingdom;X-APPLE-RADIUS=500;X-TITLE=Mullion:geo:-5.2496823,50.0456018
END:VEVENT
BEGIN:VEVENT
DTSTART;VALUE=DATE:20240305
DTEND;VALUE=DATE:20240306
DTSTAMP:20260422T094040
CREATED:20230928T013936Z
LAST-MODIFIED:20230928T013936Z
UID:10000229-1709596800-1709683199@kernowgoth.org
SUMMARY:St Piran’s Day Celebration - TTBC
DESCRIPTION:
URL:https://kernowgoth.org/event/st-pirans-day-celebration-ttbc/
LOCATION:Cornwall
END:VEVENT
BEGIN:VEVENT
DTSTART;TZID=UTC:20240305T090000
DTEND;TZID=UTC:20240305T120000
DTSTAMP:20260422T094040
CREATED:20231210T105852Z
LAST-MODIFIED:20231210T105852Z
UID:10000327-1709629200-1709640000@kernowgoth.org
SUMMARY:St.Piran's Day Celebration
DESCRIPTION:St Piran’s Day Celebration on Gorran Haven Beach\, followed by coffee morning in Gorran Haven Institute\, PL26 6JP
URL:https://kernowgoth.org/event/st-pirans-day-celebration/
LOCATION:Gorran Haven Beach
END:VEVENT
BEGIN:VEVENT
DTSTART;TZID=UTC:20240305T140000
DTEND;TZID=UTC:20240305T150000
DTSTAMP:20260422T094040
CREATED:20230814T153307Z
LAST-MODIFIED:20240205T101658Z
UID:10000099-1709647200-1709650800@kernowgoth.org
SUMMARY:St Piran’s Day Service
DESCRIPTION:Details to be advised.
URL:https://kernowgoth.org/event/st-pirans-day-service/
LOCATION:Church of St Morwenna and St John the Baptist\, Morwenstow\, Cornwall\, United Kingdom
CATEGORIES:Celebration
ORGANIZER;CN="Bude-Stratton and District Old Cornwall Society":MAILTO:budestrattonocs@gmail.com
GEO:50.909385;-4.5538779
X-APPLE-STRUCTURED-LOCATION;VALUE=URI;X-ADDRESS=Church of St Morwenna and St John the Baptist Morwenstow Cornwall United Kingdom;X-APPLE-RADIUS=500;X-TITLE=Morwenstow:geo:-4.5538779,50.909385
END:VEVENT
BEGIN:VEVENT
DTSTART;TZID=UTC:20240305T190000
DTEND;TZID=UTC:20240305T200000
DTSTAMP:20260422T094040
CREATED:20231122T103727Z
LAST-MODIFIED:20240219T201638Z
UID:10000291-1709665200-1709668800@kernowgoth.org
SUMMARY:Rock in Bygone Days\, by Stuart Robertson.
DESCRIPTION:
URL:https://kernowgoth.org/event/rock-in-bygone-days-by-stuart-robertson/
LOCATION:Wadebridge Town Hall\, The Platt\, Wadebridge\, Cornwall\, PL27 7AQ\, United Kingdom
CATEGORIES:Talk
ATTACH;FMTTYPE=image/jpeg:https://kernowgoth.org/wp-content/uploads/2023/11/418150447_370885455748248_1435167542426145930_n.jpeg
GEO:50.5158919;-4.8361185
X-APPLE-STRUCTURED-LOCATION;VALUE=URI;X-ADDRESS=Wadebridge Town Hall The Platt Wadebridge Cornwall PL27 7AQ United Kingdom;X-APPLE-RADIUS=500;X-TITLE=The Platt:geo:-4.8361185,50.5158919
END:VEVENT
BEGIN:VEVENT
DTSTART;TZID=UTC:20240305T191500
DTEND;TZID=UTC:20240305T203000
DTSTAMP:20260422T094040
CREATED:20230818T143157Z
LAST-MODIFIED:20230818T143157Z
UID:10000149-1709666100-1709670600@kernowgoth.org
SUMMARY:'Walk in the Footsteps of daphne Du Maurier' by Ms Sue Kittow
DESCRIPTION:
URL:https://kernowgoth.org/event/walk-in-the-footsteps-of-daphne-du-maurier-by-ms-sue-kittow/
LOCATION:Carnon Downs Village Hall\, Tregye Road\, Carnon Downs\, Cornwall\, TR3 6GH\, United Kingdom
GEO:50.22243;-5.0846859
X-APPLE-STRUCTURED-LOCATION;VALUE=URI;X-ADDRESS=Carnon Downs Village Hall Tregye Road Carnon Downs Cornwall TR3 6GH United Kingdom;X-APPLE-RADIUS=500;X-TITLE=Tregye Road:geo:-5.0846859,50.22243
END:VEVENT
BEGIN:VEVENT
DTSTART;TZID=Europe/London:20240305T193000
DTEND;TZID=Europe/London:20240305T211500
DTSTAMP:20260422T094040
CREATED:20240125T135947Z
LAST-MODIFIED:20240125T135947Z
UID:10000345-1709667000-1709673300@kernowgoth.org
SUMMARY:St Piran's Day Singalong
DESCRIPTION:
URL:https://kernowgoth.org/event/st-pirans-day-singalong/
LOCATION:The Commercial Inn\, Trelavour Square\, St Dennis\, Cornwall\, PL26 8AX\, United Kingdom
CATEGORIES:Music
ATTACH;FMTTYPE=image/png:https://kernowgoth.org/wp-content/uploads/2024/01/St-Pirans-Day-in-St-Dennis1.png
ORGANIZER;CN="St Denys and District Old Cornwall Society":MAILTO:stdenys.ocs@gmail.com
GEO:50.3855614;-4.8824702
X-APPLE-STRUCTURED-LOCATION;VALUE=URI;X-ADDRESS=The Commercial Inn Trelavour Square St Dennis Cornwall PL26 8AX United Kingdom;X-APPLE-RADIUS=500;X-TITLE=Trelavour Square:geo:-4.8824702,50.3855614
END:VEVENT
BEGIN:VEVENT
DTSTART;TZID=UTC:20240306T190000
DTEND;TZID=UTC:20240306T200000
DTSTAMP:20260422T094040
CREATED:20230928T020425Z
LAST-MODIFIED:20230928T020425Z
UID:10000238-1709751600-1709755200@kernowgoth.org
SUMMARY:'The history of Cornish migration': an illustrated talk by Roy Blewett
DESCRIPTION:
URL:https://kernowgoth.org/event/the-history-of-cornish-migration-an-illustrated-talk-by-roy-blewett/
LOCATION:Hens Horn Court\, Cunnack Close\, Helston\, Cornwall\, TR13 8YE\, United Kingdom
GEO:50.1068565;-5.2698346
X-APPLE-STRUCTURED-LOCATION;VALUE=URI;X-ADDRESS=Hens Horn Court Cunnack Close Helston Cornwall TR13 8YE United Kingdom;X-APPLE-RADIUS=500;X-TITLE=Cunnack Close:geo:-5.2698346,50.1068565
END:VEVENT
BEGIN:VEVENT
DTSTART;TZID=UTC:20240306T193000
DTEND;TZID=UTC:20240306T203000
DTSTAMP:20260422T094040
CREATED:20230814T162447Z
LAST-MODIFIED:20230814T162447Z
UID:10000107-1709753400-1709757000@kernowgoth.org
SUMMARY:'A History of Rodda’s Cream' - Philip Rodda
DESCRIPTION:
URL:https://kernowgoth.org/event/a-history-of-roddas-cream-philip-rodda/
LOCATION:Padstow Social Club\, The Lawns\, Senders Hill\, Padstow\, Cornwall\, PL28 8DT\, United Kingdom
GEO:50.3678287;-4.8675323
X-APPLE-STRUCTURED-LOCATION;VALUE=URI;X-ADDRESS=Padstow Social Club The Lawns Senders Hill Padstow Cornwall PL28 8DT United Kingdom;X-APPLE-RADIUS=500;X-TITLE=The Lawns\, Senders Hill:geo:-4.8675323,50.3678287
END:VEVENT
BEGIN:VEVENT
DTSTART;TZID=UTC:20240306T193000
DTEND;TZID=UTC:20240306T203000
DTSTAMP:20260422T094040
CREATED:20231018T113317Z
LAST-MODIFIED:20231018T113317Z
UID:10000263-1709753400-1709757000@kernowgoth.org
SUMMARY:Evening visit to Merchant House\, Launceston Square\, with guide David Scott
DESCRIPTION:With talk and slides.
URL:https://kernowgoth.org/event/evening-visit-to-merchant-house-launceston-square-with-guide-david-scott/
LOCATION:Merchant’s House\, 13 High Street\, Launceston\, Cornwall\, PL15 8ER\, United Kingdom
ORGANIZER;CN="Launceston Old Cornwall Society":MAILTO:kaymunn024@btinternet.com
GEO:50.636979;-4.360617
X-APPLE-STRUCTURED-LOCATION;VALUE=URI;X-ADDRESS=Merchant’s House 13 High Street Launceston Cornwall PL15 8ER United Kingdom;X-APPLE-RADIUS=500;X-TITLE=13 High Street:geo:-4.360617,50.636979
END:VEVENT
BEGIN:VEVENT
DTSTART;TZID=UTC:20240308T143000
DTEND;TZID=UTC:20240308T153000
DTSTAMP:20260422T094040
CREATED:20230806T073856Z
LAST-MODIFIED:20230806T074131Z
UID:10000036-1709908200-1709911800@kernowgoth.org
SUMMARY:‘The Pentewan Railway & Tea Treats’ - Robert Evans
DESCRIPTION:
URL:https://kernowgoth.org/event/the-pentewan-railway-tea-treats-robert-evans/
LOCATION:Emily Hobhouse Room\, The Public Hall\, West Street\, Liskeard\, Cornwall\, PL14 6BW\, United Kingdom
ORGANIZER;CN="Liskeard Old Cornwall Society":MAILTO:contactbrian@btinternet.com
GEO:50.4556965;-4.4661465
X-APPLE-STRUCTURED-LOCATION;VALUE=URI;X-ADDRESS=Emily Hobhouse Room The Public Hall West Street Liskeard Cornwall PL14 6BW United Kingdom;X-APPLE-RADIUS=500;X-TITLE=The Public Hall\, West Street:geo:-4.4661465,50.4556965
END:VEVENT
BEGIN:VEVENT
DTSTART;TZID=UTC:20240309T080000
DTEND;TZID=UTC:20240309T170000
DTSTAMP:20260422T094040
CREATED:20230804T134022Z
LAST-MODIFIED:20230805T141345Z
UID:10000021-1709971200-1710003600@kernowgoth.org
SUMMARY:Recorders' Day
DESCRIPTION:
URL:https://kernowgoth.org/event/recorders-day/
LOCATION:Kresen Kernow\, Little Vauxhall\, Redruth\, Cornwall\, TR15 1AS\, United Kingdom
GEO:50.2356754;-5.2346493
X-APPLE-STRUCTURED-LOCATION;VALUE=URI;X-ADDRESS=Kresen Kernow Little Vauxhall Redruth Cornwall TR15 1AS United Kingdom;X-APPLE-RADIUS=500;X-TITLE=Little Vauxhall:geo:-5.2346493,50.2356754
END:VEVENT
BEGIN:VEVENT
DTSTART;TZID=UTC:20240309T143000
DTEND;TZID=UTC:20240309T153000
DTSTAMP:20260422T094040
CREATED:20230806T120143Z
LAST-MODIFIED:20230806T120618Z
UID:10000058-1709994600-1709998200@kernowgoth.org
SUMMARY:AGM followed by 'Researching my Family History' - Armand Toms
DESCRIPTION:
URL:https://kernowgoth.org/event/agm-followed-by-researching-my-family-history-armand-toms/
LOCATION:St Martin’s Hall\, St Martin's Road\, Looe\, Cornwall\, PL13 1FA\, United Kingdom
GEO:50.3671271;-4.4528033
X-APPLE-STRUCTURED-LOCATION;VALUE=URI;X-ADDRESS=St Martin’s Hall St Martin's Road Looe Cornwall PL13 1FA United Kingdom;X-APPLE-RADIUS=500;X-TITLE=St Martin's Road:geo:-4.4528033,50.3671271
END:VEVENT
BEGIN:VEVENT
DTSTART;TZID=UTC:20240311T140000
DTEND;TZID=UTC:20240311T150000
DTSTAMP:20260422T094040
CREATED:20230812T181332Z
LAST-MODIFIED:20230812T181332Z
UID:10000091-1710165600-1710169200@kernowgoth.org
SUMMARY:50th Anniversary (TBC)
DESCRIPTION:
URL:https://kernowgoth.org/event/50th-anniversary-tbc/
LOCATION:Kea Community Centre\, 47 Old Coach Rd\, Playing Place\, Truro\, Cornwall\, TR3 6ET\, United Kingdom
GEO:50.2335053;-5.0705334
X-APPLE-STRUCTURED-LOCATION;VALUE=URI;X-ADDRESS=Kea Community Centre 47 Old Coach Rd Playing Place Truro Cornwall TR3 6ET United Kingdom;X-APPLE-RADIUS=500;X-TITLE=47 Old Coach Rd:geo:-5.0705334,50.2335053
END:VEVENT
BEGIN:VEVENT
DTSTART;TZID=UTC:20240311T191500
DTEND;TZID=UTC:20240311T203000
DTSTAMP:20260422T094040
CREATED:20230812T172441Z
LAST-MODIFIED:20230812T172441Z
UID:10000081-1710184500-1710189000@kernowgoth.org
SUMMARY:'History of Blackwater and the Skinners Bottom Murder' - Clive Benney
DESCRIPTION:
URL:https://kernowgoth.org/event/history-of-blackwater-and-the-skinners-bottom-murder-clive-benney/
LOCATION:Probus Village Hall\, Amelia Close\, Probus\, Truro\, Cornwall\, TR2 4NB\, United Kingdom
GEO:50.2923902;-4.9537417
X-APPLE-STRUCTURED-LOCATION;VALUE=URI;X-ADDRESS=Probus Village Hall Amelia Close Probus Truro Cornwall TR2 4NB United Kingdom;X-APPLE-RADIUS=500;X-TITLE=Amelia Close:geo:-4.9537417,50.2923902
END:VEVENT
BEGIN:VEVENT
DTSTART;TZID=UTC:20240311T193000
DTEND;TZID=UTC:20240311T203000
DTSTAMP:20260422T094040
CREATED:20231018T112421Z
LAST-MODIFIED:20231018T112421Z
UID:10000258-1710185400-1710189000@kernowgoth.org
SUMMARY:Rick Rescorla\, by Trevor Smitheram
DESCRIPTION:
URL:https://kernowgoth.org/event/rick-rescorla-by-trevor-smitheram/
LOCATION:White River Community Church\, West Hill\, St Austell\, Cornwall\, PL25 5ET\, United Kingdom
ORGANIZER;CN="St Austell Old Cornwall Society":MAILTO:staustelloldcornwall@outlook.com
GEO:50.3378388;-4.7968317
X-APPLE-STRUCTURED-LOCATION;VALUE=URI;X-ADDRESS=White River Community Church West Hill St Austell Cornwall PL25 5ET United Kingdom;X-APPLE-RADIUS=500;X-TITLE=West Hill:geo:-4.7968317,50.3378388
END:VEVENT
BEGIN:VEVENT
DTSTART;TZID=Europe/London:20240312T080000
DTEND;TZID=Europe/London:20240312T170000
DTSTAMP:20260422T094040
CREATED:20240312T183328Z
LAST-MODIFIED:20240312T183328Z
UID:10000363-1710230400-1710262800@kernowgoth.org
SUMMARY:Christmas session
DESCRIPTION:Christmas tunes\, story and song
URL:https://kernowgoth.org/event/christmas-session/
LOCATION:Mullion Village Hall\, Nansmellyon Road\, Mullion\, Cornwall\, TR12 7DQ\, United Kingdom
CATEGORIES:Celebration,Community,Music
GEO:50.0251919;-5.2445247
X-APPLE-STRUCTURED-LOCATION;VALUE=URI;X-ADDRESS=Mullion Village Hall Nansmellyon Road Mullion Cornwall TR12 7DQ United Kingdom;X-APPLE-RADIUS=500;X-TITLE=Nansmellyon Road:geo:-5.2445247,50.0251919
END:VEVENT
BEGIN:VEVENT
DTSTART;TZID=UTC:20240312T193000
DTEND;TZID=UTC:20240312T203000
DTSTAMP:20260422T094040
CREATED:20230807T165440Z
LAST-MODIFIED:20230807T165812Z
UID:10000073-1710271800-1710275400@kernowgoth.org
SUMMARY:'Part of the Fabric: One Family's Contribution to Newquay's History' - Marilyn Thompson
DESCRIPTION:
URL:https://kernowgoth.org/event/part-of-the-fabric-one-familys-contribution-to-newquays-history-marilyn-thompson/
LOCATION:WI Hall\, Crantock Street\, Newquay\, Cornwall\, TR7 1LB\, United Kingdom
ORGANIZER;CN="Newquay Old Cornwall Society":MAILTO:nocs.archive@gmail.com
GEO:50.4132209;-5.0894324
X-APPLE-STRUCTURED-LOCATION;VALUE=URI;X-ADDRESS=WI Hall Crantock Street Newquay Cornwall TR7 1LB United Kingdom;X-APPLE-RADIUS=500;X-TITLE=Crantock Street:geo:-5.0894324,50.4132209
END:VEVENT
BEGIN:VEVENT
DTSTART;TZID=Europe/London:20240312T193000
DTEND;TZID=Europe/London:20240312T203000
DTSTAMP:20260422T094040
CREATED:20230821T190010Z
LAST-MODIFIED:20230821T190010Z
UID:10000170-1710271800-1710275400@kernowgoth.org
SUMMARY:'Cornwall’s Historic Landscape'\, by Peter Herring
DESCRIPTION:Peter Herring is Cornwall’s leading landscape archaeologist.
URL:https://kernowgoth.org/event/cornwalls-historic-landscape-by-peter-herring/
LOCATION:St George’s Church Hall\, St George's Road\, Truro\, Cornwall\, TR1 3JE\, United Kingdom
GEO:50.2647472;-5.0597734
X-APPLE-STRUCTURED-LOCATION;VALUE=URI;X-ADDRESS=St George’s Church Hall St George's Road Truro Cornwall TR1 3JE United Kingdom;X-APPLE-RADIUS=500;X-TITLE=St George's Road:geo:-5.0597734,50.2647472
END:VEVENT
BEGIN:VEVENT
DTSTART;TZID=UTC:20240312T193000
DTEND;TZID=UTC:20240312T203000
DTSTAMP:20260422T094040
CREATED:20230928T011024Z
LAST-MODIFIED:20230928T011024Z
UID:10000219-1710271800-1710275400@kernowgoth.org
SUMMARY:Geoff Treseder on 'Cornish Tin Working through the Ages'
DESCRIPTION:
URL:https://kernowgoth.org/event/geoff-treseder-on-cornish-tin-working-through-the-ages/
LOCATION:Age Concern Centre\, 7 Fore Street\, St Just\, Cornwall\, TR19 7LJ\, United Kingdom
GEO:50.1234928;-5.6796719
X-APPLE-STRUCTURED-LOCATION;VALUE=URI;X-ADDRESS=Age Concern Centre 7 Fore Street St Just Cornwall TR19 7LJ United Kingdom;X-APPLE-RADIUS=500;X-TITLE=7 Fore Street:geo:-5.6796719,50.1234928
END:VEVENT
BEGIN:VEVENT
DTSTART;TZID=UTC:20240313T143000
DTEND;TZID=UTC:20240313T153000
DTSTAMP:20260422T094040
CREATED:20230909T132527Z
LAST-MODIFIED:20230909T132527Z
UID:10000205-1710340200-1710343800@kernowgoth.org
SUMMARY:'History of Boat Building Mevagissey'\, by Gary Mitchell
DESCRIPTION:
URL:https://kernowgoth.org/event/history-of-boat-building-mevagissey-by-gary-mitchell/
LOCATION:The Shire House Suite\, Priory Park\, Bodmin\, Cornwall\, PL31 2DQ\, United Kingdom
ORGANIZER;CN="Bodmin Old Cornwall Society":MAILTO:honiley47@aol.com
GEO:50.4699535;-4.7172892
X-APPLE-STRUCTURED-LOCATION;VALUE=URI;X-ADDRESS=The Shire House Suite Priory Park Bodmin Cornwall PL31 2DQ United Kingdom;X-APPLE-RADIUS=500;X-TITLE=Priory Park:geo:-4.7172892,50.4699535
END:VEVENT
BEGIN:VEVENT
DTSTART;TZID=UTC:20240313T193000
DTEND;TZID=UTC:20240313T203000
DTSTAMP:20260422T094040
CREATED:20230928T014053Z
LAST-MODIFIED:20230928T014053Z
UID:10000230-1710358200-1710361800@kernowgoth.org
SUMMARY:‘The Rick Rescorla Story’\, Trevor Smitheram
DESCRIPTION:
URL:https://kernowgoth.org/event/the-rick-rescorla-story-trevor-smitheram/
LOCATION:Gerrans Parish Memorial Hall\, Gerrans Hill\, Portscatho\, Cornwall\, TR2 5EE\, United Kingdom
GEO:50.1778742;-4.9784659
X-APPLE-STRUCTURED-LOCATION;VALUE=URI;X-ADDRESS=Gerrans Parish Memorial Hall Gerrans Hill Portscatho Cornwall TR2 5EE United Kingdom;X-APPLE-RADIUS=500;X-TITLE=Gerrans Hill:geo:-4.9784659,50.1778742
END:VEVENT
BEGIN:VEVENT
DTSTART;TZID=UTC:20240313T193000
DTEND;TZID=UTC:20240313T203000
DTSTAMP:20260422T094040
CREATED:20231208T152818Z
LAST-MODIFIED:20240307T190845Z
UID:10000316-1710358200-1710361800@kernowgoth.org
SUMMARY:'Illuminating our Cornish Lantern Crosses'\, by Andrew Langdon
DESCRIPTION:
URL:https://kernowgoth.org/event/illuminating-our-cornish-lantern-crosses-by-andrew-langdon/
LOCATION:The Memorial Hall\, Wheal Leisure Close\, Perranporth\, Cornwall\, TR6 0EY\, United Kingdom
CATEGORIES:Talk
ATTACH;FMTTYPE=image/jpeg:https://kernowgoth.org/wp-content/uploads/2023/12/Perranzabuloe-OCS-Langdon.jpeg
GEO:50.3443982;-5.1533282
X-APPLE-STRUCTURED-LOCATION;VALUE=URI;X-ADDRESS=The Memorial Hall Wheal Leisure Close Perranporth Cornwall TR6 0EY United Kingdom;X-APPLE-RADIUS=500;X-TITLE=Wheal Leisure Close:geo:-5.1533282,50.3443982
END:VEVENT
BEGIN:VEVENT
DTSTART;TZID=UTC:20240315T193000
DTEND;TZID=UTC:20240315T203000
DTSTAMP:20260422T094040
CREATED:20230817T144215Z
LAST-MODIFIED:20230817T144215Z
UID:10000138-1710531000-1710534600@kernowgoth.org
SUMMARY:'CASPYN - Caring for archaeology in West Penwith' - James Kitto
DESCRIPTION:
URL:https://kernowgoth.org/event/caspyn-caring-for-archaeology-in-west-penwith-james-kitto/
LOCATION:The Wesley Rooms\, Wesley Street\, Redruth\, Cornwall\, TR15 2EG\, United Kingdom
GEO:50.2340757;-5.2233432
X-APPLE-STRUCTURED-LOCATION;VALUE=URI;X-ADDRESS=The Wesley Rooms Wesley Street Redruth Cornwall TR15 2EG United Kingdom;X-APPLE-RADIUS=500;X-TITLE=Wesley Street:geo:-5.2233432,50.2340757
END:VEVENT
BEGIN:VEVENT
DTSTART;TZID=UTC:20240316T143000
DTEND;TZID=UTC:20240316T160000
DTSTAMP:20260422T094040
CREATED:20231127T154109Z
LAST-MODIFIED:20231127T154513Z
UID:10000303-1710599400-1710604800@kernowgoth.org
SUMMARY:FOCS/ICS Cornish Study Day: Knitting the Gansey
DESCRIPTION:Emily Cunningham will talk about the history of knitting in Cornwall. This will include the practical everyday side of knitting (e.g.\, types of garments made\, how they are constructed). The latter half of the session will teach some basic stitches and invite attendees to produce a small square of knitting that can be used collaboratively to produce a Rescorla heritage blanket. \nEmily Cunningham is a MPhil/PhD student at the University of Exeter’s Institute of Cornish Studies with a BA in History and English. She is currently researching Everyday Cornish relationships to the landscape in the 19th century. Emily’s workshop will draw on her personal passion for historical homemaking and textiles. \nFind out more about the Cornish Study Days here. \nThe cost of each session is £6. For further details and to register for the course at Rescorla please email G.H.Tregidga@exeter.ac.uk
URL:https://kernowgoth.org/event/knitting-the-gansey/
LOCATION:The Rescorla Centre\, Rescorla\, St Austell\, Cornwall\, PL26 8YT\, United Kingdom
GEO:50.384577;-4.771866
X-APPLE-STRUCTURED-LOCATION;VALUE=URI;X-ADDRESS=The Rescorla Centre Rescorla St Austell Cornwall PL26 8YT United Kingdom;X-APPLE-RADIUS=500;X-TITLE=Rescorla:geo:-4.771866,50.384577
END:VEVENT
END:VCALENDAR