BEGIN:VCALENDAR
VERSION:2.0
PRODID:-//Kernow Goth - ECPv6.3.4//NONSGML v1.0//EN
CALSCALE:GREGORIAN
METHOD:PUBLISH
X-WR-CALNAME:Kernow Goth
X-ORIGINAL-URL:https://kernowgoth.org
X-WR-CALDESC:Events for Kernow Goth
REFRESH-INTERVAL;VALUE=DURATION:PT1H
X-Robots-Tag:noindex
X-PUBLISHED-TTL:PT1H
BEGIN:VTIMEZONE
TZID:Europe/London
BEGIN:DAYLIGHT
TZOFFSETFROM:+0000
TZOFFSETTO:+0100
TZNAME:BST
DTSTART:20260329T010000
END:DAYLIGHT
BEGIN:STANDARD
TZOFFSETFROM:+0100
TZOFFSETTO:+0000
TZNAME:GMT
DTSTART:20261025T010000
END:STANDARD
END:VTIMEZONE
BEGIN:VEVENT
DTSTART;TZID=Europe/London:20260423T110000
DTEND;TZID=Europe/London:20260423T153000
DTSTAMP:20260423T103651
CREATED:20260118T142928Z
LAST-MODIFIED:20260127T165305Z
UID:10001252-1776942000-1776958200@kernowgoth.org
SUMMARY:Saints & Socials – St Just in Penwith Church & Plain an Gwarry – led by Laura Miucci
DESCRIPTION:From February to April\, our Archaeology Officer\, Laura Miucci\, will lead a series of church visits in Cornwall. This follows on from her recent talks on Medieval wall paintings. These visits will be a chance to view and explore these features\, and get together and socialise. The visits are in association with “Lore & Piece”. \nThe schedule for this visit is:- \n1100hrs to 1300hrs: St Just in Penwith Church \n1300hrs to 1400hrs: Lunch \n1400hrs to 1530hrs: Knut – History of Plain-an-Gwarry \nBooking is essential: Details of how to book will be released later.
URL:https://kernowgoth.org/event/saints-socials-st-just-in-penwith-church-plain-an-gwarry-led-by-laura-miucci/
LOCATION:St Just in Penwith Church\, Church Street\, St Just\, Cornwall\, TR19 7HA\, United Kingdom
CATEGORIES:Talk,Visit
ATTACH;FMTTYPE=image/png:https://kernowgoth.org/wp-content/uploads/2026/01/Saints-and-Socials-WEST-PENWITH-e1769532771128.png
GEO:50.1245072;-5.6790498
X-APPLE-STRUCTURED-LOCATION;VALUE=URI;X-ADDRESS=St Just in Penwith Church Church Street St Just Cornwall TR19 7HA United Kingdom;X-APPLE-RADIUS=500;X-TITLE=Church Street:geo:-5.6790498,50.1245072
END:VEVENT
BEGIN:VEVENT
DTSTART;TZID=Europe/London:20260423T190000
DTEND;TZID=Europe/London:20260423T203000
DTSTAMP:20260423T103651
CREATED:20260414T120425Z
LAST-MODIFIED:20260414T122259Z
UID:10001381-1776970800-1776976200@kernowgoth.org
SUMMARY:AGM followed by Film (Travelling through Methodist Heritage in Cornwall"
DESCRIPTION:
URL:https://kernowgoth.org/event/agm-followed-by-film-travelling-through-methodist-heritage-in-cornwall/
LOCATION:Luxulyan Memorial Institute\, Luxulyan\, Bodmin\, Cornwall\, PL30 5EB\, United Kingdom
CATEGORIES:AGM,Film
ATTACH;FMTTYPE=image/jpeg:https://kernowgoth.org/wp-content/uploads/2026/04/Poster-23-April-2026.jpg
GEO:50.3895655;-4.7438809
X-APPLE-STRUCTURED-LOCATION;VALUE=URI;X-ADDRESS=Luxulyan Memorial Institute Luxulyan Bodmin Cornwall PL30 5EB United Kingdom;X-APPLE-RADIUS=500;X-TITLE=Luxulyan:geo:-4.7438809,50.3895655
END:VEVENT
BEGIN:VEVENT
DTSTART;TZID=Europe/London:20260423T193000
DTEND;TZID=Europe/London:20260423T210000
DTSTAMP:20260423T103651
CREATED:20251201T160818Z
LAST-MODIFIED:20260409T194047Z
UID:10001191-1776972600-1776978000@kernowgoth.org
SUMMARY:Talk: The Pentewan Railway and the Tea Treat Train by Rob Evans
DESCRIPTION:
URL:https://kernowgoth.org/event/talk-the-pentewan-railway-and-the-tea-treat-train-by-rob-evans/
LOCATION:Charlestown Village Hall\, Cornwall\, United Kingdom
CATEGORIES:Talk
ATTACH;FMTTYPE=image/jpeg:https://kernowgoth.org/wp-content/uploads/2025/12/1000042946-e1775763641381.jpg
ORGANIZER;CN="Charlestown Old Cornwall Society":MAILTO:alyndon03@gmail.com
GEO:50.5036299;-4.6524982
END:VEVENT
BEGIN:VEVENT
DTSTART;TZID=Europe/London:20260424T193000
DTEND;TZID=Europe/London:20260424T210000
DTSTAMP:20260423T103651
CREATED:20250826T113123Z
LAST-MODIFIED:20250826T113123Z
UID:10001047-1777059000-1777064400@kernowgoth.org
SUMMARY:Talk: Cornish Spring & Summer Traditions by Kathy Wallis
DESCRIPTION:
URL:https://kernowgoth.org/event/talk-cornish-spring-summer-traditions-by-kathy-wallis/
LOCATION:Goonhavern Village Hall\, Goonhavern\, Truro\, Cornwall\, TR4 9NW\, United Kingdom
CATEGORIES:Talk
ATTACH;FMTTYPE=image/jpeg:https://kernowgoth.org/wp-content/uploads/2025/08/Goonhavern-Apr-2026-scaled-e1756207869580.jpg
GEO:50.3383624;-5.109068
X-APPLE-STRUCTURED-LOCATION;VALUE=URI;X-ADDRESS=Goonhavern Village Hall Goonhavern Truro Cornwall TR4 9NW United Kingdom;X-APPLE-RADIUS=500;X-TITLE=Goonhavern:geo:-5.109068,50.3383624
END:VEVENT
BEGIN:VEVENT
DTSTART;VALUE=DATE:20260425
DTEND;VALUE=DATE:20260426
DTSTAMP:20260423T103651
CREATED:20260316T195804Z
LAST-MODIFIED:20260419T133151Z
UID:10001315-1777075200-1777161599@kernowgoth.org
SUMMARY:Visit: Morrab Library - Behind the Scenes
DESCRIPTION:
URL:https://kernowgoth.org/event/visit-morrab-library-behind-the-scenes/
LOCATION:Penzance Cemetery\, Penzance\, Cornwall\, United Kingdom
CATEGORIES:Visit
ATTACH;FMTTYPE=image/png:https://kernowgoth.org/wp-content/uploads/2025/08/OCS-New-Logo-e1766097441213.png
ORGANIZER;CN="Penzance OCS":MAILTO:penzanceoldcornwallsociety@gmail.com
GEO:50.1182939;-5.5407951
END:VEVENT
BEGIN:VEVENT
DTSTART;TZID=Europe/London:20260425T143000
DTEND;TZID=Europe/London:20260425T160000
DTSTAMP:20260423T103651
CREATED:20260301T223249Z
LAST-MODIFIED:20260406T082830Z
UID:10001311-1777127400-1777132800@kernowgoth.org
SUMMARY:Sue Kittow – In the footsteps of Daphne Du Maurier
DESCRIPTION:
URL:https://kernowgoth.org/event/sue-kittow-in-the-footsteps-of-daphne-du-maurier/
LOCATION:The Gott Hall\, Par Green\, Par\, Cornwall\, PL24 2AF\, United Kingdom
ATTACH;FMTTYPE=image/jpeg:https://kernowgoth.org/wp-content/uploads/2026/04/20260406_091431-rotated-e1775464105389.jpg
GEO:50.3506775;-4.7051683
X-APPLE-STRUCTURED-LOCATION;VALUE=URI;X-ADDRESS=The Gott Hall Par Green Par Cornwall PL24 2AF United Kingdom;X-APPLE-RADIUS=500;X-TITLE=Par Green:geo:-4.7051683,50.3506775
END:VEVENT
BEGIN:VEVENT
DTSTART;TZID=Europe/London:20260427T190000
DTEND;TZID=Europe/London:20260427T210000
DTSTAMP:20260423T103651
CREATED:20250403T174212Z
LAST-MODIFIED:20260403T085423Z
UID:10000825-1777316400-1777323600@kernowgoth.org
SUMMARY:Talk: The Changing Face of Saltash by Bruce Hunt
DESCRIPTION:
URL:https://kernowgoth.org/event/talk-the-changing-face-of-saltash-by-bruce-hunt/
LOCATION:St Nicholas & St Faith Church Rooms\, Station Road\, Saltash\, Cornwall\, PL12 6JX\, United Kingdom
CATEGORIES:Talk
ATTACH;FMTTYPE=image/jpeg:https://kernowgoth.org/wp-content/uploads/2026/04/Saltash-April-26-scaled-e1775206457378.jpg
ORGANIZER;CN="Saltash Old Cornwall Society":MAILTO:suehcf@msn.com
GEO:50.408008;-4.2096387
X-APPLE-STRUCTURED-LOCATION;VALUE=URI;X-ADDRESS=St Nicholas & St Faith Church Rooms Station Road Saltash Cornwall PL12 6JX United Kingdom;X-APPLE-RADIUS=500;X-TITLE=Station Road:geo:-4.2096387,50.408008
END:VEVENT
BEGIN:VEVENT
DTSTART;TZID=Europe/London:20260427T190000
DTEND;TZID=Europe/London:20260427T210000
DTSTAMP:20260423T103651
CREATED:20250806T201227Z
LAST-MODIFIED:20260326T175637Z
UID:10000999-1777316400-1777323600@kernowgoth.org
SUMMARY:Talk: Bude Harbour by Mike Vanstone
DESCRIPTION:
URL:https://kernowgoth.org/event/talk-bude-harbour-by-mike-vanstone/
LOCATION:The Parkhouse Centre\, Ergue-Gaberic Way\, Bude\, Cornwall\, EX23 8LD\, United Kingdom
CATEGORIES:Talk
ATTACH;FMTTYPE=image/jpeg:https://kernowgoth.org/wp-content/uploads/2026/03/Bude-OCS-27-Apr-2026-scaled-e1774547788174.jpg
ORGANIZER;CN="Bude-Stratton and District Old Cornwall Society":MAILTO:budestrattonocs@gmail.com
GEO:50.8278882;-4.5463773
X-APPLE-STRUCTURED-LOCATION;VALUE=URI;X-ADDRESS=The Parkhouse Centre Ergue-Gaberic Way Bude Cornwall EX23 8LD United Kingdom;X-APPLE-RADIUS=500;X-TITLE=Ergue-Gaberic Way:geo:-4.5463773,50.8278882
END:VEVENT
BEGIN:VEVENT
DTSTART;TZID=Europe/London:20260428T143000
DTEND;TZID=Europe/London:20260428T170000
DTSTAMP:20260423T103651
CREATED:20251028T163905Z
LAST-MODIFIED:20260408T124828Z
UID:10001150-1777386600-1777395600@kernowgoth.org
SUMMARY:Porthleven OCS Archive Exhibition + AGM
DESCRIPTION:
URL:https://kernowgoth.org/event/porthleven-ocs-archive-exhibition-agm/
LOCATION:Porthleven Methodist Church\, Fore Street\, Porthleven\, Cornwall\, TR13 9HL\, United Kingdom
CATEGORIES:Community
ATTACH;FMTTYPE=image/jpeg:https://kernowgoth.org/wp-content/uploads/2026/04/POCS-AGM-April-26-001-scaled-e1775652502844.jpg
GEO:50.0858045;-5.3155059
X-APPLE-STRUCTURED-LOCATION;VALUE=URI;X-ADDRESS=Porthleven Methodist Church Fore Street Porthleven Cornwall TR13 9HL United Kingdom;X-APPLE-RADIUS=500;X-TITLE=Fore Street:geo:-5.3155059,50.0858045
END:VEVENT
BEGIN:VEVENT
DTSTART;TZID=Europe/London:20260428T193000
DTEND;TZID=Europe/London:20260428T210000
DTSTAMP:20260423T103651
CREATED:20251225T082514Z
LAST-MODIFIED:20260404T061854Z
UID:10001238-1777404600-1777410000@kernowgoth.org
SUMMARY:Talk: Cornish Spring and Midsummer Customs by Kathy Wallis
DESCRIPTION:
URL:https://kernowgoth.org/event/talk-cornish-spring-and-midsummer-customs-by-kathy-wallis/
LOCATION:Lostwithiel Methodist Church\, Taprell House\, North Street\, Lostwithiel\, Cornwall\, PL22 0BL\, United Kingdom
CATEGORIES:Talk
ATTACH;FMTTYPE=image/jpeg:https://kernowgoth.org/wp-content/uploads/2026/04/Lostwithiel-Old-Cornwall-Society-Apr-2026-scaled-e1775283511291.jpg
GEO:50.4074162;-4.6700046
X-APPLE-STRUCTURED-LOCATION;VALUE=URI;X-ADDRESS=Lostwithiel Methodist Church Taprell House North Street Lostwithiel Cornwall PL22 0BL United Kingdom;X-APPLE-RADIUS=500;X-TITLE=Taprell House\, North Street:geo:-4.6700046,50.4074162
END:VEVENT
BEGIN:VEVENT
DTSTART;TZID=Europe/London:20260429T190000
DTEND;TZID=Europe/London:20260429T210000
DTSTAMP:20260423T103651
CREATED:20260221T184757Z
LAST-MODIFIED:20260409T184038Z
UID:10001297-1777489200-1777496400@kernowgoth.org
SUMMARY:Talk: History of St.Austell Bay by Lyndon Sid Allen
DESCRIPTION:
URL:https://kernowgoth.org/event/talk-history-of-st-austell-bay-by-lyndon-sid-allen/
LOCATION:Gorran Haven Memorial Village Hall\, Gorran Haven\, Cornwall\, PL26 6JP\, United Kingdom
CATEGORIES:Talk
ATTACH;FMTTYPE=image/jpeg:https://kernowgoth.org/wp-content/uploads/2026/04/SGOCS-April-2026-scaled-e1775760033873.jpg
GEO:50.2397092;-4.7889832
X-APPLE-STRUCTURED-LOCATION;VALUE=URI;X-ADDRESS=Gorran Haven Memorial Village Hall Gorran Haven Cornwall PL26 6JP United Kingdom;X-APPLE-RADIUS=500;X-TITLE=Gorran Haven:geo:-4.7889832,50.2397092
END:VEVENT
BEGIN:VEVENT
DTSTART;TZID=Europe/London:20260501T190000
DTEND;TZID=Europe/London:20260501T210000
DTSTAMP:20260423T103651
CREATED:20260411T201948Z
LAST-MODIFIED:20260411T201948Z
UID:10001358-1777662000-1777669200@kernowgoth.org
SUMMARY:Talk: Mexico's Little Cornwall\, Two Centuries of Links by Dr Sharron Shwartz
DESCRIPTION:Sharron has a lifetime of research and experience of the Cornish in Latin America and this promises to be an interesting evening.
URL:https://kernowgoth.org/event/talk-mexicos-little-cornwall-two-centuries-of-links-by-dr-sharron-shwartz/
LOCATION:Wesley Hall & Chapel\, perranporth\, cornwall\, United Kingdom
CATEGORIES:Talk
ATTACH;FMTTYPE=image/jpeg:https://kernowgoth.org/wp-content/uploads/2026/04/Twinning-evening-Redruth-Wesley-Fri1stMay2026-scaled-e1775938781515.jpg
GEO:50.344434;-5.154444
END:VEVENT
BEGIN:VEVENT
DTSTART;TZID=Europe/London:20260501T193000
DTEND;TZID=Europe/London:20260501T210000
DTSTAMP:20260423T103651
CREATED:20250822T145011Z
LAST-MODIFIED:20260408T075807Z
UID:10001030-1777663800-1777669200@kernowgoth.org
SUMMARY:Talk: Shipbuilding on the River Fal by Keith Harris + AGM
DESCRIPTION:
URL:https://kernowgoth.org/event/talk-shipbuilding-on-the-river-fal-by-keith-harris-agm/
LOCATION:The Day Care Centre\, Commercial Road\, Hayle\, Cornwall\, TR27 4DE\, United Kingdom
CATEGORIES:AGM,Talk
ATTACH;FMTTYPE=image/jpeg:https://kernowgoth.org/wp-content/uploads/2026/04/20260501-Poster-HOCS-Fal-Shipbuilding-by-Keith-Harris4-scaled-e1775635080140.jpg
ORGANIZER;CN="Hayle Old Cornwall Society":MAILTO:trevor.smitheram@btopenworld.com
GEO:50.1901385;-5.4152156
X-APPLE-STRUCTURED-LOCATION;VALUE=URI;X-ADDRESS=The Day Care Centre Commercial Road Hayle Cornwall TR27 4DE United Kingdom;X-APPLE-RADIUS=500;X-TITLE=Commercial Road:geo:-5.4152156,50.1901385
END:VEVENT
BEGIN:VEVENT
DTSTART;VALUE=DATE:20260504
DTEND;VALUE=DATE:20260505
DTSTAMP:20260423T103651
CREATED:20260421T102846Z
LAST-MODIFIED:20260421T102846Z
UID:10001398-1777852800-1777939199@kernowgoth.org
SUMMARY:Tales of the Tides - Walk: Harding's Hike\, led by Martin Lister
DESCRIPTION:The walk is named\, “Harding’s Hike” in memory of our late Saltash Alderman who organised interesting local walks that continue today.\nThe walk will also dovetail with Saltash May Fair\nThis walk will include Saltash river frontage\, and explore stories of local maritime history and connections.\nMartin Lister is the Secretary of Saltash OCS and an experienced walk leader.\nThe route will be from Longstone Park\, down Fore Street\, North Road\, Home Park Road – onto the Waterside – then up Culver Road and back to Fore Street. \nPlease join us for this marvellous\, maritime\, meander! \nBooking details TBC
URL:https://kernowgoth.org/event/tales-of-the-tides-walk-hardings-hike-led-by-martin-lister/
LOCATION:Longstone Park\, Saltash\, Cornwall\, PL12 6DW\, United Kingdom
CATEGORIES:Walk
ORGANIZER;CN="Saltash Old Cornwall Society":MAILTO:suehcf@msn.com
GEO:50.4109688;-4.2172472
END:VEVENT
BEGIN:VEVENT
DTSTART;TZID=Europe/London:20260504T103000
DTEND;TZID=Europe/London:20260504T170000
DTSTAMP:20260423T103651
CREATED:20260221T185047Z
LAST-MODIFIED:20260419T115915Z
UID:10001298-1777890600-1777914000@kernowgoth.org
SUMMARY:Walk: Around St. Ewe finishing at the Crown Inn
DESCRIPTION:
URL:https://kernowgoth.org/event/walk-around-st-ewe-and-then-the-crown-inn-tbc/
LOCATION:St Ewe\, Cornwall\, United Kingdom
CATEGORIES:Walk
ATTACH;FMTTYPE=image/png:https://kernowgoth.org/wp-content/uploads/2025/08/OCS-New-Logo-e1766097441213.png
GEO:50.5036299;-4.6524982
END:VEVENT
BEGIN:VEVENT
DTSTART;TZID=Europe/London:20260505T190000
DTEND;TZID=Europe/London:20260505T210000
DTSTAMP:20260423T103651
CREATED:20251220T153831Z
LAST-MODIFIED:20251220T153831Z
UID:10001230-1778007600-1778014800@kernowgoth.org
SUMMARY:Talk: Mutiny on the Bounty by Linda Hornabrook
DESCRIPTION:
URL:https://kernowgoth.org/event/talk-mutiny-on-the-bounty-by-linda-hornabrook/
LOCATION:Wadebridge Town Hall\, The Platt\, Wadebridge\, Cornwall\, PL27 7AQ\, United Kingdom
CATEGORIES:Talk
GEO:50.5158919;-4.8361185
X-APPLE-STRUCTURED-LOCATION;VALUE=URI;X-ADDRESS=Wadebridge Town Hall The Platt Wadebridge Cornwall PL27 7AQ United Kingdom;X-APPLE-RADIUS=500;X-TITLE=The Platt:geo:-4.8361185,50.5158919
END:VEVENT
BEGIN:VEVENT
DTSTART;TZID=Europe/London:20260505T193000
DTEND;TZID=Europe/London:20260505T210000
DTSTAMP:20260423T103651
CREATED:20251203T203602Z
LAST-MODIFIED:20260420T180512Z
UID:10001207-1778009400-1778014800@kernowgoth.org
SUMMARY:Talk: China Clay Horses by Lyndon Allen
DESCRIPTION:
URL:https://kernowgoth.org/event/talk-china-clay-horses-by-lyndon-allen/
LOCATION:St Agnes Methodist Church Hall\, British Road\, St Agnes\, Cornwall\, TR5 0UA\, United Kingdom
CATEGORIES:Talk
ATTACH;FMTTYPE=image/jpeg:https://kernowgoth.org/wp-content/uploads/2026/04/Transportation-of-China-Clay-by-Horses-poster-2026-May-5th-e1776708299966.jpeg
GEO:50.310468;-5.2017453
X-APPLE-STRUCTURED-LOCATION;VALUE=URI;X-ADDRESS=St Agnes Methodist Church Hall British Road St Agnes Cornwall TR5 0UA United Kingdom;X-APPLE-RADIUS=500;X-TITLE=British Road:geo:-5.2017453,50.310468
END:VEVENT
BEGIN:VEVENT
DTSTART;TZID=Europe/London:20260506T073000
DTEND;TZID=Europe/London:20260506T210000
DTSTAMP:20260423T103651
CREATED:20250904T132742Z
LAST-MODIFIED:20260324T094604Z
UID:10001103-1778052600-1778101200@kernowgoth.org
SUMMARY:Talk: The Origins and Foundations of the National Health Service by John Stansfield + AGM
DESCRIPTION:
URL:https://kernowgoth.org/event/talk-the-origins-and-foundations-of-the-national-health-service-by-john-stansfield-agm/
LOCATION:Padstow Social Club\, The Lawns\, Senders Hill\, Padstow\, Cornwall\, PL28 8DT\, United Kingdom
CATEGORIES:Talk
ATTACH;FMTTYPE=image/jpeg:https://kernowgoth.org/wp-content/uploads/2026/03/Padstow-May-scaled-e1774345556717.jpg
GEO:50.3678287;-4.8675323
X-APPLE-STRUCTURED-LOCATION;VALUE=URI;X-ADDRESS=Padstow Social Club The Lawns Senders Hill Padstow Cornwall PL28 8DT United Kingdom;X-APPLE-RADIUS=500;X-TITLE=The Lawns\, Senders Hill:geo:-4.8675323,50.3678287
END:VEVENT
BEGIN:VEVENT
DTSTART;TZID=Europe/London:20260507T103000
DTEND;TZID=Europe/London:20260507T120000
DTSTAMP:20260423T103651
CREATED:20260406T074611Z
LAST-MODIFIED:20260419T132843Z
UID:10001344-1778149800-1778155200@kernowgoth.org
SUMMARY:Penryn & Falmouth OCS Pilgrimage: Budock Church
DESCRIPTION:Lunch or coffee and snack can be arranged at any outing if interested. \nBooking essential: Vicki 01326 315013 Email vickifalmouth@gmail.com \nLifts can be arranged as necessary.
URL:https://kernowgoth.org/event/penryn-falmouth-ocs-pilgrimage-budock-church/
LOCATION:Budock Church\, Cornwall\, United Kingdom
CATEGORIES:Visit
ATTACH;FMTTYPE=image/png:https://kernowgoth.org/wp-content/uploads/2025/08/OCS-New-Logo-e1766097441213.png
GEO:50.5036299;-4.6524982
END:VEVENT
BEGIN:VEVENT
DTSTART;TZID=Europe/London:20260509T143000
DTEND;TZID=Europe/London:20260509T163000
DTSTAMP:20260423T103651
CREATED:20250312T203139Z
LAST-MODIFIED:20260414T132345Z
UID:10000804-1778337000-1778344200@kernowgoth.org
SUMMARY:Talk: A Cornish Miscellany by John Little
DESCRIPTION:
URL:https://kernowgoth.org/event/a-cornish-miscellany-john-little/
LOCATION:St Martin’s Hall\, St Martin's Road\, Looe\, Cornwall\, PL13 1FA\, United Kingdom
CATEGORIES:Talk
ATTACH;FMTTYPE=image/jpeg:https://kernowgoth.org/wp-content/uploads/2026/04/Looe-May-26-scaled-e1776173018720.jpg
GEO:50.3671271;-4.4528033
X-APPLE-STRUCTURED-LOCATION;VALUE=URI;X-ADDRESS=St Martin’s Hall St Martin's Road Looe Cornwall PL13 1FA United Kingdom;X-APPLE-RADIUS=500;X-TITLE=St Martin's Road:geo:-4.4528033,50.3671271
END:VEVENT
BEGIN:VEVENT
DTSTART;TZID=Europe/London:20260510T193000
DTEND;TZID=Europe/London:20260510T210000
DTSTAMP:20260423T103652
CREATED:20250823T074531Z
LAST-MODIFIED:20250823T074531Z
UID:10001039-1778441400-1778446800@kernowgoth.org
SUMMARY:Quiz by Brian & Valerie Jacob\, + AGM
DESCRIPTION:
URL:https://kernowgoth.org/event/quiz-by-brian-valerie-jacob-agm/
LOCATION:White River Community Church\, West Hill\, St Austell\, Cornwall\, PL25 5ET\, United Kingdom
CATEGORIES:AGM
ORGANIZER;CN="St Austell Old Cornwall Society":MAILTO:staustelloldcornwall@outlook.com
GEO:50.3378388;-4.7968317
X-APPLE-STRUCTURED-LOCATION;VALUE=URI;X-ADDRESS=White River Community Church West Hill St Austell Cornwall PL25 5ET United Kingdom;X-APPLE-RADIUS=500;X-TITLE=West Hill:geo:-4.7968317,50.3378388
END:VEVENT
BEGIN:VEVENT
DTSTART;TZID=Europe/London:20260511T190000
DTEND;TZID=Europe/London:20260511T210000
DTSTAMP:20260423T103652
CREATED:20250417T142833Z
LAST-MODIFIED:20260329T154012Z
UID:10000843-1778526000-1778533200@kernowgoth.org
SUMMARY:Talk: St Ives Amateur Operatic Society 1946-2006 by Tony Mason (Recorder) + AGM
DESCRIPTION:
URL:https://kernowgoth.org/event/video-montage-of-st-ives-events-happenings-by-tony-mason-recorder-agm/
LOCATION:Carbis Bay Memorial Hall\, 7 Trencrom Lane\, Carbis Bay\,\, St Ives\, Cornwall\, TR26 2TA\, United Kingdom
CATEGORIES:Talk
ATTACH;FMTTYPE=image/jpeg:https://kernowgoth.org/wp-content/uploads/2026/03/IMG_1030-1-e1774798804987.jpg
ORGANIZER;CN="St Ives Old Cornwall Society":MAILTO:stivesoldcornwall@gmail.com
GEO:50.1915991;-5.4619559
X-APPLE-STRUCTURED-LOCATION;VALUE=URI;X-ADDRESS=Carbis Bay Memorial Hall 7 Trencrom Lane Carbis Bay St Ives Cornwall TR26 2TA United Kingdom;X-APPLE-RADIUS=500;X-TITLE=7 Trencrom Lane\, Carbis Bay\,:geo:-5.4619559,50.1915991
END:VEVENT
BEGIN:VEVENT
DTSTART;TZID=Europe/London:20260511T193000
DTEND;TZID=Europe/London:20260511T210000
DTSTAMP:20260423T103652
CREATED:20250701T111342Z
LAST-MODIFIED:20250701T111342Z
UID:10000953-1778527800-1778533200@kernowgoth.org
SUMMARY:St Buryan AGM with Ian Groves
DESCRIPTION:
URL:https://kernowgoth.org/event/st-buryan-agm-with-ian-groves/
LOCATION:St Buryan Parish Rooms\, St Buryan\, Cornwall\, United Kingdom
CATEGORIES:Talk
GEO:50.075155;-5.6216989
X-APPLE-STRUCTURED-LOCATION;VALUE=URI;X-ADDRESS=St Buryan Parish Rooms St Buryan Cornwall United Kingdom;X-APPLE-RADIUS=500;X-TITLE=St Buryan:geo:-5.6216989,50.075155
END:VEVENT
BEGIN:VEVENT
DTSTART;TZID=Europe/London:20260512T140000
DTEND;TZID=Europe/London:20260512T170000
DTSTAMP:20260423T103652
CREATED:20260403T102805Z
LAST-MODIFIED:20260403T102805Z
UID:10001331-1778594400-1778605200@kernowgoth.org
SUMMARY:Truro Houses
DESCRIPTION:
URL:https://kernowgoth.org/event/truro-houses/
LOCATION:Kea Community Centre\, 47 Old Coach Rd\, Playing Place\, Truro\, Cornwall\, TR3 6ET\, United Kingdom
CATEGORIES:Talk
GEO:50.2335053;-5.0705334
X-APPLE-STRUCTURED-LOCATION;VALUE=URI;X-ADDRESS=Kea Community Centre 47 Old Coach Rd Playing Place Truro Cornwall TR3 6ET United Kingdom;X-APPLE-RADIUS=500;X-TITLE=47 Old Coach Rd:geo:-5.0705334,50.2335053
END:VEVENT
BEGIN:VEVENT
DTSTART;TZID=Europe/London:20260512T193000
DTEND;TZID=Europe/London:20260512T210000
DTSTAMP:20260423T103652
CREATED:20251110T093555Z
LAST-MODIFIED:20260419T133420Z
UID:10001170-1778614200-1778619600@kernowgoth.org
SUMMARY:Talk: Farm Industries by Phil Hosken
DESCRIPTION:
URL:https://kernowgoth.org/event/farm-industries-phil-hosken/
LOCATION:Zafiros\, New Bridge Street\, Truro TR1 2AA
CATEGORIES:Talk
END:VEVENT
BEGIN:VEVENT
DTSTART;TZID=Europe/London:20260512T193000
DTEND;TZID=Europe/London:20260512T210000
DTSTAMP:20260423T103652
CREATED:20260216T190541Z
LAST-MODIFIED:20260419T171800Z
UID:10001283-1778614200-1778619600@kernowgoth.org
SUMMARY:Talk: Market House\, Penzance by Val Thomas
DESCRIPTION:
URL:https://kernowgoth.org/event/talk-market-house-penzance-by-val-thomas/
LOCATION:Age Concern Centre\, 7 Fore Street\, St Just\, Cornwall\, TR19 7LJ\, United Kingdom
CATEGORIES:Talk
ATTACH;FMTTYPE=image/jpeg:https://kernowgoth.org/wp-content/uploads/2026/04/Meeting-12052026-Market-House-Val-Thomas-pdf-scaled-e1776619072783.jpg
GEO:50.1234928;-5.6796719
X-APPLE-STRUCTURED-LOCATION;VALUE=URI;X-ADDRESS=Age Concern Centre 7 Fore Street St Just Cornwall TR19 7LJ United Kingdom;X-APPLE-RADIUS=500;X-TITLE=7 Fore Street:geo:-5.6796719,50.1234928
END:VEVENT
BEGIN:VEVENT
DTSTART;TZID=Europe/London:20260513T143000
DTEND;TZID=Europe/London:20260513T160000
DTSTAMP:20260423T103652
CREATED:20251201T112412Z
LAST-MODIFIED:20260419T121731Z
UID:10001180-1778682600-1778688000@kernowgoth.org
SUMMARY:Talk: E.A. Wallis Budge by Richard Mason
DESCRIPTION:
URL:https://kernowgoth.org/event/talk-e-a-wallis-budge-by-richard-mason/
LOCATION:The Shire House Suite\, Priory Park\, Bodmin\, Cornwall\, PL31 2DQ\, United Kingdom
CATEGORIES:Talk
ATTACH;FMTTYPE=image/jpeg:https://kernowgoth.org/wp-content/uploads/2026/04/Bodmin-May-26-scaled-e1776601027910.jpg
ORGANIZER;CN="Bodmin Old Cornwall Society":MAILTO:honiley47@aol.com
GEO:50.4699535;-4.7172892
X-APPLE-STRUCTURED-LOCATION;VALUE=URI;X-ADDRESS=The Shire House Suite Priory Park Bodmin Cornwall PL31 2DQ United Kingdom;X-APPLE-RADIUS=500;X-TITLE=Priory Park:geo:-4.7172892,50.4699535
END:VEVENT
BEGIN:VEVENT
DTSTART;TZID=Europe/London:20260513T183000
DTEND;TZID=Europe/London:20260513T213000
DTSTAMP:20260423T103652
CREATED:20260329T183732Z
LAST-MODIFIED:20260419T132555Z
UID:10001321-1778697000-1778707800@kernowgoth.org
SUMMARY:Pilgrimage: Michaelstow & St Teath Churches
DESCRIPTION:
URL:https://kernowgoth.org/event/pilgrimage-michaelstow-st-teath-churches/
LOCATION:St Michael’s Church\, Michaelstow\, Bodmin\, Cornwall\, PL30 3PD\, United Kingdom
CATEGORIES:Visit
ATTACH;FMTTYPE=image/png:https://kernowgoth.org/wp-content/uploads/2025/08/OCS-New-Logo-e1766097441213.png
ORGANIZER;CN="Launceston Old Cornwall Society":MAILTO:kaymunn024@btinternet.com
GEO:50.5779142;-4.7131747
X-APPLE-STRUCTURED-LOCATION;VALUE=URI;X-ADDRESS=St Michael’s Church Michaelstow Bodmin Cornwall PL30 3PD United Kingdom;X-APPLE-RADIUS=500;X-TITLE=Michaelstow:geo:-4.7131747,50.5779142
END:VEVENT
BEGIN:VEVENT
DTSTART;TZID=Europe/London:20260513T193000
DTEND;TZID=Europe/London:20260513T210000
DTSTAMP:20260423T103652
CREATED:20250906T195206Z
LAST-MODIFIED:20260327T124304Z
UID:10001122-1778700600-1778706000@kernowgoth.org
SUMMARY:AGM and Presidents Address
DESCRIPTION:
URL:https://kernowgoth.org/event/agm-and-presidents-address/
LOCATION:Perranporth Memorial Hall\, Wheal Leisure Close\, Perranporth\, Cornwall\, TR6 0EY\, United Kingdom
CATEGORIES:AGM
ATTACH;FMTTYPE=image/jpeg:https://kernowgoth.org/wp-content/uploads/2026/03/May-2026-scaled-e1774615374129.jpg
GEO:50.3443982;-5.1533282
X-APPLE-STRUCTURED-LOCATION;VALUE=URI;X-ADDRESS=Perranporth Memorial Hall Wheal Leisure Close Perranporth Cornwall TR6 0EY United Kingdom;X-APPLE-RADIUS=500;X-TITLE=Wheal Leisure Close:geo:-5.1533282,50.3443982
END:VEVENT
BEGIN:VEVENT
DTSTART;VALUE=DATE:20260518
DTEND;VALUE=DATE:20260519
DTSTAMP:20260423T103652
CREATED:20260316T131254Z
LAST-MODIFIED:20260419T132952Z
UID:10001314-1779062400-1779148799@kernowgoth.org
SUMMARY:Penzance OCS - Morrab Library Visit
DESCRIPTION:
URL:https://kernowgoth.org/event/penzance-ocs-morrab-library-visit/
LOCATION:Morrab Library\, Penzance\, Cornwall\, United Kingdom
CATEGORIES:Visit
ATTACH;FMTTYPE=image/png:https://kernowgoth.org/wp-content/uploads/2025/08/OCS-New-Logo-e1766097441213.png
ORGANIZER;CN="Penzance OCS":MAILTO:penzanceoldcornwallsociety@gmail.com
GEO:50.1182939;-5.5407951
END:VEVENT
END:VCALENDAR