BEGIN:VCALENDAR
VERSION:2.0
PRODID:-//Kernow Goth - ECPv6.3.4//NONSGML v1.0//EN
CALSCALE:GREGORIAN
METHOD:PUBLISH
X-WR-CALNAME:Kernow Goth
X-ORIGINAL-URL:https://kernowgoth.org
X-WR-CALDESC:Events for Kernow Goth
REFRESH-INTERVAL;VALUE=DURATION:PT1H
X-Robots-Tag:noindex
X-PUBLISHED-TTL:PT1H
BEGIN:VTIMEZONE
TZID:UTC
BEGIN:STANDARD
TZOFFSETFROM:+0000
TZOFFSETTO:+0000
TZNAME:UTC
DTSTART:20230101T000000
END:STANDARD
TZID:Europe/London
BEGIN:DAYLIGHT
TZOFFSETFROM:+0000
TZOFFSETTO:+0100
TZNAME:BST
DTSTART:20230326T010000
END:DAYLIGHT
BEGIN:STANDARD
TZOFFSETFROM:+0100
TZOFFSETTO:+0000
TZNAME:GMT
DTSTART:20231029T010000
END:STANDARD
BEGIN:DAYLIGHT
TZOFFSETFROM:+0000
TZOFFSETTO:+0100
TZNAME:BST
DTSTART:20240331T010000
END:DAYLIGHT
BEGIN:STANDARD
TZOFFSETFROM:+0100
TZOFFSETTO:+0000
TZNAME:GMT
DTSTART:20241027T010000
END:STANDARD
END:VTIMEZONE
BEGIN:VEVENT
DTSTART;TZID=UTC:20231205T120000
DTEND;TZID=UTC:20231205T170000
DTSTAMP:20260419T225114
CREATED:20230812T180953Z
LAST-MODIFIED:20230812T180953Z
UID:10000087-1701777600-1701795600@kernowgoth.org
SUMMARY:Christmas Lunch: Penmorvah Manor Hotel (details tbc)
DESCRIPTION:
URL:https://kernowgoth.org/event/christmas-lunch-penmorvah-manor-hotel-details-tbc/
LOCATION:Penmorvah Manor Hotel\, Penjerrick Hill\, Budock Water\, Falmouth\, Cornwall\, TR11 5ED\, United Kingdom
GEO:50.1359451;-5.1066172
X-APPLE-STRUCTURED-LOCATION;VALUE=URI;X-ADDRESS=Penmorvah Manor Hotel Penjerrick Hill Budock Water Falmouth Cornwall TR11 5ED United Kingdom;X-APPLE-RADIUS=500;X-TITLE=Penjerrick Hill:geo:-5.1066172,50.1359451
END:VEVENT
BEGIN:VEVENT
DTSTART;TZID=UTC:20231205T191500
DTEND;TZID=UTC:20231205T203000
DTSTAMP:20260419T225114
CREATED:20230818T142942Z
LAST-MODIFIED:20230818T142942Z
UID:10000146-1701803700-1701808200@kernowgoth.org
SUMMARY:Social Evening with Entertainment 'Proper Job'
DESCRIPTION:
URL:https://kernowgoth.org/event/social-evening-with-entertainment-proper-job/
LOCATION:Carnon Downs Village Hall\, Tregye Road\, Carnon Downs\, Cornwall\, TR3 6GH\, United Kingdom
GEO:50.22243;-5.0846859
X-APPLE-STRUCTURED-LOCATION;VALUE=URI;X-ADDRESS=Carnon Downs Village Hall Tregye Road Carnon Downs Cornwall TR3 6GH United Kingdom;X-APPLE-RADIUS=500;X-TITLE=Tregye Road:geo:-5.0846859,50.22243
END:VEVENT
BEGIN:VEVENT
DTSTART;TZID=UTC:20231205T193000
DTEND;TZID=UTC:20231205T203000
DTSTAMP:20260419T225114
CREATED:20230817T102318Z
LAST-MODIFIED:20230817T102318Z
UID:10000127-1701804600-1701808200@kernowgoth.org
SUMMARY:Christmas Entertainment
DESCRIPTION:
URL:https://kernowgoth.org/event/christmas-entertainment/
LOCATION:St Agnes Methodist Church Hall\, British Road\, St Agnes\, Cornwall\, TR5 0UA\, United Kingdom
GEO:50.310468;-5.2017453
X-APPLE-STRUCTURED-LOCATION;VALUE=URI;X-ADDRESS=St Agnes Methodist Church Hall British Road St Agnes Cornwall TR5 0UA United Kingdom;X-APPLE-RADIUS=500;X-TITLE=British Road:geo:-5.2017453,50.310468
END:VEVENT
BEGIN:VEVENT
DTSTART;TZID=UTC:20231206T143000
DTEND;TZID=UTC:20231206T173000
DTSTAMP:20260419T225114
CREATED:20231008T121614Z
LAST-MODIFIED:20231008T121614Z
UID:10000254-1701873000-1701883800@kernowgoth.org
SUMMARY:Launceston OCS Christmas Afternoon Tea
DESCRIPTION:Seasonal entertainment from Nigel Nethersole and Garry Tregidga. \nTickets £9 from Bill Roberts – phone 01566 774227 \nEmail: w.roberts@btinternet.com \nFriends welcome!
URL:https://kernowgoth.org/event/launceston-ocs-christmas-afternoon-tea/
LOCATION:Launceston Golf Club\, North Street\, Launceston\, Cornwall\, PL15 8HF\, United Kingdom
ORGANIZER;CN="Launceston Old Cornwall Society":MAILTO:kaymunn024@btinternet.com
GEO:50.6468565;-4.3734554
X-APPLE-STRUCTURED-LOCATION;VALUE=URI;X-ADDRESS=Launceston Golf Club North Street Launceston Cornwall PL15 8HF United Kingdom;X-APPLE-RADIUS=500;X-TITLE=North Street:geo:-4.3734554,50.6468565
END:VEVENT
BEGIN:VEVENT
DTSTART;TZID=UTC:20231206T190000
DTEND;TZID=UTC:20231206T200000
DTSTAMP:20260419T225114
CREATED:20230928T020108Z
LAST-MODIFIED:20230928T020108Z
UID:10000235-1701889200-1701892800@kernowgoth.org
SUMMARY:'A bucket of water\, soap and a towel': an illustrated talk by John Head
DESCRIPTION:
URL:https://kernowgoth.org/event/a-bucket-of-water-soap-and-a-towel-an-illustrated-talk-by-john-head/
LOCATION:Hens Horn Court\, Cunnack Close\, Helston\, Cornwall\, TR13 8YE\, United Kingdom
GEO:50.1068565;-5.2698346
X-APPLE-STRUCTURED-LOCATION;VALUE=URI;X-ADDRESS=Hens Horn Court Cunnack Close Helston Cornwall TR13 8YE United Kingdom;X-APPLE-RADIUS=500;X-TITLE=Cunnack Close:geo:-5.2698346,50.1068565
END:VEVENT
BEGIN:VEVENT
DTSTART;TZID=UTC:20231206T193000
DTEND;TZID=UTC:20231206T203000
DTSTAMP:20260419T225114
CREATED:20230814T162131Z
LAST-MODIFIED:20230814T162131Z
UID:10000104-1701891000-1701894600@kernowgoth.org
SUMMARY:'Holy Wells' - by Terry Faull
DESCRIPTION:
URL:https://kernowgoth.org/event/holy-wells-by-terry-faull/
LOCATION:Padstow Social Club\, The Lawns\, Senders Hill\, Padstow\, Cornwall\, PL28 8DT\, United Kingdom
GEO:50.3678287;-4.8675323
X-APPLE-STRUCTURED-LOCATION;VALUE=URI;X-ADDRESS=Padstow Social Club The Lawns Senders Hill Padstow Cornwall PL28 8DT United Kingdom;X-APPLE-RADIUS=500;X-TITLE=The Lawns\, Senders Hill:geo:-4.8675323,50.3678287
END:VEVENT
BEGIN:VEVENT
DTSTART;TZID=UTC:20231208T143000
DTEND;TZID=UTC:20231208T153000
DTSTAMP:20260419T225114
CREATED:20230806T073558Z
LAST-MODIFIED:20230806T074159Z
UID:10000033-1702045800-1702049400@kernowgoth.org
SUMMARY:‘Every Picture Tells a Story’ - Frank Agall
DESCRIPTION:
URL:https://kernowgoth.org/event/every-picture-tells-a-story-frank-agall/
LOCATION:Emily Hobhouse Room\, The Public Hall\, West Street\, Liskeard\, Cornwall\, PL14 6BW\, United Kingdom
ORGANIZER;CN="Liskeard Old Cornwall Society":MAILTO:contactbrian@btinternet.com
GEO:50.4556965;-4.4661465
X-APPLE-STRUCTURED-LOCATION;VALUE=URI;X-ADDRESS=Emily Hobhouse Room The Public Hall West Street Liskeard Cornwall PL14 6BW United Kingdom;X-APPLE-RADIUS=500;X-TITLE=The Public Hall\, West Street:geo:-4.4661465,50.4556965
END:VEVENT
BEGIN:VEVENT
DTSTART;TZID=UTC:20231209T143000
DTEND;TZID=UTC:20231209T153000
DTSTAMP:20260419T225114
CREATED:20230806T115909Z
LAST-MODIFIED:20230806T120647Z
UID:10000055-1702132200-1702135800@kernowgoth.org
SUMMARY:Christmas Party
DESCRIPTION:
URL:https://kernowgoth.org/event/christmas-party/
LOCATION:St Martin’s Hall\, St Martin's Road\, Looe\, Cornwall\, PL13 1FA\, United Kingdom
GEO:50.3671271;-4.4528033
X-APPLE-STRUCTURED-LOCATION;VALUE=URI;X-ADDRESS=St Martin’s Hall St Martin's Road Looe Cornwall PL13 1FA United Kingdom;X-APPLE-RADIUS=500;X-TITLE=St Martin's Road:geo:-4.4528033,50.3671271
END:VEVENT
BEGIN:VEVENT
DTSTART;TZID=UTC:20231209T150000
DTEND;TZID=UTC:20231209T163000
DTSTAMP:20260419T225114
CREATED:20230907T081511Z
LAST-MODIFIED:20230907T081511Z
UID:10000176-1702134000-1702139400@kernowgoth.org
SUMMARY:Cornish Tea\, Mike Blake\, and Memories of Par Old Cornwall Society 2024
DESCRIPTION:
URL:https://kernowgoth.org/event/cornish-tea-mike-blake-and-memories-of-par-old-cornwall-society-2024/
LOCATION:The Gott Hall\, Par Green\, Par\, Cornwall\, PL24 2AF\, United Kingdom
GEO:50.3506775;-4.7051683
X-APPLE-STRUCTURED-LOCATION;VALUE=URI;X-ADDRESS=The Gott Hall Par Green Par Cornwall PL24 2AF United Kingdom;X-APPLE-RADIUS=500;X-TITLE=Par Green:geo:-4.7051683,50.3506775
END:VEVENT
BEGIN:VEVENT
DTSTART;TZID=UTC:20231211T140000
DTEND;TZID=UTC:20231211T150000
DTSTAMP:20260419T225114
CREATED:20230812T181057Z
LAST-MODIFIED:20230812T181057Z
UID:10000088-1702303200-1702306800@kernowgoth.org
SUMMARY:'Portmellon Boat Building: Part 2' - Gary Mitchell
DESCRIPTION:
URL:https://kernowgoth.org/event/portmellon-boat-building-part-2-gary-mitchell/
LOCATION:Kea Community Centre\, 47 Old Coach Rd\, Playing Place\, Truro\, Cornwall\, TR3 6ET\, United Kingdom
GEO:50.2335053;-5.0705334
X-APPLE-STRUCTURED-LOCATION;VALUE=URI;X-ADDRESS=Kea Community Centre 47 Old Coach Rd Playing Place Truro Cornwall TR3 6ET United Kingdom;X-APPLE-RADIUS=500;X-TITLE=47 Old Coach Rd:geo:-5.0705334,50.2335053
END:VEVENT
BEGIN:VEVENT
DTSTART;TZID=UTC:20231211T191500
DTEND;TZID=UTC:20231211T203000
DTSTAMP:20260419T225114
CREATED:20230812T172141Z
LAST-MODIFIED:20230812T172141Z
UID:10000078-1702322100-1702326600@kernowgoth.org
SUMMARY:'South Cornish Coast and the World Wars' - Michael Bunney
DESCRIPTION:
URL:https://kernowgoth.org/event/south-cornish-coast-and-the-world-wars-michael-bunney/
LOCATION:Probus Village Hall\, Amelia Close\, Probus\, Truro\, Cornwall\, TR2 4NB\, United Kingdom
GEO:50.2923902;-4.9537417
X-APPLE-STRUCTURED-LOCATION;VALUE=URI;X-ADDRESS=Probus Village Hall Amelia Close Probus Truro Cornwall TR2 4NB United Kingdom;X-APPLE-RADIUS=500;X-TITLE=Amelia Close:geo:-4.9537417,50.2923902
END:VEVENT
BEGIN:VEVENT
DTSTART;TZID=UTC:20231211T193000
DTEND;TZID=UTC:20231211T203000
DTSTAMP:20260419T225114
CREATED:20230908T095231Z
LAST-MODIFIED:20231121T202654Z
UID:10000199-1702323000-1702326600@kernowgoth.org
SUMMARY:Christmas Party with entertainment provided by Sally Burley & Hillary Coleman - 'Hark the Glad Sound of Cornish Carols'
DESCRIPTION:
URL:https://kernowgoth.org/event/christmas-party-with-entertainment-provided-by-sally-burley-hillary-coleman-hark-the-glad-sound-of-cornish-carols/
LOCATION:St Columba Centre\, West Street\, St Columb\, Cornwall\, TR9 6AE\, United Kingdom
ATTACH;FMTTYPE=image/jpeg:https://kernowgoth.org/wp-content/uploads/2023/09/ocs-poster-Dec23.jpg
GEO:50.4341432;-4.9413454
X-APPLE-STRUCTURED-LOCATION;VALUE=URI;X-ADDRESS=St Columba Centre West Street St Columb Cornwall TR9 6AE United Kingdom;X-APPLE-RADIUS=500;X-TITLE=West Street:geo:-4.9413454,50.4341432
END:VEVENT
BEGIN:VEVENT
DTSTART;TZID=UTC:20231212T123000
DTEND;TZID=UTC:20231212T143000
DTSTAMP:20260419T225114
CREATED:20231117T183418Z
LAST-MODIFIED:20231117T183418Z
UID:10000290-1702384200-1702391400@kernowgoth.org
SUMMARY:Penzance OCS Christmas Lunch
DESCRIPTION:Penzance OCS will be gathering for Christmas lunch at the Lugger hotel at 12.30pm.\n\nMembers can contact Jennifer or Paula with any queries.
URL:https://kernowgoth.org/event/penzance-ocs-christmas-lunch/
LOCATION:The Lugger Hotel\, Marine Terrace\, Penzance\, Cornwall\, TR18 4DL\, United Kingdom
ORGANIZER;CN="Penzance OCS":MAILTO:penzanceoldcornwallsociety@gmail.com
GEO:50.1144992;-5.5367752
X-APPLE-STRUCTURED-LOCATION;VALUE=URI;X-ADDRESS=The Lugger Hotel Marine Terrace Penzance Cornwall TR18 4DL United Kingdom;X-APPLE-RADIUS=500;X-TITLE=Marine Terrace:geo:-5.5367752,50.1144992
END:VEVENT
BEGIN:VEVENT
DTSTART;TZID=UTC:20231212T143000
DTEND;TZID=UTC:20231212T160000
DTSTAMP:20260419T225114
CREATED:20231210T103738Z
LAST-MODIFIED:20231210T103738Z
UID:10000319-1702391400-1702396800@kernowgoth.org
SUMMARY:Cornish Droll Telling\, and Hurdy Gurdy and Accordion Music with Paul Jenkin and Paul Trevena
DESCRIPTION:
URL:https://kernowgoth.org/event/cornish-droll-telling-and-hurdy-gurdy-and-accordion-music-with-paul-jenkin-and-paul-trevena/
LOCATION:Porthleven Public Hall\, 15 Wellington Road\, Porthleven\, Cornwall\, TR13 9AB\, United Kingdom
ATTACH;FMTTYPE=image/jpeg:https://kernowgoth.org/wp-content/uploads/2023/12/Porthleven-OCS-December-2023-scaled.jpg
GEO:50.0865275;-5.3134051
X-APPLE-STRUCTURED-LOCATION;VALUE=URI;X-ADDRESS=Porthleven Public Hall 15 Wellington Road Porthleven Cornwall TR13 9AB United Kingdom;X-APPLE-RADIUS=500;X-TITLE=15 Wellington Road:geo:-5.3134051,50.0865275
END:VEVENT
BEGIN:VEVENT
DTSTART;TZID=UTC:20231212T193000
DTEND;TZID=UTC:20231212T203000
DTSTAMP:20260419T225114
CREATED:20230928T010744Z
LAST-MODIFIED:20230928T010744Z
UID:10000216-1702409400-1702413000@kernowgoth.org
SUMMARY:Christmas Party  - St Just and Pendeen OCS
DESCRIPTION:
URL:https://kernowgoth.org/event/christmas-party-st-just-and-pendeen-ocs/
LOCATION:Age Concern Centre\, 7 Fore Street\, St Just\, Cornwall\, TR19 7LJ\, United Kingdom
GEO:50.1234928;-5.6796719
X-APPLE-STRUCTURED-LOCATION;VALUE=URI;X-ADDRESS=Age Concern Centre 7 Fore Street St Just Cornwall TR19 7LJ United Kingdom;X-APPLE-RADIUS=500;X-TITLE=7 Fore Street:geo:-5.6796719,50.1234928
END:VEVENT
BEGIN:VEVENT
DTSTART;TZID=Europe/London:20231212T193000
DTEND;TZID=Europe/London:20231212T203000
DTSTAMP:20260419T225114
CREATED:20230821T185707Z
LAST-MODIFIED:20230821T185707Z
UID:10000167-1702409400-1702413000@kernowgoth.org
SUMMARY:'Charles Dickens in Cornwall' by Barry West
DESCRIPTION:(This talk TBC)
URL:https://kernowgoth.org/event/charles-dickens-in-cornwall-by-barry-west/
LOCATION:St George’s Church Hall\, St George's Road\, Truro\, Cornwall\, TR1 3JE\, United Kingdom
GEO:50.2647472;-5.0597734
X-APPLE-STRUCTURED-LOCATION;VALUE=URI;X-ADDRESS=St George’s Church Hall St George's Road Truro Cornwall TR1 3JE United Kingdom;X-APPLE-RADIUS=500;X-TITLE=St George's Road:geo:-5.0597734,50.2647472
END:VEVENT
BEGIN:VEVENT
DTSTART;TZID=UTC:20231213T193000
DTEND;TZID=UTC:20231213T203000
DTSTAMP:20260419T225114
CREATED:20231208T152553Z
LAST-MODIFIED:20231208T152553Z
UID:10000313-1702495800-1702499400@kernowgoth.org
SUMMARY:Christmas Meeting\, with Delia and Dave Brotherton
DESCRIPTION:
URL:https://kernowgoth.org/event/christmas-meeting-with-delia-and-dave-brotherton/
LOCATION:The Memorial Hall\, Wheal Leisure Close\, Perranporth\, Cornwall\, TR6 0EY\, United Kingdom
GEO:50.3443982;-5.1533282
X-APPLE-STRUCTURED-LOCATION;VALUE=URI;X-ADDRESS=The Memorial Hall Wheal Leisure Close Perranporth Cornwall TR6 0EY United Kingdom;X-APPLE-RADIUS=500;X-TITLE=Wheal Leisure Close:geo:-5.1533282,50.3443982
END:VEVENT
BEGIN:VEVENT
DTSTART;TZID=UTC:20231213T193000
DTEND;TZID=UTC:20231213T203000
DTSTAMP:20260419T225114
CREATED:20230928T013429Z
LAST-MODIFIED:20231126T131157Z
UID:10000225-1702495800-1702499400@kernowgoth.org
SUMMARY:‘Cornish Wrestling’\, Simon Margetts
DESCRIPTION:
URL:https://kernowgoth.org/event/cornish-wrestling-simon-margetts/
LOCATION:Gerrans Parish Memorial Hall\, Gerrans Hill\, Portscatho\, Cornwall\, TR2 5EE\, United Kingdom
ATTACH;FMTTYPE=image/jpeg:https://kernowgoth.org/wp-content/uploads/2023/09/Gerrans-OCS-Poster-Cornish-Wrestling.jpg
GEO:50.1778742;-4.9784659
X-APPLE-STRUCTURED-LOCATION;VALUE=URI;X-ADDRESS=Gerrans Parish Memorial Hall Gerrans Hill Portscatho Cornwall TR2 5EE United Kingdom;X-APPLE-RADIUS=500;X-TITLE=Gerrans Hill:geo:-4.9784659,50.1778742
END:VEVENT
BEGIN:VEVENT
DTSTART;TZID=UTC:20231213T193000
DTEND;TZID=UTC:20231213T203000
DTSTAMP:20260419T225114
CREATED:20230821T180228Z
LAST-MODIFIED:20230821T180438Z
UID:10000163-1702495800-1702499400@kernowgoth.org
SUMMARY:Christmas entertainment
DESCRIPTION:
URL:https://kernowgoth.org/event/christmas-entertainment-2/
LOCATION:Wadebridge Town Hall\, The Platt\, Wadebridge\, Cornwall\, PL27 7AQ\, United Kingdom
GEO:50.5158919;-4.8361185
X-APPLE-STRUCTURED-LOCATION;VALUE=URI;X-ADDRESS=Wadebridge Town Hall The Platt Wadebridge Cornwall PL27 7AQ United Kingdom;X-APPLE-RADIUS=500;X-TITLE=The Platt:geo:-4.8361185,50.5158919
END:VEVENT
BEGIN:VEVENT
DTSTART;TZID=UTC:20231214T190000
DTEND;TZID=UTC:20231214T203000
DTSTAMP:20260419T225114
CREATED:20230806T084552Z
LAST-MODIFIED:20230806T121027Z
UID:10000051-1702580400-1702585800@kernowgoth.org
SUMMARY:A Cornish Christmas
DESCRIPTION:
URL:https://kernowgoth.org/event/a-cornish-christmas/
LOCATION:Cury Village Hall\, Cury\, Helston\, Cornwall\, TR12 7BH\, United Kingdom
ORGANIZER;CN="Cury and Gunwalloe Old Cornwall Society":MAILTO:john_northfield@sky.com
GEO:50.0491965;-5.2356604
X-APPLE-STRUCTURED-LOCATION;VALUE=URI;X-ADDRESS=Cury Village Hall Cury Helston Cornwall TR12 7BH United Kingdom;X-APPLE-RADIUS=500;X-TITLE=Cury:geo:-5.2356604,50.0491965
END:VEVENT
BEGIN:VEVENT
DTSTART;TZID=UTC:20231218T190000
DTEND;TZID=UTC:20231218T200000
DTSTAMP:20260419T225114
CREATED:20230804T132951Z
LAST-MODIFIED:20231118T144753Z
UID:10000012-1702926000-1702929600@kernowgoth.org
SUMMARY:Federation of Old Cornwall Societies: Padstow Carol Service at Truro Cathedral
DESCRIPTION:We are delighted that the Padstow carollers will be singing their historic Christmas music in Truro Cathedral this year. \n  \n7pm start – click here for the Cathedral’s livestream on YouTube
URL:https://kernowgoth.org/event/federation-of-old-cornwall-societies-padstow-carol-service-at-truro-cathedral/
LOCATION:Truro Cathedral\, St Mary's Street\, Truro\, Cornwall\, TR1 2AF\, United Kingdom
ATTACH;FMTTYPE=image/jpeg:https://kernowgoth.org/wp-content/uploads/2023/08/Padstow-Community-Choir-singing-carols-in-the-town-Dec-2022-scaled.jpg
GEO:50.2637501;-5.0501689
X-APPLE-STRUCTURED-LOCATION;VALUE=URI;X-ADDRESS=Truro Cathedral St Mary's Street Truro Cornwall TR1 2AF United Kingdom;X-APPLE-RADIUS=500;X-TITLE=St Mary's Street:geo:-5.0501689,50.2637501
END:VEVENT
BEGIN:VEVENT
DTSTART;TZID=UTC:20231218T191500
DTEND;TZID=UTC:20231218T203000
DTSTAMP:20260419T225114
CREATED:20230806T124914Z
LAST-MODIFIED:20231128T145306Z
UID:10000066-1702926900-1702931400@kernowgoth.org
SUMMARY:Musical entertainment\, raffle and carols
DESCRIPTION:
URL:https://kernowgoth.org/event/musical-entertainment-raffle-and-carols/
LOCATION:Billiard Room\, Landithy Hall\, Church Road\, Madron\, Cornwall\, TR20 8SW\, United Kingdom
ATTACH;FMTTYPE=image/jpeg:https://kernowgoth.org/wp-content/uploads/2023/08/Madron-Christmas-poster.jpg
GEO:50.1324492;-5.5648907
X-APPLE-STRUCTURED-LOCATION;VALUE=URI;X-ADDRESS=Billiard Room Landithy Hall Church Road Madron Cornwall TR20 8SW United Kingdom;X-APPLE-RADIUS=500;X-TITLE=Church Road:geo:-5.5648907,50.1324492
END:VEVENT
BEGIN:VEVENT
DTSTART;TZID=UTC:20231218T193000
DTEND;TZID=UTC:20231218T203000
DTSTAMP:20260419T225114
CREATED:20230908T084218Z
LAST-MODIFIED:20230908T084218Z
UID:10000191-1702927800-1702931400@kernowgoth.org
SUMMARY:Christmas Social Evening
DESCRIPTION:
URL:https://kernowgoth.org/event/christmas-social-evening/
LOCATION:Pentewan Village Hall\, 16 Glentowan Road\, Pentewan\, Cornwall\, PL26 6DB\, United Kingdom
GEO:50.2927954;-4.7821365
X-APPLE-STRUCTURED-LOCATION;VALUE=URI;X-ADDRESS=Pentewan Village Hall 16 Glentowan Road Pentewan Cornwall PL26 6DB United Kingdom;X-APPLE-RADIUS=500;X-TITLE=16 Glentowan Road:geo:-4.7821365,50.2927954
END:VEVENT
BEGIN:VEVENT
DTSTART;TZID=UTC:20231218T193000
DTEND;TZID=UTC:20231218T203000
DTSTAMP:20260419T225114
CREATED:20230814T165553Z
LAST-MODIFIED:20230814T165553Z
UID:10000115-1702927800-1702931400@kernowgoth.org
SUMMARY:'A Cornish Christmas' presented by Mike O’Connor and Barbara Griggs
DESCRIPTION:Songs\, music and stories to celebrate the season. \nSeasonal refreshments will be provided.
URL:https://kernowgoth.org/event/a-cornish-christmas-presented-by-mike-oconnor-and-barbara-griggs/
LOCATION:Callington Town Hall\, New Road\, Callington\, Cornwall\, PL17 7BD\, United Kingdom
GEO:50.5021689;-4.314565
X-APPLE-STRUCTURED-LOCATION;VALUE=URI;X-ADDRESS=Callington Town Hall New Road Callington Cornwall PL17 7BD United Kingdom;X-APPLE-RADIUS=500;X-TITLE=New Road:geo:-4.314565,50.5021689
END:VEVENT
BEGIN:VEVENT
DTSTART;TZID=UTC:20231219T143000
DTEND;TZID=UTC:20231219T153000
DTSTAMP:20260419T225114
CREATED:20230807T164949Z
LAST-MODIFIED:20231216T180857Z
UID:10000070-1702996200-1702999800@kernowgoth.org
SUMMARY:Seasonal Music with the Newquay Singers
DESCRIPTION:
URL:https://kernowgoth.org/event/seasonal-music-with-the-newquay-singers/
LOCATION:WI Hall\, Crantock Street\, Newquay\, Cornwall\, TR7 1LB\, United Kingdom
CATEGORIES:Music
ATTACH;FMTTYPE=image/jpeg:https://kernowgoth.org/wp-content/uploads/2023/08/Newquay-OCS-Christmas-2023.jpeg
GEO:50.4132209;-5.0894324
X-APPLE-STRUCTURED-LOCATION;VALUE=URI;X-ADDRESS=WI Hall Crantock Street Newquay Cornwall TR7 1LB United Kingdom;X-APPLE-RADIUS=500;X-TITLE=Crantock Street:geo:-5.0894324,50.4132209
END:VEVENT
BEGIN:VEVENT
DTSTART;TZID=UTC:20231220T193000
DTEND;TZID=UTC:20231220T203000
DTSTAMP:20260419T225114
CREATED:20230907T102557Z
LAST-MODIFIED:20230907T102557Z
UID:10000183-1703100600-1703104200@kernowgoth.org
SUMMARY:Christmas Party
DESCRIPTION:
URL:https://kernowgoth.org/event/christmas-party-2/
LOCATION:Torpoint Council Chambers\, 1-3 Buller Road\, Torpoint\, Cornwall\, PL11 2LD\, United Kingdom
GEO:50.3760932;-4.2009581
X-APPLE-STRUCTURED-LOCATION;VALUE=URI;X-ADDRESS=Torpoint Council Chambers 1-3 Buller Road Torpoint Cornwall PL11 2LD United Kingdom;X-APPLE-RADIUS=500;X-TITLE=1-3 Buller Road:geo:-4.2009581,50.3760932
END:VEVENT
BEGIN:VEVENT
DTSTART;TZID=Europe/London:20240104T191500
DTEND;TZID=Europe/London:20240905T203000
DTSTAMP:20260419T225114
CREATED:20240905T195728Z
LAST-MODIFIED:20240927T171928Z
UID:10000538-1704395700-1725568200@kernowgoth.org
SUMMARY:"Annual General Meeting"
DESCRIPTION:
URL:https://kernowgoth.org/event/annual-general-meeting-2/
LOCATION:Carnon Downs Village Hall\, Tregye Road\, Carnon Downs\, Cornwall\, TR3 6GH\, United Kingdom
CATEGORIES:AGM
GEO:50.22243;-5.0846859
X-APPLE-STRUCTURED-LOCATION;VALUE=URI;X-ADDRESS=Carnon Downs Village Hall Tregye Road Carnon Downs Cornwall TR3 6GH United Kingdom;X-APPLE-RADIUS=500;X-TITLE=Tregye Road:geo:-5.0846859,50.22243
END:VEVENT
BEGIN:VEVENT
DTSTART;TZID=UTC:20240108T191500
DTEND;TZID=UTC:20240108T203000
DTSTAMP:20260419T225114
CREATED:20230812T172244Z
LAST-MODIFIED:20230812T172244Z
UID:10000079-1704741300-1704745800@kernowgoth.org
SUMMARY:Film Show - Malcolm Gould
DESCRIPTION:
URL:https://kernowgoth.org/event/film-show-malcolm-gould/
LOCATION:Probus Village Hall\, Amelia Close\, Probus\, Truro\, Cornwall\, TR2 4NB\, United Kingdom
GEO:50.2923902;-4.9537417
X-APPLE-STRUCTURED-LOCATION;VALUE=URI;X-ADDRESS=Probus Village Hall Amelia Close Probus Truro Cornwall TR2 4NB United Kingdom;X-APPLE-RADIUS=500;X-TITLE=Amelia Close:geo:-4.9537417,50.2923902
END:VEVENT
BEGIN:VEVENT
DTSTART;TZID=UTC:20240108T193000
DTEND;TZID=UTC:20240108T203000
DTSTAMP:20260419T225114
CREATED:20240102T174650Z
LAST-MODIFIED:20240103T095145Z
UID:10000333-1704742200-1704745800@kernowgoth.org
SUMMARY:'Ancient Sites on the Lizard Peninsula' - Illustrated talk by James Kitto
DESCRIPTION:
URL:https://kernowgoth.org/event/ancient-sites-on-the-lizard-peninsula-illustrated-talk-by-james-kitto/
LOCATION:Mullion Village Hall\, Nansmellyon Road\, Mullion\, Cornwall\, TR12 7DQ\, United Kingdom
ATTACH;FMTTYPE=image/jpeg:https://kernowgoth.org/wp-content/uploads/2024/01/Mullion-Kitto.jpeg
GEO:50.0251919;-5.2445247
X-APPLE-STRUCTURED-LOCATION;VALUE=URI;X-ADDRESS=Mullion Village Hall Nansmellyon Road Mullion Cornwall TR12 7DQ United Kingdom;X-APPLE-RADIUS=500;X-TITLE=Nansmellyon Road:geo:-5.2445247,50.0251919
END:VEVENT
BEGIN:VEVENT
DTSTART;TZID=UTC:20240108T193000
DTEND;TZID=UTC:20240108T203000
DTSTAMP:20260419T225114
CREATED:20231018T112246Z
LAST-MODIFIED:20231018T112246Z
UID:10000256-1704742200-1704745800@kernowgoth.org
SUMMARY:Fowey and its Heritage\, by Lynn Goold
DESCRIPTION:
URL:https://kernowgoth.org/event/fowey-and-its-heritage-by-lynn-goold/
LOCATION:White River Community Church\, West Hill\, St Austell\, Cornwall\, PL25 5ET\, United Kingdom
ORGANIZER;CN="St Austell Old Cornwall Society":MAILTO:staustelloldcornwall@outlook.com
GEO:50.3378388;-4.7968317
X-APPLE-STRUCTURED-LOCATION;VALUE=URI;X-ADDRESS=White River Community Church West Hill St Austell Cornwall PL25 5ET United Kingdom;X-APPLE-RADIUS=500;X-TITLE=West Hill:geo:-4.7968317,50.3378388
END:VEVENT
END:VCALENDAR