BEGIN:VCALENDAR
VERSION:2.0
PRODID:-//Kernow Goth - ECPv6.3.4//NONSGML v1.0//EN
CALSCALE:GREGORIAN
METHOD:PUBLISH
X-WR-CALNAME:Kernow Goth
X-ORIGINAL-URL:https://kernowgoth.org
X-WR-CALDESC:Events for Kernow Goth
REFRESH-INTERVAL;VALUE=DURATION:PT1H
X-Robots-Tag:noindex
X-PUBLISHED-TTL:PT1H
BEGIN:VTIMEZONE
TZID:UTC
BEGIN:STANDARD
TZOFFSETFROM:+0000
TZOFFSETTO:+0000
TZNAME:UTC
DTSTART:20240101T000000
END:STANDARD
END:VTIMEZONE
BEGIN:VEVENT
DTSTART;TZID=UTC:20240110T190000
DTEND;TZID=UTC:20240110T200000
DTSTAMP:20260420T034136
CREATED:20230928T020211Z
LAST-MODIFIED:20240117T111215Z
UID:10000236-1704913200-1704916800@kernowgoth.org
SUMMARY:'The archaeology of the Isles of Scilly’: an illustrated talk by Charles Johns
DESCRIPTION:
URL:https://kernowgoth.org/event/the-archaeology-of-the-isles-of-scilly-an-illustrated-talk-by-charles-johns/
LOCATION:Hens Horn Court\, Cunnack Close\, Helston\, Cornwall\, TR13 8YE\, United Kingdom
GEO:50.1068565;-5.2698346
X-APPLE-STRUCTURED-LOCATION;VALUE=URI;X-ADDRESS=Hens Horn Court Cunnack Close Helston Cornwall TR13 8YE United Kingdom;X-APPLE-RADIUS=500;X-TITLE=Cunnack Close:geo:-5.2698346,50.1068565
END:VEVENT
BEGIN:VEVENT
DTSTART;TZID=UTC:20240110T193000
DTEND;TZID=UTC:20240110T203000
DTSTAMP:20260420T034136
CREATED:20240109T212524Z
LAST-MODIFIED:20240109T212524Z
UID:10000343-1704915000-1704918600@kernowgoth.org
SUMMARY:Porthcurnick - with Nev Meek
DESCRIPTION:
URL:https://kernowgoth.org/event/porthcurnick-with-nev-meek/
LOCATION:Gerrans Parish Memorial Hall\, Gerrans Hill\, Portscatho\, Cornwall\, TR2 5EE\, United Kingdom
ATTACH;FMTTYPE=image/jpeg:https://kernowgoth.org/wp-content/uploads/2024/01/Poster-Porthcurnick-1.jpg
GEO:50.1778742;-4.9784659
X-APPLE-STRUCTURED-LOCATION;VALUE=URI;X-ADDRESS=Gerrans Parish Memorial Hall Gerrans Hill Portscatho Cornwall TR2 5EE United Kingdom;X-APPLE-RADIUS=500;X-TITLE=Gerrans Hill:geo:-4.9784659,50.1778742
END:VEVENT
BEGIN:VEVENT
DTSTART;TZID=UTC:20240110T193000
DTEND;TZID=UTC:20240110T203000
DTSTAMP:20260420T034136
CREATED:20231208T152657Z
LAST-MODIFIED:20231208T152657Z
UID:10000314-1704915000-1704918600@kernowgoth.org
SUMMARY:'Sets and Spells'\, by Roger Radcliffe
DESCRIPTION:
URL:https://kernowgoth.org/event/sets-and-spells-by-roger-radcliffe/
LOCATION:The Memorial Hall\, Wheal Leisure Close\, Perranporth\, Cornwall\, TR6 0EY\, United Kingdom
GEO:50.3443982;-5.1533282
X-APPLE-STRUCTURED-LOCATION;VALUE=URI;X-ADDRESS=The Memorial Hall Wheal Leisure Close Perranporth Cornwall TR6 0EY United Kingdom;X-APPLE-RADIUS=500;X-TITLE=Wheal Leisure Close:geo:-5.1533282,50.3443982
END:VEVENT
BEGIN:VEVENT
DTSTART;TZID=UTC:20240110T193000
DTEND;TZID=UTC:20240110T203000
DTSTAMP:20260420T034136
CREATED:20230928T013533Z
LAST-MODIFIED:20230928T013533Z
UID:10000226-1704915000-1704918600@kernowgoth.org
SUMMARY:‘Coastline of St Agnes – Sets & Spells 1’\, Roger Radcliffe
DESCRIPTION:
URL:https://kernowgoth.org/event/coastline-of-st-agnes-sets-spells-1-roger-radcliffe/
LOCATION:Gerrans Parish Memorial Hall\, Gerrans Hill\, Portscatho\, Cornwall\, TR2 5EE\, United Kingdom
GEO:50.1778742;-4.9784659
X-APPLE-STRUCTURED-LOCATION;VALUE=URI;X-ADDRESS=Gerrans Parish Memorial Hall Gerrans Hill Portscatho Cornwall TR2 5EE United Kingdom;X-APPLE-RADIUS=500;X-TITLE=Gerrans Hill:geo:-4.9784659,50.1778742
END:VEVENT
BEGIN:VEVENT
DTSTART;TZID=UTC:20240110T193000
DTEND;TZID=UTC:20240110T203000
DTSTAMP:20260420T034136
CREATED:20230814T162234Z
LAST-MODIFIED:20230814T162234Z
UID:10000105-1704915000-1704918600@kernowgoth.org
SUMMARY:'The criminal justice system (The Old Bailey)' - by Ted Raynham
DESCRIPTION:
URL:https://kernowgoth.org/event/the-criminal-justice-system-the-old-bailey-by-ted-raynham/
LOCATION:Padstow Social Club\, The Lawns\, Senders Hill\, Padstow\, Cornwall\, PL28 8DT\, United Kingdom
GEO:50.3678287;-4.8675323
X-APPLE-STRUCTURED-LOCATION;VALUE=URI;X-ADDRESS=Padstow Social Club The Lawns Senders Hill Padstow Cornwall PL28 8DT United Kingdom;X-APPLE-RADIUS=500;X-TITLE=The Lawns\, Senders Hill:geo:-4.8675323,50.3678287
END:VEVENT
BEGIN:VEVENT
DTSTART;TZID=UTC:20240111T193000
DTEND;TZID=UTC:20240111T203000
DTSTAMP:20260420T034136
CREATED:20240109T212225Z
LAST-MODIFIED:20240109T212225Z
UID:10000342-1705001400-1705005000@kernowgoth.org
SUMMARY:St Dennis Schools - 200 Years of Education
DESCRIPTION:
URL:https://kernowgoth.org/event/st-dennis-schools-200-years-of-education/
LOCATION:ClayTAWC\, The Old School\, Fore Street\, St Dennis\, Cornwall\, PL26 8AF\, United Kingdom
ATTACH;FMTTYPE=image/jpeg:https://kernowgoth.org/wp-content/uploads/2024/01/Poster-St-Dennis-Schools-1.jpg
ORGANIZER;CN="St Denys and District Old Cornwall Society":MAILTO:stdenys.ocs@gmail.com
GEO:50.3836443;-4.8831435
X-APPLE-STRUCTURED-LOCATION;VALUE=URI;X-ADDRESS=ClayTAWC The Old School Fore Street St Dennis Cornwall PL26 8AF United Kingdom;X-APPLE-RADIUS=500;X-TITLE=The Old School\, Fore Street:geo:-4.8831435,50.3836443
END:VEVENT
BEGIN:VEVENT
DTSTART;TZID=UTC:20240112T123000
DTEND;TZID=UTC:20240112T140000
DTSTAMP:20260420T034136
CREATED:20230821T174617Z
LAST-MODIFIED:20230821T174631Z
UID:10000154-1705062600-1705068000@kernowgoth.org
SUMMARY:New Year's Lunch
DESCRIPTION:At The Bay Tree\, details TBC.
URL:https://kernowgoth.org/event/new-year-lunch-goonhavern/
LOCATION:Cornwall
END:VEVENT
BEGIN:VEVENT
DTSTART;TZID=UTC:20240112T143000
DTEND;TZID=UTC:20240112T153000
DTSTAMP:20260420T034136
CREATED:20230806T073703Z
LAST-MODIFIED:20230806T074151Z
UID:10000034-1705069800-1705073400@kernowgoth.org
SUMMARY:‘The Camera Never Lies’ - Frank Argall
DESCRIPTION:
URL:https://kernowgoth.org/event/the-camera-never-lies-frank-argall/
LOCATION:Emily Hobhouse Room\, The Public Hall\, West Street\, Liskeard\, Cornwall\, PL14 6BW\, United Kingdom
ORGANIZER;CN="Liskeard Old Cornwall Society":MAILTO:contactbrian@btinternet.com
GEO:50.4556965;-4.4661465
X-APPLE-STRUCTURED-LOCATION;VALUE=URI;X-ADDRESS=Emily Hobhouse Room The Public Hall West Street Liskeard Cornwall PL14 6BW United Kingdom;X-APPLE-RADIUS=500;X-TITLE=The Public Hall\, West Street:geo:-4.4661465,50.4556965
END:VEVENT
BEGIN:VEVENT
DTSTART;TZID=UTC:20240112T193000
DTEND;TZID=UTC:20240112T193000
DTSTAMP:20260420T034136
CREATED:20230806T081007Z
LAST-MODIFIED:20230806T081812Z
UID:10000042-1705087800-1705087800@kernowgoth.org
SUMMARY:Musical Evening - Stamp & Go!
DESCRIPTION:Meeting attendance – £1 for members and £2.50 for non-members.
URL:https://kernowgoth.org/event/musical-evening-stamp-go/
LOCATION:The Day Care Centre\, Commercial Road\, Hayle\, Cornwall\, TR27 4DE\, United Kingdom
ORGANIZER;CN="Hayle Old Cornwall Society":MAILTO:trevor.smitheram@btopenworld.com
GEO:50.1901385;-5.4152156
X-APPLE-STRUCTURED-LOCATION;VALUE=URI;X-ADDRESS=The Day Care Centre Commercial Road Hayle Cornwall TR27 4DE United Kingdom;X-APPLE-RADIUS=500;X-TITLE=Commercial Road:geo:-5.4152156,50.1901385
END:VEVENT
BEGIN:VEVENT
DTSTART;TZID=UTC:20240113T143000
DTEND;TZID=UTC:20240113T153000
DTSTAMP:20260420T034136
CREATED:20230806T120013Z
LAST-MODIFIED:20230806T120632Z
UID:10000056-1705156200-1705159800@kernowgoth.org
SUMMARY:'Daniel Gumb' - Brian Oldham
DESCRIPTION:
URL:https://kernowgoth.org/event/daniel-gumb-brian-oldham/
LOCATION:St Martin’s Hall\, St Martin's Road\, Looe\, Cornwall\, PL13 1FA\, United Kingdom
GEO:50.3671271;-4.4528033
X-APPLE-STRUCTURED-LOCATION;VALUE=URI;X-ADDRESS=St Martin’s Hall St Martin's Road Looe Cornwall PL13 1FA United Kingdom;X-APPLE-RADIUS=500;X-TITLE=St Martin's Road:geo:-4.4528033,50.3671271
END:VEVENT
BEGIN:VEVENT
DTSTART;TZID=UTC:20240113T190000
DTEND;TZID=UTC:20240113T203000
DTSTAMP:20260420T034136
CREATED:20230814T165752Z
LAST-MODIFIED:20230814T165752Z
UID:10000117-1705172400-1705177800@kernowgoth.org
SUMMARY:Rillaton Wassail (venue TBC)
DESCRIPTION:
URL:https://kernowgoth.org/event/rillaton-wassail-venue-tbc/
LOCATION:Cornwall
END:VEVENT
BEGIN:VEVENT
DTSTART;TZID=UTC:20240115T140000
DTEND;TZID=UTC:20240115T150000
DTSTAMP:20260420T034136
CREATED:20230812T181153Z
LAST-MODIFIED:20230812T181153Z
UID:10000089-1705327200-1705330800@kernowgoth.org
SUMMARY:'Trengrouse' - Priscilla Oates
DESCRIPTION:
URL:https://kernowgoth.org/event/trengrouse-priscilla-oates/
LOCATION:Kea Community Centre\, 47 Old Coach Rd\, Playing Place\, Truro\, Cornwall\, TR3 6ET\, United Kingdom
GEO:50.2335053;-5.0705334
X-APPLE-STRUCTURED-LOCATION;VALUE=URI;X-ADDRESS=Kea Community Centre 47 Old Coach Rd Playing Place Truro Cornwall TR3 6ET United Kingdom;X-APPLE-RADIUS=500;X-TITLE=47 Old Coach Rd:geo:-5.0705334,50.2335053
END:VEVENT
BEGIN:VEVENT
DTSTART;TZID=UTC:20240115T183000
DTEND;TZID=UTC:20240115T203000
DTSTAMP:20260420T034136
CREATED:20230908T095328Z
LAST-MODIFIED:20240104T152500Z
UID:10000200-1705343400-1705350600@kernowgoth.org
SUMMARY:St Columb OCS January Get-together
DESCRIPTION:
URL:https://kernowgoth.org/event/st-columb-ocs-january-get-together/
LOCATION:The Manor Arms\, Atlantic Reach\, Newquay\, Cornwall\, TR8 4LX\, United Kingdom
ATTACH;FMTTYPE=image/jpeg:https://kernowgoth.org/wp-content/uploads/2023/09/poster-Jan24.jpg
GEO:50.4019073;-4.9523124
X-APPLE-STRUCTURED-LOCATION;VALUE=URI;X-ADDRESS=The Manor Arms Atlantic Reach Newquay Cornwall TR8 4LX United Kingdom;X-APPLE-RADIUS=500;X-TITLE=Atlantic Reach:geo:-4.9523124,50.4019073
END:VEVENT
BEGIN:VEVENT
DTSTART;TZID=UTC:20240115T191500
DTEND;TZID=UTC:20240115T203000
DTSTAMP:20260420T034136
CREATED:20231223T104910Z
LAST-MODIFIED:20231223T104910Z
UID:10000328-1705346100-1705350600@kernowgoth.org
SUMMARY:‘Missing from St Just’ by Brian Cuddy
DESCRIPTION:This will be a projected walk around St Just and Pendeen\, talking about their history and about what was there and what isn’t now – or has been altered.
URL:https://kernowgoth.org/event/missing-from-st-just-by-brian-cuddy/
LOCATION:Billiard Room\, Landithy Hall\, Church Road\, Madron\, Cornwall\, TR20 8SW\, United Kingdom
ATTACH;FMTTYPE=image/jpeg:https://kernowgoth.org/wp-content/uploads/2023/12/January-Brian-Cuddy.jpg
GEO:50.1324492;-5.5648907
X-APPLE-STRUCTURED-LOCATION;VALUE=URI;X-ADDRESS=Billiard Room Landithy Hall Church Road Madron Cornwall TR20 8SW United Kingdom;X-APPLE-RADIUS=500;X-TITLE=Church Road:geo:-5.5648907,50.1324492
END:VEVENT
BEGIN:VEVENT
DTSTART;TZID=UTC:20240115T193000
DTEND;TZID=UTC:20240115T203000
DTSTAMP:20260420T034136
CREATED:20230908T084302Z
LAST-MODIFIED:20230908T084302Z
UID:10000192-1705347000-1705350600@kernowgoth.org
SUMMARY:'Graves Sawle Family of Penrice'\, by Amanda Allen
DESCRIPTION:
URL:https://kernowgoth.org/event/graves-sawle-family-of-penrice-by-amanda-allen/
LOCATION:Pentewan Village Hall\, 16 Glentowan Road\, Pentewan\, Cornwall\, PL26 6DB\, United Kingdom
GEO:50.2927954;-4.7821365
X-APPLE-STRUCTURED-LOCATION;VALUE=URI;X-ADDRESS=Pentewan Village Hall 16 Glentowan Road Pentewan Cornwall PL26 6DB United Kingdom;X-APPLE-RADIUS=500;X-TITLE=16 Glentowan Road:geo:-4.7821365,50.2927954
END:VEVENT
BEGIN:VEVENT
DTSTART;TZID=UTC:20240116T143000
DTEND;TZID=UTC:20240116T153000
DTSTAMP:20260420T034136
CREATED:20230807T165111Z
LAST-MODIFIED:20240110T134624Z
UID:10000071-1705415400-1705419000@kernowgoth.org
SUMMARY:'Excavating The Site at Trevemper Bridge during the Spring of 2023' - Sean Taylor
DESCRIPTION:
URL:https://kernowgoth.org/event/excavating-the-site-at-trevemper-bridge-during-the-spring-of-2023-sean-taylor/
LOCATION:WI Hall\, Crantock Street\, Newquay\, Cornwall\, TR7 1LB\, United Kingdom
ATTACH;FMTTYPE=image/jpeg:https://kernowgoth.org/wp-content/uploads/2023/08/417524566_896463142183855_1170249968018662099_n.jpeg
ORGANIZER;CN="Newquay Old Cornwall Society":MAILTO:nocs.archive@gmail.com
GEO:50.4132209;-5.0894324
X-APPLE-STRUCTURED-LOCATION;VALUE=URI;X-ADDRESS=WI Hall Crantock Street Newquay Cornwall TR7 1LB United Kingdom;X-APPLE-RADIUS=500;X-TITLE=Crantock Street:geo:-5.0894324,50.4132209
END:VEVENT
BEGIN:VEVENT
DTSTART;TZID=UTC:20240116T191500
DTEND;TZID=UTC:20240116T203000
DTSTAMP:20260420T034136
CREATED:20231105T145720Z
LAST-MODIFIED:20231105T145720Z
UID:10000275-1705432500-1705437000@kernowgoth.org
SUMMARY:Penzance OCS Members' Evening
DESCRIPTION:
URL:https://kernowgoth.org/event/penzance-ocs-members-evening/
LOCATION:The Salvation Army Hall\, Queen Street\, Penzance\, Cornwall\, TR18 4BH\, United Kingdom
ORGANIZER;CN="Penzance OCS":MAILTO:penzanceoldcornwallsociety@gmail.com
GEO:50.1173053;-5.5362891
X-APPLE-STRUCTURED-LOCATION;VALUE=URI;X-ADDRESS=The Salvation Army Hall Queen Street Penzance Cornwall TR18 4BH United Kingdom;X-APPLE-RADIUS=500;X-TITLE=Queen Street:geo:-5.5362891,50.1173053
END:VEVENT
BEGIN:VEVENT
DTSTART;TZID=UTC:20240116T193000
DTEND;TZID=UTC:20240116T203000
DTSTAMP:20260420T034136
CREATED:20230804T133438Z
LAST-MODIFIED:20240103T095310Z
UID:10000016-1705433400-1705437000@kernowgoth.org
SUMMARY:From Pilchards to Tourism - Len Sheppard
DESCRIPTION:
URL:https://kernowgoth.org/event/from-pilchards-to-tourism-len-sheppard/
LOCATION:The Wesley Centre\, Chapel Street\, Camborne\, Cornwall\, TR14 8EG\, United Kingdom
CATEGORIES:Talk
ATTACH;FMTTYPE=image/jpeg:https://kernowgoth.org/wp-content/uploads/2023/08/Camborne-Sheppard.jpeg
ORGANIZER;CN="Camborne Old Cornwall Society":MAILTO:jondvy@gmail.com
GEO:50.21285;-5.2996028
X-APPLE-STRUCTURED-LOCATION;VALUE=URI;X-ADDRESS=The Wesley Centre Chapel Street Camborne Cornwall TR14 8EG United Kingdom;X-APPLE-RADIUS=500;X-TITLE=Chapel Street:geo:-5.2996028,50.21285
END:VEVENT
BEGIN:VEVENT
DTSTART;TZID=UTC:20240117T193000
DTEND;TZID=UTC:20240117T203000
DTSTAMP:20260420T034136
CREATED:20230907T102632Z
LAST-MODIFIED:20230907T102632Z
UID:10000184-1705519800-1705523400@kernowgoth.org
SUMMARY:'History of Forensics'\, Mr S. Dell
DESCRIPTION:
URL:https://kernowgoth.org/event/history-of-forensics-mr-s-dell/
LOCATION:Torpoint Council Chambers\, 1-3 Buller Road\, Torpoint\, Cornwall\, PL11 2LD\, United Kingdom
GEO:50.3760932;-4.2009581
X-APPLE-STRUCTURED-LOCATION;VALUE=URI;X-ADDRESS=Torpoint Council Chambers 1-3 Buller Road Torpoint Cornwall PL11 2LD United Kingdom;X-APPLE-RADIUS=500;X-TITLE=1-3 Buller Road:geo:-4.2009581,50.3760932
END:VEVENT
BEGIN:VEVENT
DTSTART;TZID=UTC:20240118T140000
DTEND;TZID=UTC:20240118T150000
DTSTAMP:20260420T034136
CREATED:20230814T165704Z
LAST-MODIFIED:20230814T165704Z
UID:10000116-1705586400-1705590000@kernowgoth.org
SUMMARY:'Bodmin Wassail: 400 years of unbroken tradition'
DESCRIPTION:One of the oldest\, unbroken traditions in the UK and right on our doorstep! Members of the Bodmin Wassailers will be here to take you through exactly what has\, and is\, happening.
URL:https://kernowgoth.org/event/bodmin-wassail-400-years-of-unbroken-tradition/
LOCATION:Callington Town Hall\, New Road\, Callington\, Cornwall\, PL17 7BD\, United Kingdom
GEO:50.5021689;-4.314565
X-APPLE-STRUCTURED-LOCATION;VALUE=URI;X-ADDRESS=Callington Town Hall New Road Callington Cornwall PL17 7BD United Kingdom;X-APPLE-RADIUS=500;X-TITLE=New Road:geo:-4.314565,50.5021689
END:VEVENT
BEGIN:VEVENT
DTSTART;TZID=UTC:20240119T140000
DTEND;TZID=UTC:20240119T153000
DTSTAMP:20260420T034136
CREATED:20230817T143940Z
LAST-MODIFIED:20230817T143940Z
UID:10000136-1705672800-1705678200@kernowgoth.org
SUMMARY:Afternoon tea with talk and sharing stories
DESCRIPTION:
URL:https://kernowgoth.org/event/afternoon-tea-with-talk-and-sharing-stories/
LOCATION:The Wesley Rooms\, Wesley Street\, Redruth\, Cornwall\, TR15 2EG\, United Kingdom
GEO:50.2340757;-5.2233432
X-APPLE-STRUCTURED-LOCATION;VALUE=URI;X-ADDRESS=The Wesley Rooms Wesley Street Redruth Cornwall TR15 2EG United Kingdom;X-APPLE-RADIUS=500;X-TITLE=Wesley Street:geo:-5.2233432,50.2340757
END:VEVENT
BEGIN:VEVENT
DTSTART;TZID=UTC:20240120T183000
DTEND;TZID=UTC:20240120T200000
DTSTAMP:20260420T034136
CREATED:20231003T155616Z
LAST-MODIFIED:20231003T155616Z
UID:10000244-1705775400-1705780800@kernowgoth.org
SUMMARY:Dinner at St Buryan Inn - Ian Groves
DESCRIPTION:6.30pm for 7.00pm – contact St Buryan OCS for more details.
URL:https://kernowgoth.org/event/dinner-at-st-buryan-inn-ian-groves/
LOCATION:The St Buryan Inn
END:VEVENT
BEGIN:VEVENT
DTSTART;TZID=UTC:20240123T143000
DTEND;TZID=UTC:20240123T160000
DTSTAMP:20260420T034136
CREATED:20231210T103924Z
LAST-MODIFIED:20240117T160141Z
UID:10000320-1706020200-1706025600@kernowgoth.org
SUMMARY:Brenda\, our Second Cornish Nightingale - Sue and Chris Ellery Hill with Chris Trevena
DESCRIPTION:
URL:https://kernowgoth.org/event/brenda-our-second-cornish-nightingale-sue-and-chris-ellery-hill-with-chris-trevena/
LOCATION:Porthleven Public Hall\, 15 Wellington Road\, Porthleven\, Cornwall\, TR13 9AB\, United Kingdom
ATTACH;FMTTYPE=image/jpeg:https://kernowgoth.org/wp-content/uploads/2023/12/Porthleven-OCS-January-2024-scaled.jpg
GEO:50.0865275;-5.3134051
X-APPLE-STRUCTURED-LOCATION;VALUE=URI;X-ADDRESS=Porthleven Public Hall 15 Wellington Road Porthleven Cornwall TR13 9AB United Kingdom;X-APPLE-RADIUS=500;X-TITLE=15 Wellington Road:geo:-5.3134051,50.0865275
END:VEVENT
BEGIN:VEVENT
DTSTART;TZID=UTC:20240123T190000
DTEND;TZID=UTC:20240123T190000
DTSTAMP:20260420T034136
CREATED:20231117T181248Z
LAST-MODIFIED:20231117T181523Z
UID:10000282-1706036400-1706036400@kernowgoth.org
SUMMARY:Surveyor for the National Trust\, from Andrew Banner
DESCRIPTION:
URL:https://kernowgoth.org/event/surveyor-for-the-national-trust-from-andrew-banner/
LOCATION:TBC
END:VEVENT
BEGIN:VEVENT
DTSTART;TZID=UTC:20240125T190000
DTEND;TZID=UTC:20240125T200000
DTSTAMP:20260420T034136
CREATED:20240109T211318Z
LAST-MODIFIED:20240109T213115Z
UID:10000339-1706209200-1706212800@kernowgoth.org
SUMMARY:'Pentewan Holiday 1922' - Illustrated Talk by Robert Evans
DESCRIPTION:
URL:https://kernowgoth.org/event/pentewan-holiday-1922-illustrated-talk-by-robert-evans/
LOCATION:Luxulyan Memorial Institute\, Luxulyan\, Bodmin\, Cornwall\, PL30 5EB\, United Kingdom
CATEGORIES:Talk
ATTACH;FMTTYPE=image/jpeg:https://kernowgoth.org/wp-content/uploads/2024/01/417427035_690027076601333_6982657406250080327_n.jpeg
GEO:50.3895655;-4.7438809
X-APPLE-STRUCTURED-LOCATION;VALUE=URI;X-ADDRESS=Luxulyan Memorial Institute Luxulyan Bodmin Cornwall PL30 5EB United Kingdom;X-APPLE-RADIUS=500;X-TITLE=Luxulyan:geo:-4.7438809,50.3895655
END:VEVENT
BEGIN:VEVENT
DTSTART;TZID=UTC:20240126T193000
DTEND;TZID=UTC:20240126T203000
DTSTAMP:20260420T034136
CREATED:20230821T174726Z
LAST-MODIFIED:20230821T174726Z
UID:10000155-1706297400-1706301000@kernowgoth.org
SUMMARY:'Mining in Perranzabuloe Parish (Part 4)\, by Derek Brooks
DESCRIPTION:
URL:https://kernowgoth.org/event/mining-in-perranzabuloe-parish-part-4-by-derek-brooks/
LOCATION:Goonhavern Village Hall\, Goonhavern\, Truro\, Cornwall\, TR4 9NW\, United Kingdom
GEO:50.3383624;-5.109068
X-APPLE-STRUCTURED-LOCATION;VALUE=URI;X-ADDRESS=Goonhavern Village Hall Goonhavern Truro Cornwall TR4 9NW United Kingdom;X-APPLE-RADIUS=500;X-TITLE=Goonhavern:geo:-5.109068,50.3383624
END:VEVENT
BEGIN:VEVENT
DTSTART;TZID=UTC:20240127T190000
DTEND;TZID=UTC:20240127T200000
DTSTAMP:20260420T034136
CREATED:20230907T081601Z
LAST-MODIFIED:20240125T113044Z
UID:10000177-1706382000-1706385600@kernowgoth.org
SUMMARY:'What have the Romans ever done for Roche?'\, Sean Taylor MCIFA
DESCRIPTION:
URL:https://kernowgoth.org/event/what-have-the-romans-ever-done-for-roche-sean-taylor-mcifa/
LOCATION:The Gott Hall\, Par Green\, Par\, Cornwall\, PL24 2AF\, United Kingdom
CATEGORIES:Talk
ATTACH;FMTTYPE=image/jpeg:https://kernowgoth.org/wp-content/uploads/2023/09/IMG_20240118_204734-scaled.jpg
GEO:50.3506775;-4.7051683
X-APPLE-STRUCTURED-LOCATION;VALUE=URI;X-ADDRESS=The Gott Hall Par Green Par Cornwall PL24 2AF United Kingdom;X-APPLE-RADIUS=500;X-TITLE=Par Green:geo:-4.7051683,50.3506775
END:VEVENT
BEGIN:VEVENT
DTSTART;TZID=UTC:20240129T120000
DTEND;TZID=UTC:20240129T153000
DTSTAMP:20260420T034136
CREATED:20230814T152726Z
LAST-MODIFIED:20230814T152726Z
UID:10000097-1706529600-1706542200@kernowgoth.org
SUMMARY:Society Annual Lunch at 12.00 for 12.30 pm (venue TBA). Followed by a talk at the Parkhouse Centre by Len Tozer
DESCRIPTION:
URL:https://kernowgoth.org/event/society-annual-lunch-at-12-00-for-12-30-pm-venue-tba-followed-by-a-talk-at-the-parkhouse-centre-by-len-tozer/
LOCATION:Cornwall
ORGANIZER;CN="Bude-Stratton and District Old Cornwall Society":MAILTO:budestrattonocs@gmail.com
END:VEVENT
BEGIN:VEVENT
DTSTART;TZID=UTC:20240202T140000
DTEND;TZID=UTC:20240202T153000
DTSTAMP:20260420T034136
CREATED:20230817T144104Z
LAST-MODIFIED:20230817T144104Z
UID:10000137-1706882400-1706887800@kernowgoth.org
SUMMARY:St Euny Feast Celebration
DESCRIPTION:Afternoon meeting with refreshments and entertainment
URL:https://kernowgoth.org/event/st-euny-feast-celebration/
LOCATION:The Wesley Rooms\, Wesley Street\, Redruth\, Cornwall\, TR15 2EG\, United Kingdom
GEO:50.2340757;-5.2233432
X-APPLE-STRUCTURED-LOCATION;VALUE=URI;X-ADDRESS=The Wesley Rooms Wesley Street Redruth Cornwall TR15 2EG United Kingdom;X-APPLE-RADIUS=500;X-TITLE=Wesley Street:geo:-5.2233432,50.2340757
END:VEVENT
BEGIN:VEVENT
DTSTART;TZID=UTC:20240202T193000
DTEND;TZID=UTC:20240202T203000
DTSTAMP:20260420T034136
CREATED:20230806T081106Z
LAST-MODIFIED:20230806T081821Z
UID:10000043-1706902200-1706905800@kernowgoth.org
SUMMARY:Important People in West Cornwall - Michael Murton
DESCRIPTION:Meeting attendance – £1 for members and £2.50 for non-members.
URL:https://kernowgoth.org/event/important-people-in-west-cornwall-michael-murton/
LOCATION:The Day Care Centre\, Commercial Road\, Hayle\, Cornwall\, TR27 4DE\, United Kingdom
ORGANIZER;CN="Hayle Old Cornwall Society":MAILTO:trevor.smitheram@btopenworld.com
GEO:50.1901385;-5.4152156
X-APPLE-STRUCTURED-LOCATION;VALUE=URI;X-ADDRESS=The Day Care Centre Commercial Road Hayle Cornwall TR27 4DE United Kingdom;X-APPLE-RADIUS=500;X-TITLE=Commercial Road:geo:-5.4152156,50.1901385
END:VEVENT
END:VCALENDAR