BEGIN:VCALENDAR
VERSION:2.0
PRODID:-//Kernow Goth - ECPv6.3.4//NONSGML v1.0//EN
CALSCALE:GREGORIAN
METHOD:PUBLISH
X-WR-CALNAME:Kernow Goth
X-ORIGINAL-URL:https://kernowgoth.org
X-WR-CALDESC:Events for Kernow Goth
REFRESH-INTERVAL;VALUE=DURATION:PT1H
X-Robots-Tag:noindex
X-PUBLISHED-TTL:PT1H
BEGIN:VTIMEZONE
TZID:UTC
BEGIN:STANDARD
TZOFFSETFROM:+0000
TZOFFSETTO:+0000
TZNAME:UTC
DTSTART:20240101T000000
END:STANDARD
TZID:Europe/London
BEGIN:DAYLIGHT
TZOFFSETFROM:+0000
TZOFFSETTO:+0100
TZNAME:BST
DTSTART:20240331T010000
END:DAYLIGHT
BEGIN:STANDARD
TZOFFSETFROM:+0100
TZOFFSETTO:+0000
TZNAME:GMT
DTSTART:20241027T010000
END:STANDARD
END:VTIMEZONE
BEGIN:VEVENT
DTSTART;TZID=UTC:20240125T190000
DTEND;TZID=UTC:20240125T200000
DTSTAMP:20260420T064418
CREATED:20240109T211318Z
LAST-MODIFIED:20240109T213115Z
UID:10000339-1706209200-1706212800@kernowgoth.org
SUMMARY:'Pentewan Holiday 1922' - Illustrated Talk by Robert Evans
DESCRIPTION:
URL:https://kernowgoth.org/event/pentewan-holiday-1922-illustrated-talk-by-robert-evans/
LOCATION:Luxulyan Memorial Institute\, Luxulyan\, Bodmin\, Cornwall\, PL30 5EB\, United Kingdom
CATEGORIES:Talk
ATTACH;FMTTYPE=image/jpeg:https://kernowgoth.org/wp-content/uploads/2024/01/417427035_690027076601333_6982657406250080327_n.jpeg
GEO:50.3895655;-4.7438809
X-APPLE-STRUCTURED-LOCATION;VALUE=URI;X-ADDRESS=Luxulyan Memorial Institute Luxulyan Bodmin Cornwall PL30 5EB United Kingdom;X-APPLE-RADIUS=500;X-TITLE=Luxulyan:geo:-4.7438809,50.3895655
END:VEVENT
BEGIN:VEVENT
DTSTART;TZID=UTC:20240126T193000
DTEND;TZID=UTC:20240126T203000
DTSTAMP:20260420T064418
CREATED:20230821T174726Z
LAST-MODIFIED:20230821T174726Z
UID:10000155-1706297400-1706301000@kernowgoth.org
SUMMARY:'Mining in Perranzabuloe Parish (Part 4)\, by Derek Brooks
DESCRIPTION:
URL:https://kernowgoth.org/event/mining-in-perranzabuloe-parish-part-4-by-derek-brooks/
LOCATION:Goonhavern Village Hall\, Goonhavern\, Truro\, Cornwall\, TR4 9NW\, United Kingdom
GEO:50.3383624;-5.109068
X-APPLE-STRUCTURED-LOCATION;VALUE=URI;X-ADDRESS=Goonhavern Village Hall Goonhavern Truro Cornwall TR4 9NW United Kingdom;X-APPLE-RADIUS=500;X-TITLE=Goonhavern:geo:-5.109068,50.3383624
END:VEVENT
BEGIN:VEVENT
DTSTART;TZID=UTC:20240127T190000
DTEND;TZID=UTC:20240127T200000
DTSTAMP:20260420T064418
CREATED:20230907T081601Z
LAST-MODIFIED:20240125T113044Z
UID:10000177-1706382000-1706385600@kernowgoth.org
SUMMARY:'What have the Romans ever done for Roche?'\, Sean Taylor MCIFA
DESCRIPTION:
URL:https://kernowgoth.org/event/what-have-the-romans-ever-done-for-roche-sean-taylor-mcifa/
LOCATION:The Gott Hall\, Par Green\, Par\, Cornwall\, PL24 2AF\, United Kingdom
CATEGORIES:Talk
ATTACH;FMTTYPE=image/jpeg:https://kernowgoth.org/wp-content/uploads/2023/09/IMG_20240118_204734-scaled.jpg
GEO:50.3506775;-4.7051683
X-APPLE-STRUCTURED-LOCATION;VALUE=URI;X-ADDRESS=The Gott Hall Par Green Par Cornwall PL24 2AF United Kingdom;X-APPLE-RADIUS=500;X-TITLE=Par Green:geo:-4.7051683,50.3506775
END:VEVENT
BEGIN:VEVENT
DTSTART;TZID=UTC:20240129T120000
DTEND;TZID=UTC:20240129T153000
DTSTAMP:20260420T064418
CREATED:20230814T152726Z
LAST-MODIFIED:20230814T152726Z
UID:10000097-1706529600-1706542200@kernowgoth.org
SUMMARY:Society Annual Lunch at 12.00 for 12.30 pm (venue TBA). Followed by a talk at the Parkhouse Centre by Len Tozer
DESCRIPTION:
URL:https://kernowgoth.org/event/society-annual-lunch-at-12-00-for-12-30-pm-venue-tba-followed-by-a-talk-at-the-parkhouse-centre-by-len-tozer/
LOCATION:Cornwall
ORGANIZER;CN="Bude-Stratton and District Old Cornwall Society":MAILTO:budestrattonocs@gmail.com
END:VEVENT
BEGIN:VEVENT
DTSTART;TZID=UTC:20240202T140000
DTEND;TZID=UTC:20240202T153000
DTSTAMP:20260420T064418
CREATED:20230817T144104Z
LAST-MODIFIED:20230817T144104Z
UID:10000137-1706882400-1706887800@kernowgoth.org
SUMMARY:St Euny Feast Celebration
DESCRIPTION:Afternoon meeting with refreshments and entertainment
URL:https://kernowgoth.org/event/st-euny-feast-celebration/
LOCATION:The Wesley Rooms\, Wesley Street\, Redruth\, Cornwall\, TR15 2EG\, United Kingdom
GEO:50.2340757;-5.2233432
X-APPLE-STRUCTURED-LOCATION;VALUE=URI;X-ADDRESS=The Wesley Rooms Wesley Street Redruth Cornwall TR15 2EG United Kingdom;X-APPLE-RADIUS=500;X-TITLE=Wesley Street:geo:-5.2233432,50.2340757
END:VEVENT
BEGIN:VEVENT
DTSTART;TZID=UTC:20240202T193000
DTEND;TZID=UTC:20240202T203000
DTSTAMP:20260420T064418
CREATED:20230806T081106Z
LAST-MODIFIED:20230806T081821Z
UID:10000043-1706902200-1706905800@kernowgoth.org
SUMMARY:Important People in West Cornwall - Michael Murton
DESCRIPTION:Meeting attendance – £1 for members and £2.50 for non-members.
URL:https://kernowgoth.org/event/important-people-in-west-cornwall-michael-murton/
LOCATION:The Day Care Centre\, Commercial Road\, Hayle\, Cornwall\, TR27 4DE\, United Kingdom
ORGANIZER;CN="Hayle Old Cornwall Society":MAILTO:trevor.smitheram@btopenworld.com
GEO:50.1901385;-5.4152156
X-APPLE-STRUCTURED-LOCATION;VALUE=URI;X-ADDRESS=The Day Care Centre Commercial Road Hayle Cornwall TR27 4DE United Kingdom;X-APPLE-RADIUS=500;X-TITLE=Commercial Road:geo:-5.4152156,50.1901385
END:VEVENT
BEGIN:VEVENT
DTSTART;TZID=UTC:20240205T191500
DTEND;TZID=UTC:20240205T203000
DTSTAMP:20260420T064418
CREATED:20230812T172344Z
LAST-MODIFIED:20230812T172344Z
UID:10000080-1707160500-1707165000@kernowgoth.org
SUMMARY:'HMS Warspite' - Martin Brockman
DESCRIPTION:
URL:https://kernowgoth.org/event/hms-warspite-martin-brockman/
LOCATION:Probus Village Hall\, Amelia Close\, Probus\, Truro\, Cornwall\, TR2 4NB\, United Kingdom
GEO:50.2923902;-4.9537417
X-APPLE-STRUCTURED-LOCATION;VALUE=URI;X-ADDRESS=Probus Village Hall Amelia Close Probus Truro Cornwall TR2 4NB United Kingdom;X-APPLE-RADIUS=500;X-TITLE=Amelia Close:geo:-4.9537417,50.2923902
END:VEVENT
BEGIN:VEVENT
DTSTART;TZID=UTC:20240205T193000
DTEND;TZID=UTC:20240205T203000
DTSTAMP:20260420T064418
CREATED:20231003T155721Z
LAST-MODIFIED:20231003T155721Z
UID:10000245-1707161400-1707165000@kernowgoth.org
SUMMARY:Folklore and Practice in Health Care - Charlotte McKenzie
DESCRIPTION:
URL:https://kernowgoth.org/event/folklore-and-practice-in-health-care-charlotte-mckenzie/
LOCATION:St Buryan Parish Rooms\, St Buryan\, Cornwall\, United Kingdom
GEO:50.075155;-5.6216989
X-APPLE-STRUCTURED-LOCATION;VALUE=URI;X-ADDRESS=St Buryan Parish Rooms St Buryan Cornwall United Kingdom;X-APPLE-RADIUS=500;X-TITLE=St Buryan:geo:-5.6216989,50.075155
END:VEVENT
BEGIN:VEVENT
DTSTART;TZID=UTC:20240206T191500
DTEND;TZID=UTC:20240206T203000
DTSTAMP:20260420T064418
CREATED:20230818T143111Z
LAST-MODIFIED:20230818T143111Z
UID:10000148-1707246900-1707251400@kernowgoth.org
SUMMARY:'Gorran Haven' by Michael Bunney
DESCRIPTION:
URL:https://kernowgoth.org/event/gorran-haven-by-michael-bunney/
LOCATION:Carnon Downs Village Hall\, Tregye Road\, Carnon Downs\, Cornwall\, TR3 6GH\, United Kingdom
GEO:50.22243;-5.0846859
X-APPLE-STRUCTURED-LOCATION;VALUE=URI;X-ADDRESS=Carnon Downs Village Hall Tregye Road Carnon Downs Cornwall TR3 6GH United Kingdom;X-APPLE-RADIUS=500;X-TITLE=Tregye Road:geo:-5.0846859,50.22243
END:VEVENT
BEGIN:VEVENT
DTSTART;TZID=UTC:20240207T190000
DTEND;TZID=UTC:20240207T200000
DTSTAMP:20260420T064418
CREATED:20230928T020311Z
LAST-MODIFIED:20240117T111133Z
UID:10000237-1707332400-1707336000@kernowgoth.org
SUMMARY:'Early Mineral Railways in Cornwall': an illustrated talk by David Ager
DESCRIPTION:
URL:https://kernowgoth.org/event/early-mineral-railways-in-cornwall-an-illustrated-talk-by-david-ager/
LOCATION:Hens Horn Court\, Cunnack Close\, Helston\, Cornwall\, TR13 8YE\, United Kingdom
GEO:50.1068565;-5.2698346
X-APPLE-STRUCTURED-LOCATION;VALUE=URI;X-ADDRESS=Hens Horn Court Cunnack Close Helston Cornwall TR13 8YE United Kingdom;X-APPLE-RADIUS=500;X-TITLE=Cunnack Close:geo:-5.2698346,50.1068565
END:VEVENT
BEGIN:VEVENT
DTSTART;TZID=UTC:20240207T193000
DTEND;TZID=UTC:20240207T203000
DTSTAMP:20260420T064418
CREATED:20230814T162344Z
LAST-MODIFIED:20230814T162344Z
UID:10000106-1707334200-1707337800@kernowgoth.org
SUMMARY:'Illuminating our Lantern Crosses: Late medieval sculpture in Cornwall' - by Andrew Langdon.
DESCRIPTION:
URL:https://kernowgoth.org/event/illuminating-our-lantern-crosses-late-medieval-sculpture-in-cornwall-by-andrew-langdon/
LOCATION:Padstow Social Club\, The Lawns\, Senders Hill\, Padstow\, Cornwall\, PL28 8DT\, United Kingdom
GEO:50.3678287;-4.8675323
X-APPLE-STRUCTURED-LOCATION;VALUE=URI;X-ADDRESS=Padstow Social Club The Lawns Senders Hill Padstow Cornwall PL28 8DT United Kingdom;X-APPLE-RADIUS=500;X-TITLE=The Lawns\, Senders Hill:geo:-4.8675323,50.3678287
END:VEVENT
BEGIN:VEVENT
DTSTART;TZID=Europe/London:20240208T190000
DTEND;TZID=Europe/London:20240208T200000
DTSTAMP:20260420T064418
CREATED:20240129T104627Z
LAST-MODIFIED:20240129T104627Z
UID:10000346-1707418800-1707422400@kernowgoth.org
SUMMARY:The Cornish Commotion and the Prayer Book Rebellion
DESCRIPTION: 
URL:https://kernowgoth.org/event/the-cornish-commotion-and-the-prayer-book-rebellion/
LOCATION:Cury Village Hall\, Cury\, Helston\, Cornwall\, TR12 7BH\, United Kingdom
CATEGORIES:Talk
ATTACH;FMTTYPE=image/jpeg:https://kernowgoth.org/wp-content/uploads/2024/01/35898C50-A09D-4862-BF8F-391BF614117A.jpeg
ORGANIZER;CN="Cury and Gunwalloe Old Cornwall Society":MAILTO:john_northfield@sky.com
GEO:50.0491965;-5.2356604
X-APPLE-STRUCTURED-LOCATION;VALUE=URI;X-ADDRESS=Cury Village Hall Cury Helston Cornwall TR12 7BH United Kingdom;X-APPLE-RADIUS=500;X-TITLE=Cury:geo:-5.2356604,50.0491965
END:VEVENT
BEGIN:VEVENT
DTSTART;TZID=Europe/London:20240208T193000
DTEND;TZID=Europe/London:20240208T203000
DTSTAMP:20260420T064418
CREATED:20240115T165544Z
LAST-MODIFIED:20240115T165544Z
UID:10000344-1707420600-1707424200@kernowgoth.org
SUMMARY:'St Dennis War Memorial' - a talk by Tim Trevenna
DESCRIPTION:
URL:https://kernowgoth.org/event/st-dennis-war-memorial-a-talk-by-tim-trevenna/
LOCATION:ClayTAWC\, The Old School\, Fore Street\, St Dennis\, Cornwall\, PL26 8AF\, United Kingdom
CATEGORIES:Talk
ATTACH;FMTTYPE=image/png:https://kernowgoth.org/wp-content/uploads/2024/01/Poster.-8th-Feb.-Tim-Trevenna.-St-Dennis-Old-Cornwall-Society.png
ORGANIZER;CN="St Denys and District Old Cornwall Society":MAILTO:stdenys.ocs@gmail.com
GEO:50.3836443;-4.8831435
X-APPLE-STRUCTURED-LOCATION;VALUE=URI;X-ADDRESS=ClayTAWC The Old School Fore Street St Dennis Cornwall PL26 8AF United Kingdom;X-APPLE-RADIUS=500;X-TITLE=The Old School\, Fore Street:geo:-4.8831435,50.3836443
END:VEVENT
BEGIN:VEVENT
DTSTART;TZID=UTC:20240209T143000
DTEND;TZID=UTC:20240209T153000
DTSTAMP:20260420T064418
CREATED:20230806T073745Z
LAST-MODIFIED:20230806T074141Z
UID:10000035-1707489000-1707492600@kernowgoth.org
SUMMARY:‘Letters from Australia’ - Martin Eddy
DESCRIPTION:
URL:https://kernowgoth.org/event/letters-from-australia-martin-eddy/
LOCATION:Emily Hobhouse Room\, The Public Hall\, West Street\, Liskeard\, Cornwall\, PL14 6BW\, United Kingdom
ORGANIZER;CN="Liskeard Old Cornwall Society":MAILTO:contactbrian@btinternet.com
GEO:50.4556965;-4.4661465
X-APPLE-STRUCTURED-LOCATION;VALUE=URI;X-ADDRESS=Emily Hobhouse Room The Public Hall West Street Liskeard Cornwall PL14 6BW United Kingdom;X-APPLE-RADIUS=500;X-TITLE=The Public Hall\, West Street:geo:-4.4661465,50.4556965
END:VEVENT
BEGIN:VEVENT
DTSTART;TZID=UTC:20240210T100000
DTEND;TZID=UTC:20240210T170000
DTSTAMP:20260420T064418
CREATED:20230928T013740Z
LAST-MODIFIED:20240320T163241Z
UID:10000227-1707559200-1707584400@kernowgoth.org
SUMMARY:Roseland Music Day @ Memorial Hall
DESCRIPTION:In conjunction with Roseland Music Society\, times TBC
URL:https://kernowgoth.org/event/roseland-music-day-memorial-hall/
LOCATION:Gerrans Parish Memorial Hall\, Gerrans Hill\, Portscatho\, Cornwall\, TR2 5EE\, United Kingdom
CATEGORIES:Community,Music
GEO:50.1778742;-4.9784659
X-APPLE-STRUCTURED-LOCATION;VALUE=URI;X-ADDRESS=Gerrans Parish Memorial Hall Gerrans Hill Portscatho Cornwall TR2 5EE United Kingdom;X-APPLE-RADIUS=500;X-TITLE=Gerrans Hill:geo:-4.9784659,50.1778742
END:VEVENT
BEGIN:VEVENT
DTSTART;TZID=UTC:20240210T143000
DTEND;TZID=UTC:20240210T153000
DTSTAMP:20260420T064418
CREATED:20230806T120055Z
LAST-MODIFIED:20230806T120625Z
UID:10000057-1707575400-1707579000@kernowgoth.org
SUMMARY:'Peggy Price and her Costume Dolls' - Molly Boxall
DESCRIPTION:
URL:https://kernowgoth.org/event/peggy-price-and-her-costume-dolls-molly-boxall/
LOCATION:St Martin’s Hall\, St Martin's Road\, Looe\, Cornwall\, PL13 1FA\, United Kingdom
GEO:50.3671271;-4.4528033
X-APPLE-STRUCTURED-LOCATION;VALUE=URI;X-ADDRESS=St Martin’s Hall St Martin's Road Looe Cornwall PL13 1FA United Kingdom;X-APPLE-RADIUS=500;X-TITLE=St Martin's Road:geo:-4.4528033,50.3671271
END:VEVENT
BEGIN:VEVENT
DTSTART;TZID=UTC:20240212T140000
DTEND;TZID=UTC:20240212T150000
DTSTAMP:20260420T064418
CREATED:20230812T181247Z
LAST-MODIFIED:20230812T181247Z
UID:10000090-1707746400-1707750000@kernowgoth.org
SUMMARY:'Dialect Stories' - Paul Phillips
DESCRIPTION:
URL:https://kernowgoth.org/event/dialect-stories-paul-phillips/
LOCATION:Kea Community Centre\, 47 Old Coach Rd\, Playing Place\, Truro\, Cornwall\, TR3 6ET\, United Kingdom
GEO:50.2335053;-5.0705334
X-APPLE-STRUCTURED-LOCATION;VALUE=URI;X-ADDRESS=Kea Community Centre 47 Old Coach Rd Playing Place Truro Cornwall TR3 6ET United Kingdom;X-APPLE-RADIUS=500;X-TITLE=47 Old Coach Rd:geo:-5.0705334,50.2335053
END:VEVENT
BEGIN:VEVENT
DTSTART;TZID=UTC:20240212T190000
DTEND;TZID=UTC:20240212T203000
DTSTAMP:20260420T064418
CREATED:20230804T130606Z
LAST-MODIFIED:20240102T124139Z
UID:10000004-1707764400-1707769800@kernowgoth.org
SUMMARY:Richard Trevithick\, Local Inventor and Mining Engineer - Kingsley Rickard
DESCRIPTION:
URL:https://kernowgoth.org/event/richard-trevithick-local-inventor-and-mining-engineer-kingsley-rickard/
LOCATION:Carbis Bay Memorial Hall\, 7 Trencrom Lane\, Carbis Bay\,\, St Ives\, Cornwall\, TR26 2TA\, United Kingdom
ATTACH;FMTTYPE=image/jpeg:https://kernowgoth.org/wp-content/uploads/2023/08/IMG_1002.jpg
ORGANIZER;CN="St Ives Old Cornwall Society":MAILTO:stivesoldcornwall@gmail.com
GEO:50.1915991;-5.4619559
X-APPLE-STRUCTURED-LOCATION;VALUE=URI;X-ADDRESS=Carbis Bay Memorial Hall 7 Trencrom Lane Carbis Bay St Ives Cornwall TR26 2TA United Kingdom;X-APPLE-RADIUS=500;X-TITLE=7 Trencrom Lane\, Carbis Bay\,:geo:-5.4619559,50.1915991
END:VEVENT
BEGIN:VEVENT
DTSTART;TZID=UTC:20240212T193000
DTEND;TZID=UTC:20240212T203000
DTSTAMP:20260420T064418
CREATED:20240102T175056Z
LAST-MODIFIED:20240117T160315Z
UID:10000336-1707766200-1707769800@kernowgoth.org
SUMMARY:'Song and Story of Overlooked Cornwall' - Songs and Tales by Richard Trethewey
DESCRIPTION:
URL:https://kernowgoth.org/event/song-and-story-of-overlooked-cornwall-songs-and-tales-by-richard-trethewey/
LOCATION:Mullion Village Hall\, Nansmellyon Road\, Mullion\, Cornwall\, TR12 7DQ\, United Kingdom
CATEGORIES:Music,Talk
ATTACH;FMTTYPE=image/jpeg:https://kernowgoth.org/wp-content/uploads/2024/01/Mullion-OCS-Richard-Trethewey.jpeg
GEO:50.0251919;-5.2445247
X-APPLE-STRUCTURED-LOCATION;VALUE=URI;X-ADDRESS=Mullion Village Hall Nansmellyon Road Mullion Cornwall TR12 7DQ United Kingdom;X-APPLE-RADIUS=500;X-TITLE=Nansmellyon Road:geo:-5.2445247,50.0251919
END:VEVENT
BEGIN:VEVENT
DTSTART;TZID=UTC:20240212T193000
DTEND;TZID=UTC:20240212T203000
DTSTAMP:20260420T064418
CREATED:20231018T112336Z
LAST-MODIFIED:20231018T112336Z
UID:10000257-1707766200-1707769800@kernowgoth.org
SUMMARY:The Cornish Rebellions and Who Was Trelawney? by Simon Dell
DESCRIPTION:
URL:https://kernowgoth.org/event/the-cornish-rebellions-and-who-was-trelawney-by-simon-dell/
LOCATION:White River Community Church\, West Hill\, St Austell\, Cornwall\, PL25 5ET\, United Kingdom
ORGANIZER;CN="St Austell Old Cornwall Society":MAILTO:staustelloldcornwall@outlook.com
GEO:50.3378388;-4.7968317
X-APPLE-STRUCTURED-LOCATION;VALUE=URI;X-ADDRESS=White River Community Church West Hill St Austell Cornwall PL25 5ET United Kingdom;X-APPLE-RADIUS=500;X-TITLE=West Hill:geo:-4.7968317,50.3378388
END:VEVENT
BEGIN:VEVENT
DTSTART;TZID=UTC:20240213T193000
DTEND;TZID=UTC:20240213T203000
DTSTAMP:20260420T064418
CREATED:20230928T010929Z
LAST-MODIFIED:20230928T010929Z
UID:10000218-1707852600-1707856200@kernowgoth.org
SUMMARY:St Just and Pendeen OCS - AGM
DESCRIPTION:
URL:https://kernowgoth.org/event/st-just-and-pendeen-ocs-agm/
LOCATION:Age Concern Centre\, 7 Fore Street\, St Just\, Cornwall\, TR19 7LJ\, United Kingdom
GEO:50.1234928;-5.6796719
X-APPLE-STRUCTURED-LOCATION;VALUE=URI;X-ADDRESS=Age Concern Centre 7 Fore Street St Just Cornwall TR19 7LJ United Kingdom;X-APPLE-RADIUS=500;X-TITLE=7 Fore Street:geo:-5.6796719,50.1234928
END:VEVENT
BEGIN:VEVENT
DTSTART;TZID=Europe/London:20240213T193000
DTEND;TZID=Europe/London:20240213T203000
DTSTAMP:20260420T064418
CREATED:20230821T185905Z
LAST-MODIFIED:20230821T185905Z
UID:10000169-1707852600-1707856200@kernowgoth.org
SUMMARY:'Dialect Stories' by Trevor Smitheram
DESCRIPTION:Cornish raconteur speaks about\, and recounts tales in\, Cornish dialect. Visit www.cornishtrevor.org
URL:https://kernowgoth.org/event/dialect-stories-by-trevor-smitheram/
LOCATION:St George’s Church Hall\, St George's Road\, Truro\, Cornwall\, TR1 3JE\, United Kingdom
GEO:50.2647472;-5.0597734
X-APPLE-STRUCTURED-LOCATION;VALUE=URI;X-ADDRESS=St George’s Church Hall St George's Road Truro Cornwall TR1 3JE United Kingdom;X-APPLE-RADIUS=500;X-TITLE=St George's Road:geo:-5.0597734,50.2647472
END:VEVENT
BEGIN:VEVENT
DTSTART;TZID=UTC:20240214T143000
DTEND;TZID=UTC:20240214T153000
DTSTAMP:20260420T064418
CREATED:20230909T132440Z
LAST-MODIFIED:20230909T132440Z
UID:10000204-1707921000-1707924600@kernowgoth.org
SUMMARY:'Listening to the Enemy'\, by Mike Griffiths
DESCRIPTION:
URL:https://kernowgoth.org/event/listening-to-the-enemy-by-mike-griffiths/
LOCATION:The Shire House Suite\, Priory Park\, Bodmin\, Cornwall\, PL31 2DQ\, United Kingdom
ORGANIZER;CN="Bodmin Old Cornwall Society":MAILTO:honiley47@aol.com
GEO:50.4699535;-4.7172892
X-APPLE-STRUCTURED-LOCATION;VALUE=URI;X-ADDRESS=The Shire House Suite Priory Park Bodmin Cornwall PL31 2DQ United Kingdom;X-APPLE-RADIUS=500;X-TITLE=Priory Park:geo:-4.7172892,50.4699535
END:VEVENT
BEGIN:VEVENT
DTSTART;TZID=UTC:20240214T193000
DTEND;TZID=UTC:20240214T203000
DTSTAMP:20260420T064418
CREATED:20231208T152736Z
LAST-MODIFIED:20231208T152736Z
UID:10000315-1707939000-1707942600@kernowgoth.org
SUMMARY:Recorders' Evening
DESCRIPTION:
URL:https://kernowgoth.org/event/recorders-evening/
LOCATION:The Memorial Hall\, Wheal Leisure Close\, Perranporth\, Cornwall\, TR6 0EY\, United Kingdom
GEO:50.3443982;-5.1533282
X-APPLE-STRUCTURED-LOCATION;VALUE=URI;X-ADDRESS=The Memorial Hall Wheal Leisure Close Perranporth Cornwall TR6 0EY United Kingdom;X-APPLE-RADIUS=500;X-TITLE=Wheal Leisure Close:geo:-5.1533282,50.3443982
END:VEVENT
BEGIN:VEVENT
DTSTART;TZID=UTC:20240214T193000
DTEND;TZID=UTC:20240214T203000
DTSTAMP:20260420T064418
CREATED:20230928T013844Z
LAST-MODIFIED:20240115T122731Z
UID:10000228-1707939000-1707942600@kernowgoth.org
SUMMARY:‘Every Picture Tells a Story - Argall Photographers Part 2’\, Frank Argall
DESCRIPTION:
URL:https://kernowgoth.org/event/every-picture-tells-a-story-argall-photographers-part-2-frank-argall/
LOCATION:Gerrans Parish Memorial Hall\, Gerrans Hill\, Portscatho\, Cornwall\, TR2 5EE\, United Kingdom
ATTACH;FMTTYPE=image/jpeg:https://kernowgoth.org/wp-content/uploads/2023/09/Poster-Argall-Pt2-1.jpg
GEO:50.1778742;-4.9784659
X-APPLE-STRUCTURED-LOCATION;VALUE=URI;X-ADDRESS=Gerrans Parish Memorial Hall Gerrans Hill Portscatho Cornwall TR2 5EE United Kingdom;X-APPLE-RADIUS=500;X-TITLE=Gerrans Hill:geo:-4.9784659,50.1778742
END:VEVENT
BEGIN:VEVENT
DTSTART;TZID=UTC:20240215T140000
DTEND;TZID=UTC:20240215T150000
DTSTAMP:20260420T064418
CREATED:20230814T165842Z
LAST-MODIFIED:20230814T165842Z
UID:10000118-1708005600-1708009200@kernowgoth.org
SUMMARY:'Memories of a Town Crier' - Rob Tremayne
DESCRIPTION:
URL:https://kernowgoth.org/event/memories-of-a-town-crier-rob-tremayne/
LOCATION:Callington Town Hall\, New Road\, Callington\, Cornwall\, PL17 7BD\, United Kingdom
GEO:50.5021689;-4.314565
X-APPLE-STRUCTURED-LOCATION;VALUE=URI;X-ADDRESS=Callington Town Hall New Road Callington Cornwall PL17 7BD United Kingdom;X-APPLE-RADIUS=500;X-TITLE=New Road:geo:-4.314565,50.5021689
END:VEVENT
BEGIN:VEVENT
DTSTART;TZID=UTC:20240217T143000
DTEND;TZID=UTC:20240217T160000
DTSTAMP:20260420T064418
CREATED:20231126T160533Z
LAST-MODIFIED:20231127T154232Z
UID:10000301-1708180200-1708185600@kernowgoth.org
SUMMARY:FOCS/ICS Cornish Study Day: Daphne Du Maurier and a Sense of Place
DESCRIPTION:The first session with Tracy Pithie will look at literature with a focus on how Du Maurier creates a sense of place in three of her novels: Rebecca\, My Cousin Rachel and Frenchman’s Creek. In all three cases the landscape and coast of Cornwall play important roles – often reflecting and enhancing the moods of the characters. By exploring this aspect of her writing\, we will hopefully develop an even greater understanding and love of her novels. \nTracy Pithie was a full-time teacher in primary schools for 25 years and became familiar with mid-Cornwall after living in the area for 5 years. Her long-term love of Fowey led to a greater appreciation of the novels of Daphne Du Maurier. She set up the book club at the Rescorla Centre where we have read a few Du Maurier novels. \nFind out more about the Cornish Study Days here. \nThe cost of each session is £6. For further details and to register for the course at Rescorla please email G.H.Tregidga@exeter.ac.uk
URL:https://kernowgoth.org/event/cornish-study-day-daphne-du-maurier-and-a-sense-of-place/
LOCATION:The Rescorla Centre\, Rescorla\, St Austell\, Cornwall\, PL26 8YT\, United Kingdom
GEO:50.384577;-4.771866
X-APPLE-STRUCTURED-LOCATION;VALUE=URI;X-ADDRESS=The Rescorla Centre Rescorla St Austell Cornwall PL26 8YT United Kingdom;X-APPLE-RADIUS=500;X-TITLE=Rescorla:geo:-4.771866,50.384577
END:VEVENT
BEGIN:VEVENT
DTSTART;TZID=UTC:20240217T193000
DTEND;TZID=UTC:20240217T203000
DTSTAMP:20260420T064418
CREATED:20231018T113032Z
LAST-MODIFIED:20231018T113032Z
UID:10000262-1708198200-1708201800@kernowgoth.org
SUMMARY:Illuminating Lantern Crosses\, by Andrew Langdon
DESCRIPTION:
URL:https://kernowgoth.org/event/illuminating-lantern-crosses-by-andrew-langdon/
LOCATION:St John Ambulance Hall\, Westgate Street\, Launceston\, Cornwall\, PL15 7AE\, United Kingdom
ORGANIZER;CN="Launceston Old Cornwall Society":MAILTO:kaymunn024@btinternet.com
GEO:50.6352883;-4.3631056
X-APPLE-STRUCTURED-LOCATION;VALUE=URI;X-ADDRESS=St John Ambulance Hall Westgate Street Launceston Cornwall PL15 7AE United Kingdom;X-APPLE-RADIUS=500;X-TITLE=Westgate Street:geo:-4.3631056,50.6352883
END:VEVENT
BEGIN:VEVENT
DTSTART;TZID=UTC:20240219T191500
DTEND;TZID=UTC:20240219T203000
DTSTAMP:20260420T064418
CREATED:20231223T105031Z
LAST-MODIFIED:20231223T111852Z
UID:10000329-1708370100-1708374600@kernowgoth.org
SUMMARY:‘Wildlife on Mining sites’ by Colin French
DESCRIPTION:
URL:https://kernowgoth.org/event/wildlife-on-mining-sites-by-colin-french/
LOCATION:Billiard Room\, Landithy Hall\, Church Road\, Madron\, Cornwall\, TR20 8SW\, United Kingdom
ATTACH;FMTTYPE=image/jpeg:https://kernowgoth.org/wp-content/uploads/2023/12/February-Colin-french.-3-images-in-colourdocx.jpg
GEO:50.1324492;-5.5648907
X-APPLE-STRUCTURED-LOCATION;VALUE=URI;X-ADDRESS=Billiard Room Landithy Hall Church Road Madron Cornwall TR20 8SW United Kingdom;X-APPLE-RADIUS=500;X-TITLE=Church Road:geo:-5.5648907,50.1324492
END:VEVENT
BEGIN:VEVENT
DTSTART;TZID=UTC:20240219T193000
DTEND;TZID=UTC:20240219T203000
DTSTAMP:20260420T064418
CREATED:20230908T095440Z
LAST-MODIFIED:20240129T104016Z
UID:10000201-1708371000-1708374600@kernowgoth.org
SUMMARY:'Cornish Wrestling'\, an illustrated talk by Simon Margetts
DESCRIPTION:
URL:https://kernowgoth.org/event/cornish-wrestling-an-illustrated-talk-by-simon-margetts/
LOCATION:St Columba Centre\, West Street\, St Columb\, Cornwall\, TR9 6AE\, United Kingdom
CATEGORIES:Talk
ATTACH;FMTTYPE=image/jpeg:https://kernowgoth.org/wp-content/uploads/2023/09/ocs-poster-Jan24.jpg
GEO:50.4341432;-4.9413454
X-APPLE-STRUCTURED-LOCATION;VALUE=URI;X-ADDRESS=St Columba Centre West Street St Columb Cornwall TR9 6AE United Kingdom;X-APPLE-RADIUS=500;X-TITLE=West Street:geo:-4.9413454,50.4341432
END:VEVENT
END:VCALENDAR