BEGIN:VCALENDAR
VERSION:2.0
PRODID:-//Kernow Goth - ECPv6.3.4//NONSGML v1.0//EN
CALSCALE:GREGORIAN
METHOD:PUBLISH
X-WR-CALNAME:Kernow Goth
X-ORIGINAL-URL:https://kernowgoth.org
X-WR-CALDESC:Events for Kernow Goth
REFRESH-INTERVAL;VALUE=DURATION:PT1H
X-Robots-Tag:noindex
X-PUBLISHED-TTL:PT1H
BEGIN:VTIMEZONE
TZID:UTC
BEGIN:STANDARD
TZOFFSETFROM:+0000
TZOFFSETTO:+0000
TZNAME:UTC
DTSTART:20230101T000000
END:STANDARD
END:VTIMEZONE
BEGIN:VEVENT
DTSTART;TZID=UTC:20231113T191500
DTEND;TZID=UTC:20231113T203000
DTSTAMP:20260420T022714
CREATED:20230812T172046Z
LAST-MODIFIED:20230812T172046Z
UID:10000077-1699902900-1699907400@kernowgoth.org
SUMMARY:'Lanhydrock House and the Robartes family' - Paul Holden
DESCRIPTION:
URL:https://kernowgoth.org/event/lanhydrock-house-and-the-robartes-family-paul-holden/
LOCATION:Probus Village Hall\, Amelia Close\, Probus\, Truro\, Cornwall\, TR2 4NB\, United Kingdom
GEO:50.2923902;-4.9537417
X-APPLE-STRUCTURED-LOCATION;VALUE=URI;X-ADDRESS=Probus Village Hall Amelia Close Probus Truro Cornwall TR2 4NB United Kingdom;X-APPLE-RADIUS=500;X-TITLE=Amelia Close:geo:-4.9537417,50.2923902
END:VEVENT
BEGIN:VEVENT
DTSTART;TZID=UTC:20231113T193000
DTEND;TZID=UTC:20231113T203000
DTSTAMP:20260420T022714
CREATED:20231018T112152Z
LAST-MODIFIED:20231018T112152Z
UID:10000255-1699903800-1699907400@kernowgoth.org
SUMMARY:Sets and Spells Part II\, by Roger Radcliff
DESCRIPTION:
URL:https://kernowgoth.org/event/sets-and-spells-part-ii-by-roger-radcliff/
LOCATION:White River Community Church\, West Hill\, St Austell\, Cornwall\, PL25 5ET\, United Kingdom
ORGANIZER;CN="St Austell Old Cornwall Society":MAILTO:staustelloldcornwall@outlook.com
GEO:50.3378388;-4.7968317
X-APPLE-STRUCTURED-LOCATION;VALUE=URI;X-ADDRESS=White River Community Church West Hill St Austell Cornwall PL25 5ET United Kingdom;X-APPLE-RADIUS=500;X-TITLE=West Hill:geo:-4.7968317,50.3378388
END:VEVENT
BEGIN:VEVENT
DTSTART;TZID=UTC:20231114T193000
DTEND;TZID=UTC:20231114T203000
DTSTAMP:20260420T022714
CREATED:20230928T010640Z
LAST-MODIFIED:20230928T010640Z
UID:10000215-1699990200-1699993800@kernowgoth.org
SUMMARY:Memorial to Jenny and Sylvenus Trevains
DESCRIPTION:
URL:https://kernowgoth.org/event/memorial-to-jenny-and-sylvenus-trevains/
LOCATION:Age Concern Centre\, 7 Fore Street\, St Just\, Cornwall\, TR19 7LJ\, United Kingdom
GEO:50.1234928;-5.6796719
X-APPLE-STRUCTURED-LOCATION;VALUE=URI;X-ADDRESS=Age Concern Centre 7 Fore Street St Just Cornwall TR19 7LJ United Kingdom;X-APPLE-RADIUS=500;X-TITLE=7 Fore Street:geo:-5.6796719,50.1234928
END:VEVENT
BEGIN:VEVENT
DTSTART;TZID=UTC:20231114T193000
DTEND;TZID=UTC:20231114T203000
DTSTAMP:20260420T022714
CREATED:20230821T185600Z
LAST-MODIFIED:20230821T185600Z
UID:10000166-1699990200-1699993800@kernowgoth.org
SUMMARY:'Churchill’s Secret Army' by Adrian Wilton
DESCRIPTION:The secretly mobilised forces which would have become the resistance in the event of a German invasion in WW2.
URL:https://kernowgoth.org/event/churchills-secret-army-by-adrian-wilton/
LOCATION:St George’s Church Hall\, St George's Road\, Truro\, Cornwall\, TR1 3JE\, United Kingdom
GEO:50.2647472;-5.0597734
X-APPLE-STRUCTURED-LOCATION;VALUE=URI;X-ADDRESS=St George’s Church Hall St George's Road Truro Cornwall TR1 3JE United Kingdom;X-APPLE-RADIUS=500;X-TITLE=St George's Road:geo:-5.0597734,50.2647472
END:VEVENT
BEGIN:VEVENT
DTSTART;TZID=UTC:20231115T193000
DTEND;TZID=UTC:20231115T203000
DTSTAMP:20260420T022714
CREATED:20231008T121321Z
LAST-MODIFIED:20231008T121321Z
UID:10000253-1700076600-1700080200@kernowgoth.org
SUMMARY:Coastal Erosion and Changes Project - Jolyon. P Sharp
DESCRIPTION:
URL:https://kernowgoth.org/event/coastal-erosion-and-changes-project-jolyon-p-sharp/
LOCATION:St John Ambulance Hall\, Westgate Street\, Launceston\, Cornwall\, PL15 7AE\, United Kingdom
ORGANIZER;CN="Launceston Old Cornwall Society":MAILTO:kaymunn024@btinternet.com
GEO:50.6352883;-4.3631056
X-APPLE-STRUCTURED-LOCATION;VALUE=URI;X-ADDRESS=St John Ambulance Hall Westgate Street Launceston Cornwall PL15 7AE United Kingdom;X-APPLE-RADIUS=500;X-TITLE=Westgate Street:geo:-4.3631056,50.6352883
END:VEVENT
BEGIN:VEVENT
DTSTART;TZID=UTC:20231115T193000
DTEND;TZID=UTC:20231115T203000
DTSTAMP:20260420T022714
CREATED:20230907T102521Z
LAST-MODIFIED:20230907T102521Z
UID:10000182-1700076600-1700080200@kernowgoth.org
SUMMARY:'Daniel Gumb'\, Mr B. Oldham
DESCRIPTION:
URL:https://kernowgoth.org/event/daniel-gumb-mr-b-oldham/
LOCATION:Torpoint Council Chambers\, 1-3 Buller Road\, Torpoint\, Cornwall\, PL11 2LD\, United Kingdom
GEO:50.3760932;-4.2009581
X-APPLE-STRUCTURED-LOCATION;VALUE=URI;X-ADDRESS=Torpoint Council Chambers 1-3 Buller Road Torpoint Cornwall PL11 2LD United Kingdom;X-APPLE-RADIUS=500;X-TITLE=1-3 Buller Road:geo:-4.2009581,50.3760932
END:VEVENT
BEGIN:VEVENT
DTSTART;TZID=UTC:20231116T140000
DTEND;TZID=UTC:20231116T150000
DTSTAMP:20260420T022714
CREATED:20230814T165418Z
LAST-MODIFIED:20230814T165418Z
UID:10000114-1700143200-1700146800@kernowgoth.org
SUMMARY:'Wacker Quay and its Hidden Railway: Then and Now' - David Naylor
DESCRIPTION:
URL:https://kernowgoth.org/event/wacker-quay-and-its-hidden-railway-then-and-now-david-naylor/
LOCATION:Callington Town Hall\, New Road\, Callington\, Cornwall\, PL17 7BD\, United Kingdom
GEO:50.5021689;-4.314565
X-APPLE-STRUCTURED-LOCATION;VALUE=URI;X-ADDRESS=Callington Town Hall New Road Callington Cornwall PL17 7BD United Kingdom;X-APPLE-RADIUS=500;X-TITLE=New Road:geo:-4.314565,50.5021689
END:VEVENT
BEGIN:VEVENT
DTSTART;TZID=UTC:20231118T100000
DTEND;TZID=UTC:20231118T140000
DTSTAMP:20260420T022714
CREATED:20231024T094228Z
LAST-MODIFIED:20231024T094553Z
UID:10000272-1700301600-1700316000@kernowgoth.org
SUMMARY:St Dennis Community Archive and Museum in a Filing Cabinet!
DESCRIPTION:What is it? \nSt Denys & District OCS\, working with the Institute of Cornish Studies\, ClayTAWC Community Centre\, and St Dennis Memory Café Hub\, has been successful in obtaining funding to start a community archive at St Dennis. The funding was awarded by the Economic and Social Research Council as part of their Festival of Social Science. \nWhat is happening? \nBetween October 21st and 18th of November\, the St Dennis community is being invited to submit material for inclusion in the archive\, to be made publicly accessible in our community museum (remember\, it has to fit into a filing cabinet!). \nDo you have materials that you would like to share with the village? No need to leave the originals with us\, we can photograph/photocopy.  \nSave The Date! \nBetween 10am and 2 pm on Saturday 18th November\, the Archive will be launched at ClayTAWC in St Dennis with a series of talks about the articles gathered for the Archive. Refreshments will be provided\, all are welcome. Please contact Kensa Broadhurst on KB632@exeter.ac.uk with any questions.
URL:https://kernowgoth.org/event/st-dennis-community-archive-and-museum-in-a-filing-cabinet/
LOCATION:ClayTAWC\, The Old School\, Fore Street\, St Dennis\, Cornwall\, PL26 8AF\, United Kingdom
ORGANIZER;CN="St Denys and District Old Cornwall Society":MAILTO:stdenys.ocs@gmail.com
GEO:50.3836443;-4.8831435
X-APPLE-STRUCTURED-LOCATION;VALUE=URI;X-ADDRESS=ClayTAWC The Old School Fore Street St Dennis Cornwall PL26 8AF United Kingdom;X-APPLE-RADIUS=500;X-TITLE=The Old School\, Fore Street:geo:-4.8831435,50.3836443
END:VEVENT
BEGIN:VEVENT
DTSTART;TZID=UTC:20231120T193000
DTEND;TZID=UTC:20231120T203000
DTSTAMP:20260420T022714
CREATED:20231105T144106Z
LAST-MODIFIED:20231105T144149Z
UID:10000273-1700508600-1700512200@kernowgoth.org
SUMMARY:AGM followed by a selection of photographs from the Doug Davis Collection\, presented by Roy Blewett
DESCRIPTION:Nearby car parking. \nTea and pasty will be available to buy after the talk. \nDonation for casual attendance appreciated.
URL:https://kernowgoth.org/event/agm-followed-by-a-selection-of-photographs-from-the-doug-davis-collection-presented-by-roy-blewett/
LOCATION:Billiard Room\, Landithy Hall\, Church Road\, Madron\, Cornwall\, TR20 8SW\, United Kingdom
ATTACH;FMTTYPE=image/jpeg:https://kernowgoth.org/wp-content/uploads/2023/11/November-2023-AGM-and-Roy-Blewett.jpg
GEO:50.1324492;-5.5648907
X-APPLE-STRUCTURED-LOCATION;VALUE=URI;X-ADDRESS=Billiard Room Landithy Hall Church Road Madron Cornwall TR20 8SW United Kingdom;X-APPLE-RADIUS=500;X-TITLE=Church Road:geo:-5.5648907,50.1324492
END:VEVENT
BEGIN:VEVENT
DTSTART;TZID=UTC:20231120T193000
DTEND;TZID=UTC:20231120T203000
DTSTAMP:20260420T022714
CREATED:20230908T095135Z
LAST-MODIFIED:20231106T173025Z
UID:10000198-1700508600-1700512200@kernowgoth.org
SUMMARY:'My life in St Columb and St Wenn' by John Benallick
DESCRIPTION:
URL:https://kernowgoth.org/event/my-life-in-st-columb-and-st-wenn-by-john-benallick/
LOCATION:St Columba Centre\, West Street\, St Columb\, Cornwall\, TR9 6AE\, United Kingdom
ATTACH;FMTTYPE=image/jpeg:https://kernowgoth.org/wp-content/uploads/2023/09/St-Columb-20th-November.jpeg
GEO:50.4341432;-4.9413454
X-APPLE-STRUCTURED-LOCATION;VALUE=URI;X-ADDRESS=St Columba Centre West Street St Columb Cornwall TR9 6AE United Kingdom;X-APPLE-RADIUS=500;X-TITLE=West Street:geo:-4.9413454,50.4341432
END:VEVENT
BEGIN:VEVENT
DTSTART;TZID=UTC:20231120T193000
DTEND;TZID=UTC:20231120T203000
DTSTAMP:20260420T022714
CREATED:20230908T084139Z
LAST-MODIFIED:20230908T084139Z
UID:10000190-1700508600-1700512200@kernowgoth.org
SUMMARY:'Gerrans Parish – Cornish Place Names' by Nev Meek
DESCRIPTION:
URL:https://kernowgoth.org/event/gerrans-parish-cornish-place-names-by-nev-meek/
LOCATION:Pentewan Village Hall\, 16 Glentowan Road\, Pentewan\, Cornwall\, PL26 6DB\, United Kingdom
GEO:50.2927954;-4.7821365
X-APPLE-STRUCTURED-LOCATION;VALUE=URI;X-ADDRESS=Pentewan Village Hall 16 Glentowan Road Pentewan Cornwall PL26 6DB United Kingdom;X-APPLE-RADIUS=500;X-TITLE=16 Glentowan Road:geo:-4.7821365,50.2927954
END:VEVENT
BEGIN:VEVENT
DTSTART;TZID=UTC:20231121T143000
DTEND;TZID=UTC:20231121T153000
DTSTAMP:20260420T022714
CREATED:20230807T164852Z
LAST-MODIFIED:20231117T174710Z
UID:10000069-1700577000-1700580600@kernowgoth.org
SUMMARY:'Argall Photograhpers Part 2: The Camera Never Lies' - Frank Argall
DESCRIPTION:
URL:https://kernowgoth.org/event/argall-photograhpers-part-2-the-camera-never-lies-frank-argall/
LOCATION:WI Hall\, Crantock Street\, Newquay\, Cornwall\, TR7 1LB\, United Kingdom
ATTACH;FMTTYPE=image/jpeg:https://kernowgoth.org/wp-content/uploads/2023/08/Newquay-OCS-21-11-23.jpeg
ORGANIZER;CN="Newquay Old Cornwall Society":MAILTO:nocs.archive@gmail.com
GEO:50.4132209;-5.0894324
X-APPLE-STRUCTURED-LOCATION;VALUE=URI;X-ADDRESS=WI Hall Crantock Street Newquay Cornwall TR7 1LB United Kingdom;X-APPLE-RADIUS=500;X-TITLE=Crantock Street:geo:-5.0894324,50.4132209
END:VEVENT
BEGIN:VEVENT
DTSTART;TZID=UTC:20231121T191500
DTEND;TZID=UTC:20231121T203000
DTSTAMP:20260420T022714
CREATED:20231105T145515Z
LAST-MODIFIED:20231106T173322Z
UID:10000274-1700594100-1700598600@kernowgoth.org
SUMMARY:Wherrytown Mine - Kevin Camige
DESCRIPTION:
URL:https://kernowgoth.org/event/wherrytown-mine-kevin-camige/
LOCATION:The Salvation Army Hall\, Queen Street\, Penzance\, Cornwall\, TR18 4BH\, United Kingdom
ATTACH;FMTTYPE=image/jpeg:https://kernowgoth.org/wp-content/uploads/2023/11/Penzance-OCS.jpeg
ORGANIZER;CN="Penzance OCS":MAILTO:penzanceoldcornwallsociety@gmail.com
GEO:50.1173053;-5.5362891
X-APPLE-STRUCTURED-LOCATION;VALUE=URI;X-ADDRESS=The Salvation Army Hall Queen Street Penzance Cornwall TR18 4BH United Kingdom;X-APPLE-RADIUS=500;X-TITLE=Queen Street:geo:-5.5362891,50.1173053
END:VEVENT
BEGIN:VEVENT
DTSTART;TZID=UTC:20231121T193000
DTEND;TZID=UTC:20231121T203000
DTSTAMP:20260420T022714
CREATED:20230804T133355Z
LAST-MODIFIED:20230805T141840Z
UID:10000015-1700595000-1700598600@kernowgoth.org
SUMMARY:Camborne Feast Meeting - St Aubyn Singers
DESCRIPTION:
URL:https://kernowgoth.org/event/camborne-feast-meeting-st-aubyn-singers/
LOCATION:The Wesley Centre\, Chapel Street\, Camborne\, Cornwall\, TR14 8EG\, United Kingdom
ORGANIZER;CN="Camborne Old Cornwall Society":MAILTO:jondvy@gmail.com
GEO:50.21285;-5.2996028
X-APPLE-STRUCTURED-LOCATION;VALUE=URI;X-ADDRESS=The Wesley Centre Chapel Street Camborne Cornwall TR14 8EG United Kingdom;X-APPLE-RADIUS=500;X-TITLE=Chapel Street:geo:-5.2996028,50.21285
END:VEVENT
BEGIN:VEVENT
DTSTART;TZID=UTC:20231123T190000
DTEND;TZID=UTC:20231123T200000
DTSTAMP:20260420T022714
CREATED:20231117T162302Z
LAST-MODIFIED:20231117T162302Z
UID:10000281-1700766000-1700769600@kernowgoth.org
SUMMARY:China Clay on Bodmin Moor and “The  Gawns Wheel”\, by Malcolm Gould
DESCRIPTION:All welcome to attend\, Members Free\, Visitors £2 \nNew Members welcome\, annual subscription £6 \nRefreshments provided \nFor further details\, please see either the Luxulyan and District Old Cornwall Society or the Rescorla Centre Facebook page
URL:https://kernowgoth.org/event/china-clay-on-bodmin-moor-and-the-gawns-wheel-by-malcolm-gould/
LOCATION:Luxulyan Memorial Institute\, Luxulyan\, Bodmin\, Cornwall\, PL30 5EB\, United Kingdom
ATTACH;FMTTYPE=image/jpeg:https://kernowgoth.org/wp-content/uploads/2023/11/Poster-23-November-2023.jpg
GEO:50.3895655;-4.7438809
X-APPLE-STRUCTURED-LOCATION;VALUE=URI;X-ADDRESS=Luxulyan Memorial Institute Luxulyan Bodmin Cornwall PL30 5EB United Kingdom;X-APPLE-RADIUS=500;X-TITLE=Luxulyan:geo:-4.7438809,50.3895655
END:VEVENT
BEGIN:VEVENT
DTSTART;TZID=UTC:20231124T193000
DTEND;TZID=UTC:20231124T203000
DTSTAMP:20260420T022714
CREATED:20230821T174432Z
LAST-MODIFIED:20230821T174432Z
UID:10000153-1700854200-1700857800@kernowgoth.org
SUMMARY:'Argall Photographers (Part 2): The Camera Never Lies'\, by Frank Argall
DESCRIPTION:
URL:https://kernowgoth.org/event/argall-photographers-part-2-the-camera-never-lies-by-frank-argall-2/
LOCATION:Goonhavern Village Hall\, Goonhavern\, Truro\, Cornwall\, TR4 9NW\, United Kingdom
GEO:50.3383624;-5.109068
X-APPLE-STRUCTURED-LOCATION;VALUE=URI;X-ADDRESS=Goonhavern Village Hall Goonhavern Truro Cornwall TR4 9NW United Kingdom;X-APPLE-RADIUS=500;X-TITLE=Goonhavern:geo:-5.109068,50.3383624
END:VEVENT
BEGIN:VEVENT
DTSTART;TZID=UTC:20231125T190000
DTEND;TZID=UTC:20231125T200000
DTSTAMP:20260420T022714
CREATED:20230907T081426Z
LAST-MODIFIED:20231118T144502Z
UID:10000175-1700938800-1700942400@kernowgoth.org
SUMMARY:Pentewan Rail and Tea Treat Train\, by Mr Bob Evans
DESCRIPTION:
URL:https://kernowgoth.org/event/cornwall-in-pictures-merryn-threadgould/
LOCATION:The Gott Hall\, Par Green\, Par\, Cornwall\, PL24 2AF\, United Kingdom
ATTACH;FMTTYPE=image/jpeg:https://kernowgoth.org/wp-content/uploads/2023/09/Par-25-11-23-scaled.jpg
GEO:50.3506775;-4.7051683
X-APPLE-STRUCTURED-LOCATION;VALUE=URI;X-ADDRESS=The Gott Hall Par Green Par Cornwall PL24 2AF United Kingdom;X-APPLE-RADIUS=500;X-TITLE=Par Green:geo:-4.7051683,50.3506775
END:VEVENT
BEGIN:VEVENT
DTSTART;TZID=UTC:20231201T080000
DTEND;TZID=UTC:20231201T170000
DTSTAMP:20260420T022714
CREATED:20230806T080834Z
LAST-MODIFIED:20230806T081753Z
UID:10000041-1701417600-1701450000@kernowgoth.org
SUMMARY:Where To Watch Wildlife in Cornwall - David Chapman
DESCRIPTION:Meeting attendance – £1 for members and £2.50 for non-members.
URL:https://kernowgoth.org/event/where-to-watch-wildlife-in-cornwall-david-chapman/
LOCATION:The Day Care Centre\, Commercial Road\, Hayle\, Cornwall\, TR27 4DE\, United Kingdom
ORGANIZER;CN="Hayle Old Cornwall Society":MAILTO:trevor.smitheram@btopenworld.com
GEO:50.1901385;-5.4152156
X-APPLE-STRUCTURED-LOCATION;VALUE=URI;X-ADDRESS=The Day Care Centre Commercial Road Hayle Cornwall TR27 4DE United Kingdom;X-APPLE-RADIUS=500;X-TITLE=Commercial Road:geo:-5.4152156,50.1901385
END:VEVENT
BEGIN:VEVENT
DTSTART;TZID=UTC:20231201T100000
DTEND;TZID=UTC:20231201T170000
DTSTAMP:20260420T022714
CREATED:20230804T134800Z
LAST-MODIFIED:20230805T141553Z
UID:10000023-1701424800-1701450000@kernowgoth.org
SUMMARY:Federation Executive Meeting
DESCRIPTION:
URL:https://kernowgoth.org/event/federation-executive-meeting/
LOCATION:Blackwater Village Hall\, Blackwater\, Truro\, Cornwall\, TR4 3ET\, United Kingdom
GEO:50.2720472;-5.1818759
X-APPLE-STRUCTURED-LOCATION;VALUE=URI;X-ADDRESS=Blackwater Village Hall Blackwater Truro Cornwall TR4 3ET United Kingdom;X-APPLE-RADIUS=500;X-TITLE=Blackwater:geo:-5.1818759,50.2720472
END:VEVENT
BEGIN:VEVENT
DTSTART;VALUE=DATE:20231203
DTEND;VALUE=DATE:20231204
DTSTAMP:20260420T022714
CREATED:20230817T110616Z
LAST-MODIFIED:20230817T110616Z
UID:10000135-1701561600-1701647999@kernowgoth.org
SUMMARY:Christmas Dinner\, TTBC
DESCRIPTION:
URL:https://kernowgoth.org/event/christmas-dinner-ttbc/
LOCATION:Tehidy Golf Club
END:VEVENT
BEGIN:VEVENT
DTSTART;TZID=UTC:20231204T160000
DTEND;TZID=UTC:20231204T170000
DTSTAMP:20260420T022714
CREATED:20231106T161252Z
LAST-MODIFIED:20231115T180027Z
UID:10000279-1701705600-1701709200@kernowgoth.org
SUMMARY:The Historic Environment Record\, by Francis Shepherd
DESCRIPTION:Parking in the Barley Sheaf car park. Refreshments will be served. Free to everyone!
URL:https://kernowgoth.org/event/the-historic-environment-record-by-francis-shepherd/
LOCATION:Gorran Old School Room\, Gorran Haven\, Cornwall\, PL26 6AB\, United Kingdom
GEO:50.3285542;-4.7721359
X-APPLE-STRUCTURED-LOCATION;VALUE=URI;X-ADDRESS=Gorran Old School Room Gorran Haven Cornwall PL26 6AB United Kingdom;X-APPLE-RADIUS=500;X-TITLE=Gorran Haven:geo:-4.7721359,50.3285542
END:VEVENT
BEGIN:VEVENT
DTSTART;TZID=UTC:20231204T190000
DTEND;TZID=UTC:20231204T200000
DTSTAMP:20260420T022714
CREATED:20231117T182517Z
LAST-MODIFIED:20231117T182517Z
UID:10000289-1701716400-1701720000@kernowgoth.org
SUMMARY:Carols of the Stratton Hundred
DESCRIPTION:Bude Stratton & District Old Cornwall Society invite you all \nto Come and Sing. \nWe will be singing the traditional ‘Carols of the Stratton Hundred’ \nat Bude Methodist Church\,  7pm  4th December\, \nthe first Monday of Advent. \nEveryone Welcome
URL:https://kernowgoth.org/event/carols-of-the-stratton-hundred/
LOCATION:Bude Methodist Church\, Leven Cottages\, Bude\, Cornwall\, EX23 8LA\, United Kingdom
CATEGORIES:Music
ORGANIZER;CN="Bude-Stratton and District Old Cornwall Society":MAILTO:budestrattonocs@gmail.com
GEO:50.8291232;-4.5464287
X-APPLE-STRUCTURED-LOCATION;VALUE=URI;X-ADDRESS=Bude Methodist Church Leven Cottages Bude Cornwall EX23 8LA United Kingdom;X-APPLE-RADIUS=500;X-TITLE=Leven Cottages:geo:-4.5464287,50.8291232
END:VEVENT
BEGIN:VEVENT
DTSTART;TZID=UTC:20231204T190000
DTEND;TZID=UTC:20231204T203000
DTSTAMP:20260420T022714
CREATED:20230804T130020Z
LAST-MODIFIED:20231115T180342Z
UID:10000002-1701716400-1701721800@kernowgoth.org
SUMMARY:'Joseph Glasson and his Cornish Carols' - Dr Kate Neale
DESCRIPTION:
URL:https://kernowgoth.org/event/joseph-glasson-and-his-cornish-carols/
LOCATION:Carbis Bay Memorial Hall\, 7 Trencrom Lane\, Carbis Bay\,\, St Ives\, Cornwall\, TR26 2TA\, United Kingdom
ATTACH;FMTTYPE=image/jpeg:https://kernowgoth.org/wp-content/uploads/2023/08/December-2023-Kate-Neale.jpg
ORGANIZER;CN="St Ives Old Cornwall Society":MAILTO:stivesoldcornwall@gmail.com
GEO:50.1915991;-5.4619559
X-APPLE-STRUCTURED-LOCATION;VALUE=URI;X-ADDRESS=Carbis Bay Memorial Hall 7 Trencrom Lane Carbis Bay St Ives Cornwall TR26 2TA United Kingdom;X-APPLE-RADIUS=500;X-TITLE=7 Trencrom Lane\, Carbis Bay\,:geo:-5.4619559,50.1915991
END:VEVENT
BEGIN:VEVENT
DTSTART;TZID=UTC:20231204T193000
DTEND;TZID=UTC:20231204T203000
DTSTAMP:20260420T022714
CREATED:20231003T155306Z
LAST-MODIFIED:20231126T131919Z
UID:10000242-1701718200-1701721800@kernowgoth.org
SUMMARY:Dialects - Trevor Smitheram
DESCRIPTION:
URL:https://kernowgoth.org/event/dialects-trevor-smitheram/
LOCATION:St Buryan Parish Rooms\, St Buryan\, Cornwall\, United Kingdom
ATTACH;FMTTYPE=image/jpeg:https://kernowgoth.org/wp-content/uploads/2023/10/St-Buryan-4-Dec.jpeg
GEO:50.075155;-5.6216989
X-APPLE-STRUCTURED-LOCATION;VALUE=URI;X-ADDRESS=St Buryan Parish Rooms St Buryan Cornwall United Kingdom;X-APPLE-RADIUS=500;X-TITLE=St Buryan:geo:-5.6216989,50.075155
END:VEVENT
BEGIN:VEVENT
DTSTART;TZID=UTC:20231205T120000
DTEND;TZID=UTC:20231205T170000
DTSTAMP:20260420T022714
CREATED:20230812T180953Z
LAST-MODIFIED:20230812T180953Z
UID:10000087-1701777600-1701795600@kernowgoth.org
SUMMARY:Christmas Lunch: Penmorvah Manor Hotel (details tbc)
DESCRIPTION:
URL:https://kernowgoth.org/event/christmas-lunch-penmorvah-manor-hotel-details-tbc/
LOCATION:Penmorvah Manor Hotel\, Penjerrick Hill\, Budock Water\, Falmouth\, Cornwall\, TR11 5ED\, United Kingdom
GEO:50.1359451;-5.1066172
X-APPLE-STRUCTURED-LOCATION;VALUE=URI;X-ADDRESS=Penmorvah Manor Hotel Penjerrick Hill Budock Water Falmouth Cornwall TR11 5ED United Kingdom;X-APPLE-RADIUS=500;X-TITLE=Penjerrick Hill:geo:-5.1066172,50.1359451
END:VEVENT
BEGIN:VEVENT
DTSTART;TZID=UTC:20231205T191500
DTEND;TZID=UTC:20231205T203000
DTSTAMP:20260420T022714
CREATED:20230818T142942Z
LAST-MODIFIED:20230818T142942Z
UID:10000146-1701803700-1701808200@kernowgoth.org
SUMMARY:Social Evening with Entertainment 'Proper Job'
DESCRIPTION:
URL:https://kernowgoth.org/event/social-evening-with-entertainment-proper-job/
LOCATION:Carnon Downs Village Hall\, Tregye Road\, Carnon Downs\, Cornwall\, TR3 6GH\, United Kingdom
GEO:50.22243;-5.0846859
X-APPLE-STRUCTURED-LOCATION;VALUE=URI;X-ADDRESS=Carnon Downs Village Hall Tregye Road Carnon Downs Cornwall TR3 6GH United Kingdom;X-APPLE-RADIUS=500;X-TITLE=Tregye Road:geo:-5.0846859,50.22243
END:VEVENT
BEGIN:VEVENT
DTSTART;TZID=UTC:20231205T193000
DTEND;TZID=UTC:20231205T203000
DTSTAMP:20260420T022714
CREATED:20230817T102318Z
LAST-MODIFIED:20230817T102318Z
UID:10000127-1701804600-1701808200@kernowgoth.org
SUMMARY:Christmas Entertainment
DESCRIPTION:
URL:https://kernowgoth.org/event/christmas-entertainment/
LOCATION:St Agnes Methodist Church Hall\, British Road\, St Agnes\, Cornwall\, TR5 0UA\, United Kingdom
GEO:50.310468;-5.2017453
X-APPLE-STRUCTURED-LOCATION;VALUE=URI;X-ADDRESS=St Agnes Methodist Church Hall British Road St Agnes Cornwall TR5 0UA United Kingdom;X-APPLE-RADIUS=500;X-TITLE=British Road:geo:-5.2017453,50.310468
END:VEVENT
BEGIN:VEVENT
DTSTART;TZID=UTC:20231206T143000
DTEND;TZID=UTC:20231206T173000
DTSTAMP:20260420T022714
CREATED:20231008T121614Z
LAST-MODIFIED:20231008T121614Z
UID:10000254-1701873000-1701883800@kernowgoth.org
SUMMARY:Launceston OCS Christmas Afternoon Tea
DESCRIPTION:Seasonal entertainment from Nigel Nethersole and Garry Tregidga. \nTickets £9 from Bill Roberts – phone 01566 774227 \nEmail: w.roberts@btinternet.com \nFriends welcome!
URL:https://kernowgoth.org/event/launceston-ocs-christmas-afternoon-tea/
LOCATION:Launceston Golf Club\, North Street\, Launceston\, Cornwall\, PL15 8HF\, United Kingdom
ORGANIZER;CN="Launceston Old Cornwall Society":MAILTO:kaymunn024@btinternet.com
GEO:50.6468565;-4.3734554
X-APPLE-STRUCTURED-LOCATION;VALUE=URI;X-ADDRESS=Launceston Golf Club North Street Launceston Cornwall PL15 8HF United Kingdom;X-APPLE-RADIUS=500;X-TITLE=North Street:geo:-4.3734554,50.6468565
END:VEVENT
BEGIN:VEVENT
DTSTART;TZID=UTC:20231206T190000
DTEND;TZID=UTC:20231206T200000
DTSTAMP:20260420T022714
CREATED:20230928T020108Z
LAST-MODIFIED:20230928T020108Z
UID:10000235-1701889200-1701892800@kernowgoth.org
SUMMARY:'A bucket of water\, soap and a towel': an illustrated talk by John Head
DESCRIPTION:
URL:https://kernowgoth.org/event/a-bucket-of-water-soap-and-a-towel-an-illustrated-talk-by-john-head/
LOCATION:Hens Horn Court\, Cunnack Close\, Helston\, Cornwall\, TR13 8YE\, United Kingdom
GEO:50.1068565;-5.2698346
X-APPLE-STRUCTURED-LOCATION;VALUE=URI;X-ADDRESS=Hens Horn Court Cunnack Close Helston Cornwall TR13 8YE United Kingdom;X-APPLE-RADIUS=500;X-TITLE=Cunnack Close:geo:-5.2698346,50.1068565
END:VEVENT
BEGIN:VEVENT
DTSTART;TZID=UTC:20231206T193000
DTEND;TZID=UTC:20231206T203000
DTSTAMP:20260420T022714
CREATED:20230814T162131Z
LAST-MODIFIED:20230814T162131Z
UID:10000104-1701891000-1701894600@kernowgoth.org
SUMMARY:'Holy Wells' - by Terry Faull
DESCRIPTION:
URL:https://kernowgoth.org/event/holy-wells-by-terry-faull/
LOCATION:Padstow Social Club\, The Lawns\, Senders Hill\, Padstow\, Cornwall\, PL28 8DT\, United Kingdom
GEO:50.3678287;-4.8675323
X-APPLE-STRUCTURED-LOCATION;VALUE=URI;X-ADDRESS=Padstow Social Club The Lawns Senders Hill Padstow Cornwall PL28 8DT United Kingdom;X-APPLE-RADIUS=500;X-TITLE=The Lawns\, Senders Hill:geo:-4.8675323,50.3678287
END:VEVENT
END:VCALENDAR