BEGIN:VCALENDAR
VERSION:2.0
PRODID:-//Kernow Goth - ECPv6.3.4//NONSGML v1.0//EN
CALSCALE:GREGORIAN
METHOD:PUBLISH
X-ORIGINAL-URL:https://kernowgoth.org
X-WR-CALDESC:Events for Kernow Goth
REFRESH-INTERVAL;VALUE=DURATION:PT1H
X-Robots-Tag:noindex
X-PUBLISHED-TTL:PT1H
BEGIN:VTIMEZONE
TZID:Europe/London
BEGIN:DAYLIGHT
TZOFFSETFROM:+0000
TZOFFSETTO:+0100
TZNAME:BST
DTSTART:20240331T010000
END:DAYLIGHT
BEGIN:STANDARD
TZOFFSETFROM:+0100
TZOFFSETTO:+0000
TZNAME:GMT
DTSTART:20241027T010000
END:STANDARD
BEGIN:DAYLIGHT
TZOFFSETFROM:+0000
TZOFFSETTO:+0100
TZNAME:BST
DTSTART:20250330T010000
END:DAYLIGHT
BEGIN:STANDARD
TZOFFSETFROM:+0100
TZOFFSETTO:+0000
TZNAME:GMT
DTSTART:20251026T010000
END:STANDARD
BEGIN:DAYLIGHT
TZOFFSETFROM:+0000
TZOFFSETTO:+0100
TZNAME:BST
DTSTART:20260329T010000
END:DAYLIGHT
BEGIN:STANDARD
TZOFFSETFROM:+0100
TZOFFSETTO:+0000
TZNAME:GMT
DTSTART:20261025T010000
END:STANDARD
TZID:UTC
BEGIN:STANDARD
TZOFFSETFROM:+0000
TZOFFSETTO:+0000
TZNAME:UTC
DTSTART:20230101T000000
END:STANDARD
END:VTIMEZONE
BEGIN:VEVENT
DTSTART;TZID=Europe/London:20260401T193000
DTEND;TZID=Europe/London:20260401T210000
DTSTAMP:20260419T173740
CREATED:20250904T132529Z
LAST-MODIFIED:20260309T091456Z
UID:10001102-1775071800-1775077200@kernowgoth.org
SUMMARY:Talk: Musical Evening with Merv and Alison Davy
DESCRIPTION:
URL:https://kernowgoth.org/event/talk-musical-evening-with-merv-and-alison-davy/
LOCATION:Padstow Social Club\, The Lawns\, Senders Hill\, Padstow\, Cornwall\, PL28 8DT\, United Kingdom
CATEGORIES:Talk
ATTACH;FMTTYPE=image/jpeg:https://kernowgoth.org/wp-content/uploads/2026/03/Padstow-April-26-scaled-e1773047689112.jpg
GEO:50.3678287;-4.8675323
X-APPLE-STRUCTURED-LOCATION;VALUE=URI;X-ADDRESS=Padstow Social Club The Lawns Senders Hill Padstow Cornwall PL28 8DT United Kingdom;X-APPLE-RADIUS=500;X-TITLE=The Lawns\, Senders Hill:geo:-4.8675323,50.3678287
END:VEVENT
BEGIN:VEVENT
DTSTART;TZID=Europe/London:20260304T193000
DTEND;TZID=Europe/London:20260304T210000
DTSTAMP:20260419T173740
CREATED:20260222T154344Z
LAST-MODIFIED:20260222T154344Z
UID:10001301-1772652600-1772658000@kernowgoth.org
SUMMARY:Talk: The Camera Never Lies by Frank Argall
DESCRIPTION:
URL:https://kernowgoth.org/event/talk-the-camera-never-lies-by-frank-argall-2/
LOCATION:Padstow Social Club\, The Lawns\, Senders Hill\, Padstow\, Cornwall\, PL28 8DT\, United Kingdom
ATTACH;FMTTYPE=image/jpeg:https://kernowgoth.org/wp-content/uploads/2026/02/Padstow-march-26.jpg
GEO:50.3678287;-4.8675323
X-APPLE-STRUCTURED-LOCATION;VALUE=URI;X-ADDRESS=Padstow Social Club The Lawns Senders Hill Padstow Cornwall PL28 8DT United Kingdom;X-APPLE-RADIUS=500;X-TITLE=The Lawns\, Senders Hill:geo:-4.8675323,50.3678287
END:VEVENT
BEGIN:VEVENT
DTSTART;TZID=Europe/London:20260204T193000
DTEND;TZID=Europe/London:20260204T210000
DTSTAMP:20260419T173740
CREATED:20250904T132404Z
LAST-MODIFIED:20260110T120031Z
UID:10001101-1770233400-1770238800@kernowgoth.org
SUMMARY:Talk: Cornish Smallholdings from Post Medieval Period by Emma Trevarthen
DESCRIPTION:
URL:https://kernowgoth.org/event/talk-cornish-smallholdings-from-post-medieval-period-by-emma-trevarthen/
LOCATION:Padstow Social Club\, The Lawns\, Senders Hill\, Padstow\, Cornwall\, PL28 8DT\, United Kingdom
CATEGORIES:Talk
ATTACH;FMTTYPE=image/png:https://kernowgoth.org/wp-content/uploads/2026/01/Padstow-feb-26-e1768046402608.png
GEO:50.3678287;-4.8675323
X-APPLE-STRUCTURED-LOCATION;VALUE=URI;X-ADDRESS=Padstow Social Club The Lawns Senders Hill Padstow Cornwall PL28 8DT United Kingdom;X-APPLE-RADIUS=500;X-TITLE=The Lawns\, Senders Hill:geo:-4.8675323,50.3678287
END:VEVENT
BEGIN:VEVENT
DTSTART;TZID=Europe/London:20251203T193000
DTEND;TZID=Europe/London:20251203T210000
DTSTAMP:20260419T173740
CREATED:20250904T132218Z
LAST-MODIFIED:20250904T132218Z
UID:10001100-1764790200-1764795600@kernowgoth.org
SUMMARY:Talk: May Day Celebrated outside of Padstow by Dan Thomas
DESCRIPTION:
URL:https://kernowgoth.org/event/talk-may-day-celebrated-outside-of-padstow-by-dan-thomas/
LOCATION:Padstow Social Club\, The Lawns\, Senders Hill\, Padstow\, Cornwall\, PL28 8DT\, United Kingdom
CATEGORIES:Talk
GEO:50.3678287;-4.8675323
X-APPLE-STRUCTURED-LOCATION;VALUE=URI;X-ADDRESS=Padstow Social Club The Lawns Senders Hill Padstow Cornwall PL28 8DT United Kingdom;X-APPLE-RADIUS=500;X-TITLE=The Lawns\, Senders Hill:geo:-4.8675323,50.3678287
END:VEVENT
BEGIN:VEVENT
DTSTART;TZID=Europe/London:20251105T193000
DTEND;TZID=Europe/London:20251105T210000
DTSTAMP:20260419T173740
CREATED:20241002T142007Z
LAST-MODIFIED:20250910T160701Z
UID:10000623-1762371000-1762376400@kernowgoth.org
SUMMARY:Talk:  The great Flood of North Cornwall of 1847 by Andrew Langdon
DESCRIPTION:
URL:https://kernowgoth.org/event/talk-the-great-flood-of-north-cornwall-of-1847-by-andrew-langdon/
LOCATION:Padstow Social Club\, The Lawns\, Senders Hill\, Padstow\, Cornwall\, PL28 8DT\, United Kingdom
CATEGORIES:Talk
ATTACH;FMTTYPE=image/jpeg:https://kernowgoth.org/wp-content/uploads/2025/09/OCS-5th-november-25-scaled-e1757520411236.jpg
GEO:50.3678287;-4.8675323
X-APPLE-STRUCTURED-LOCATION;VALUE=URI;X-ADDRESS=Padstow Social Club The Lawns Senders Hill Padstow Cornwall PL28 8DT United Kingdom;X-APPLE-RADIUS=500;X-TITLE=The Lawns\, Senders Hill:geo:-4.8675323,50.3678287
END:VEVENT
BEGIN:VEVENT
DTSTART;TZID=Europe/London:20251001T193000
DTEND;TZID=Europe/London:20251001T210000
DTSTAMP:20260419T173740
CREATED:20250904T132032Z
LAST-MODIFIED:20250910T122509Z
UID:10001099-1759347000-1759352400@kernowgoth.org
SUMMARY:Talk: Geology of Cornwall by Dr Vince Williams
DESCRIPTION:
URL:https://kernowgoth.org/event/talk-geology-of-cornwall-by-dr-vince-williams/
LOCATION:Padstow Social Club\, The Lawns\, Senders Hill\, Padstow\, Cornwall\, PL28 8DT\, United Kingdom
CATEGORIES:Talk
ATTACH;FMTTYPE=image/jpeg:https://kernowgoth.org/wp-content/uploads/2025/09/Ocs-1st-October-2025-scaled-e1757507089216.jpg
GEO:50.3678287;-4.8675323
X-APPLE-STRUCTURED-LOCATION;VALUE=URI;X-ADDRESS=Padstow Social Club The Lawns Senders Hill Padstow Cornwall PL28 8DT United Kingdom;X-APPLE-RADIUS=500;X-TITLE=The Lawns\, Senders Hill:geo:-4.8675323,50.3678287
END:VEVENT
BEGIN:VEVENT
DTSTART;TZID=Europe/London:20250617T103000
DTEND;TZID=Europe/London:20250617T123000
DTSTAMP:20260419T173740
CREATED:20250512T181548Z
LAST-MODIFIED:20250512T181548Z
UID:10000900-1750156200-1750163400@kernowgoth.org
SUMMARY:Walk: `Beyond the Harbour` an exploration of Padstow
DESCRIPTION:Start: St Petroc`s Church south entrance at 10:30.am\nEasy walking of about 1-2Hours\nSuggested car parking the Lawn Car Park\nContact leader details: Daphne Hicks 01841 532202 Email: hicksdaphne60@gmail.com
URL:https://kernowgoth.org/event/walk-beyond-the-harbour-an-exploration-of-padstow/
LOCATION:St Petroc’s Church\, Padstow\, Church Street\, Padstow\, PL28 8BG\, United Kingdom
CATEGORIES:Walk
ATTACH;FMTTYPE=image/png:https://kernowgoth.org/wp-content/uploads/2024/10/Festival-of-Walks-Graphic-2-e1745769917661.png
GEO:50.5415226;-4.9428037
X-APPLE-STRUCTURED-LOCATION;VALUE=URI;X-ADDRESS=St Petroc’s Church Padstow Church Street Padstow PL28 8BG United Kingdom;X-APPLE-RADIUS=500;X-TITLE=Church Street:geo:-4.9428037,50.5415226
END:VEVENT
BEGIN:VEVENT
DTSTART;TZID=Europe/London:20250507T183000
DTEND;TZID=Europe/London:20250507T210000
DTSTAMP:20260419T173740
CREATED:20241002T141759Z
LAST-MODIFIED:20250501T100154Z
UID:10000622-1746642600-1746651600@kernowgoth.org
SUMMARY:Talk: The History of China Clay by Malcolm Gould
DESCRIPTION:
URL:https://kernowgoth.org/event/talk-the-history-of-china-clay-by-malcolm-gould/
LOCATION:Padstow Social Club\, The Lawns\, Senders Hill\, Padstow\, Cornwall\, PL28 8DT\, United Kingdom
CATEGORIES:AGM,Talk
ATTACH;FMTTYPE=image/jpeg:https://kernowgoth.org/wp-content/uploads/2025/05/Padstow-May-25-scaled-e1746093686195.jpg
GEO:50.3678287;-4.8675323
X-APPLE-STRUCTURED-LOCATION;VALUE=URI;X-ADDRESS=Padstow Social Club The Lawns Senders Hill Padstow Cornwall PL28 8DT United Kingdom;X-APPLE-RADIUS=500;X-TITLE=The Lawns\, Senders Hill:geo:-4.8675323,50.3678287
END:VEVENT
BEGIN:VEVENT
DTSTART;TZID=Europe/London:20250402T193000
DTEND;TZID=Europe/London:20250402T210000
DTSTAMP:20260419T173740
CREATED:20241002T141608Z
LAST-MODIFIED:20250106T202532Z
UID:10000621-1743622200-1743627600@kernowgoth.org
SUMMARY:Talk: The Beeching Report and the trashing of Britain’s railways. - John Stansfield
DESCRIPTION:
URL:https://kernowgoth.org/event/talk-the-beeching-report-and-the-trashing-of-britains-railways-john-stansfield/
LOCATION:Padstow Social Club\, The Lawns\, Senders Hill\, Padstow\, Cornwall\, PL28 8DT\, United Kingdom
CATEGORIES:Talk
ATTACH;FMTTYPE=image/jpeg:https://kernowgoth.org/wp-content/uploads/2025/01/OCS-5th-March-2025-page-0-scaled-e1736195121535.jpg
GEO:50.3678287;-4.8675323
X-APPLE-STRUCTURED-LOCATION;VALUE=URI;X-ADDRESS=Padstow Social Club The Lawns Senders Hill Padstow Cornwall PL28 8DT United Kingdom;X-APPLE-RADIUS=500;X-TITLE=The Lawns\, Senders Hill:geo:-4.8675323,50.3678287
END:VEVENT
BEGIN:VEVENT
DTSTART;TZID=Europe/London:20250305T193000
DTEND;TZID=Europe/London:20250305T210000
DTSTAMP:20260419T173740
CREATED:20241002T141400Z
LAST-MODIFIED:20250107T154551Z
UID:10000620-1741203000-1741208400@kernowgoth.org
SUMMARY:Padstow OCS - St Piran Day Musical Special - Finley Bray and family
DESCRIPTION:
URL:https://kernowgoth.org/event/padstow-ocs-st-piran-day-musical-special-finley-bray-and-family/
LOCATION:Padstow Social Club\, The Lawns\, Senders Hill\, Padstow\, Cornwall\, PL28 8DT\, United Kingdom
CATEGORIES:Celebration,Music,Traditions
ATTACH;FMTTYPE=image/jpeg:https://kernowgoth.org/wp-content/uploads/2025/01/Padstow-March-25-1-e1736264741656.jpg
GEO:50.3678287;-4.8675323
X-APPLE-STRUCTURED-LOCATION;VALUE=URI;X-ADDRESS=Padstow Social Club The Lawns Senders Hill Padstow Cornwall PL28 8DT United Kingdom;X-APPLE-RADIUS=500;X-TITLE=The Lawns\, Senders Hill:geo:-4.8675323,50.3678287
END:VEVENT
BEGIN:VEVENT
DTSTART;TZID=Europe/London:20250205T193000
DTEND;TZID=Europe/London:20250205T210000
DTSTAMP:20260419T173741
CREATED:20241003T104826Z
LAST-MODIFIED:20250106T200339Z
UID:10000626-1738783800-1738789200@kernowgoth.org
SUMMARY:Talk: Alleyways and Drangs of Padstow by Rosemary Howells
DESCRIPTION:
URL:https://kernowgoth.org/event/talk-alleyways-and-drangs-of-padstow-by-rosemary-howells/
LOCATION:Padstow Social Club\, The Lawns\, Senders Hill\, Padstow\, Cornwall\, PL28 8DT\, United Kingdom
CATEGORIES:Talk
ATTACH;FMTTYPE=image/jpeg:https://kernowgoth.org/wp-content/uploads/2025/01/OCS-5th-February-2025-1-page-0-scaled-e1736193805280.jpg
GEO:50.3678287;-4.8675323
X-APPLE-STRUCTURED-LOCATION;VALUE=URI;X-ADDRESS=Padstow Social Club The Lawns Senders Hill Padstow Cornwall PL28 8DT United Kingdom;X-APPLE-RADIUS=500;X-TITLE=The Lawns\, Senders Hill:geo:-4.8675323,50.3678287
END:VEVENT
BEGIN:VEVENT
DTSTART;TZID=Europe/London:20250108T073000
DTEND;TZID=Europe/London:20250108T170000
DTSTAMP:20260419T173741
CREATED:20241003T104606Z
LAST-MODIFIED:20241230T113123Z
UID:10000625-1736321400-1736355600@kernowgoth.org
SUMMARY:Talk: Photographs of Old Padstow by Margaret Thompson
DESCRIPTION:
URL:https://kernowgoth.org/event/talk-photographs-of-old-padstow-by-margaret-thompson/
LOCATION:Padstow Social Club\, The Lawns\, Senders Hill\, Padstow\, Cornwall\, PL28 8DT\, United Kingdom
CATEGORIES:Talk
ATTACH;FMTTYPE=image/jpeg:https://kernowgoth.org/wp-content/uploads/2024/12/OCS-8th-January-2025-page-0-scaled-e1735549385329.jpg
GEO:50.3678287;-4.8675323
X-APPLE-STRUCTURED-LOCATION;VALUE=URI;X-ADDRESS=Padstow Social Club The Lawns Senders Hill Padstow Cornwall PL28 8DT United Kingdom;X-APPLE-RADIUS=500;X-TITLE=The Lawns\, Senders Hill:geo:-4.8675323,50.3678287
END:VEVENT
BEGIN:VEVENT
DTSTART;TZID=UTC:20241204T193000
DTEND;TZID=UTC:20241204T203000
DTSTAMP:20260419T173741
CREATED:20230814T162738Z
LAST-MODIFIED:20241028T154542Z
UID:10000110-1733340600-1733344200@kernowgoth.org
SUMMARY:'History of forensic science' - by Simon Dell
DESCRIPTION:
URL:https://kernowgoth.org/event/history-of-forensic-science-by-simon-dell/
LOCATION:Padstow Social Club\, The Lawns\, Senders Hill\, Padstow\, Cornwall\, PL28 8DT\, United Kingdom
CATEGORIES:Talk
ATTACH;FMTTYPE=image/jpeg:https://kernowgoth.org/wp-content/uploads/2024/10/OCS-4th-Dec-2024-page-0-scaled-e1730130332820.jpg
GEO:50.3678287;-4.8675323
X-APPLE-STRUCTURED-LOCATION;VALUE=URI;X-ADDRESS=Padstow Social Club The Lawns Senders Hill Padstow Cornwall PL28 8DT United Kingdom;X-APPLE-RADIUS=500;X-TITLE=The Lawns\, Senders Hill:geo:-4.8675323,50.3678287
END:VEVENT
BEGIN:VEVENT
DTSTART;TZID=Europe/London:20241106T193000
DTEND;TZID=Europe/London:20241106T210000
DTSTAMP:20260419T173741
CREATED:20241002T135317Z
LAST-MODIFIED:20241104T150322Z
UID:10000618-1730921400-1730926800@kernowgoth.org
SUMMARY:Talk: Rev Hawker of Morwenstow
DESCRIPTION:
URL:https://kernowgoth.org/event/talk-history-of-boat-building-and-social-history-of-the-mevagissey-area-by-gary-mitchell/
LOCATION:Padstow Social Club\, The Lawns\, Senders Hill\, Padstow\, Cornwall\, PL28 8DT\, United Kingdom
CATEGORIES:Talk
ATTACH;FMTTYPE=image/jpeg:https://kernowgoth.org/wp-content/uploads/2024/11/Padstow-Nov-e1730732543617.jpg
GEO:50.3678287;-4.8675323
X-APPLE-STRUCTURED-LOCATION;VALUE=URI;X-ADDRESS=Padstow Social Club The Lawns Senders Hill Padstow Cornwall PL28 8DT United Kingdom;X-APPLE-RADIUS=500;X-TITLE=The Lawns\, Senders Hill:geo:-4.8675323,50.3678287
END:VEVENT
BEGIN:VEVENT
DTSTART;TZID=Europe/London:20241002T193000
DTEND;TZID=Europe/London:20241002T210000
DTSTAMP:20260419T173741
CREATED:20241002T135052Z
LAST-MODIFIED:20241002T135052Z
UID:10000617-1727897400-1727902800@kernowgoth.org
SUMMARY:Talk: William Bligh: Mutiny on the Bounty by Linda Hornabrook
DESCRIPTION:
URL:https://kernowgoth.org/event/talk-william-bligh-mutiny-on-the-bounty-by-linda-hornabrook/
LOCATION:Padstow Social Club\, The Lawns\, Senders Hill\, Padstow\, Cornwall\, PL28 8DT\, United Kingdom
CATEGORIES:Talk
ATTACH;FMTTYPE=image/jpeg:https://kernowgoth.org/wp-content/uploads/2024/10/Padstow-Bounty.jpg
GEO:50.3678287;-4.8675323
X-APPLE-STRUCTURED-LOCATION;VALUE=URI;X-ADDRESS=Padstow Social Club The Lawns Senders Hill Padstow Cornwall PL28 8DT United Kingdom;X-APPLE-RADIUS=500;X-TITLE=The Lawns\, Senders Hill:geo:-4.8675323,50.3678287
END:VEVENT
BEGIN:VEVENT
DTSTART;TZID=UTC:20240508T193000
DTEND;TZID=UTC:20240508T203000
DTSTAMP:20260419T173741
CREATED:20230814T162653Z
LAST-MODIFIED:20230814T162653Z
UID:10000109-1715196600-1715200200@kernowgoth.org
SUMMARY:Padstow OCS AGM
DESCRIPTION:
URL:https://kernowgoth.org/event/padstow-ocs-agm/
LOCATION:Padstow Social Club\, The Lawns\, Senders Hill\, Padstow\, Cornwall\, PL28 8DT\, United Kingdom
GEO:50.3678287;-4.8675323
X-APPLE-STRUCTURED-LOCATION;VALUE=URI;X-ADDRESS=Padstow Social Club The Lawns Senders Hill Padstow Cornwall PL28 8DT United Kingdom;X-APPLE-RADIUS=500;X-TITLE=The Lawns\, Senders Hill:geo:-4.8675323,50.3678287
END:VEVENT
BEGIN:VEVENT
DTSTART;TZID=UTC:20240403T193000
DTEND;TZID=UTC:20240403T203000
DTSTAMP:20260419T173741
CREATED:20230814T162546Z
LAST-MODIFIED:20230814T162546Z
UID:10000108-1712172600-1712176200@kernowgoth.org
SUMMARY:'19th century travellers to Cornwall' - Louis Turner
DESCRIPTION:
URL:https://kernowgoth.org/event/19th-century-travellers-to-cornwall-louis-turner/
LOCATION:Padstow Social Club\, The Lawns\, Senders Hill\, Padstow\, Cornwall\, PL28 8DT\, United Kingdom
GEO:50.3678287;-4.8675323
X-APPLE-STRUCTURED-LOCATION;VALUE=URI;X-ADDRESS=Padstow Social Club The Lawns Senders Hill Padstow Cornwall PL28 8DT United Kingdom;X-APPLE-RADIUS=500;X-TITLE=The Lawns\, Senders Hill:geo:-4.8675323,50.3678287
END:VEVENT
BEGIN:VEVENT
DTSTART;TZID=UTC:20240306T193000
DTEND;TZID=UTC:20240306T203000
DTSTAMP:20260419T173741
CREATED:20230814T162447Z
LAST-MODIFIED:20230814T162447Z
UID:10000107-1709753400-1709757000@kernowgoth.org
SUMMARY:'A History of Rodda’s Cream' - Philip Rodda
DESCRIPTION:
URL:https://kernowgoth.org/event/a-history-of-roddas-cream-philip-rodda/
LOCATION:Padstow Social Club\, The Lawns\, Senders Hill\, Padstow\, Cornwall\, PL28 8DT\, United Kingdom
GEO:50.3678287;-4.8675323
X-APPLE-STRUCTURED-LOCATION;VALUE=URI;X-ADDRESS=Padstow Social Club The Lawns Senders Hill Padstow Cornwall PL28 8DT United Kingdom;X-APPLE-RADIUS=500;X-TITLE=The Lawns\, Senders Hill:geo:-4.8675323,50.3678287
END:VEVENT
BEGIN:VEVENT
DTSTART;TZID=UTC:20240207T193000
DTEND;TZID=UTC:20240207T203000
DTSTAMP:20260419T173741
CREATED:20230814T162344Z
LAST-MODIFIED:20230814T162344Z
UID:10000106-1707334200-1707337800@kernowgoth.org
SUMMARY:'Illuminating our Lantern Crosses: Late medieval sculpture in Cornwall' - by Andrew Langdon.
DESCRIPTION:
URL:https://kernowgoth.org/event/illuminating-our-lantern-crosses-late-medieval-sculpture-in-cornwall-by-andrew-langdon/
LOCATION:Padstow Social Club\, The Lawns\, Senders Hill\, Padstow\, Cornwall\, PL28 8DT\, United Kingdom
GEO:50.3678287;-4.8675323
X-APPLE-STRUCTURED-LOCATION;VALUE=URI;X-ADDRESS=Padstow Social Club The Lawns Senders Hill Padstow Cornwall PL28 8DT United Kingdom;X-APPLE-RADIUS=500;X-TITLE=The Lawns\, Senders Hill:geo:-4.8675323,50.3678287
END:VEVENT
BEGIN:VEVENT
DTSTART;TZID=UTC:20240110T193000
DTEND;TZID=UTC:20240110T203000
DTSTAMP:20260419T173741
CREATED:20230814T162234Z
LAST-MODIFIED:20230814T162234Z
UID:10000105-1704915000-1704918600@kernowgoth.org
SUMMARY:'The criminal justice system (The Old Bailey)' - by Ted Raynham
DESCRIPTION:
URL:https://kernowgoth.org/event/the-criminal-justice-system-the-old-bailey-by-ted-raynham/
LOCATION:Padstow Social Club\, The Lawns\, Senders Hill\, Padstow\, Cornwall\, PL28 8DT\, United Kingdom
GEO:50.3678287;-4.8675323
X-APPLE-STRUCTURED-LOCATION;VALUE=URI;X-ADDRESS=Padstow Social Club The Lawns Senders Hill Padstow Cornwall PL28 8DT United Kingdom;X-APPLE-RADIUS=500;X-TITLE=The Lawns\, Senders Hill:geo:-4.8675323,50.3678287
END:VEVENT
BEGIN:VEVENT
DTSTART;TZID=UTC:20231206T193000
DTEND;TZID=UTC:20231206T203000
DTSTAMP:20260419T173741
CREATED:20230814T162131Z
LAST-MODIFIED:20230814T162131Z
UID:10000104-1701891000-1701894600@kernowgoth.org
SUMMARY:'Holy Wells' - by Terry Faull
DESCRIPTION:
URL:https://kernowgoth.org/event/holy-wells-by-terry-faull/
LOCATION:Padstow Social Club\, The Lawns\, Senders Hill\, Padstow\, Cornwall\, PL28 8DT\, United Kingdom
GEO:50.3678287;-4.8675323
X-APPLE-STRUCTURED-LOCATION;VALUE=URI;X-ADDRESS=Padstow Social Club The Lawns Senders Hill Padstow Cornwall PL28 8DT United Kingdom;X-APPLE-RADIUS=500;X-TITLE=The Lawns\, Senders Hill:geo:-4.8675323,50.3678287
END:VEVENT
BEGIN:VEVENT
DTSTART;TZID=UTC:20231101T193000
DTEND;TZID=UTC:20231101T203000
DTSTAMP:20260419T173741
CREATED:20230814T162036Z
LAST-MODIFIED:20230814T162036Z
UID:10000103-1698867000-1698870600@kernowgoth.org
SUMMARY:'Pengenna' - by Richard Blewett
DESCRIPTION:
URL:https://kernowgoth.org/event/pengenna-by-richard-blewett/
LOCATION:Padstow Social Club\, The Lawns\, Senders Hill\, Padstow\, Cornwall\, PL28 8DT\, United Kingdom
GEO:50.3678287;-4.8675323
X-APPLE-STRUCTURED-LOCATION;VALUE=URI;X-ADDRESS=Padstow Social Club The Lawns Senders Hill Padstow Cornwall PL28 8DT United Kingdom;X-APPLE-RADIUS=500;X-TITLE=The Lawns\, Senders Hill:geo:-4.8675323,50.3678287
END:VEVENT
BEGIN:VEVENT
DTSTART;TZID=UTC:20231021T130000
DTEND;TZID=UTC:20231021T170000
DTSTAMP:20260419T173741
CREATED:20230804T132256Z
LAST-MODIFIED:20231001T154353Z
UID:10000010-1697893200-1697907600@kernowgoth.org
SUMMARY:Winter Festival - Padstow Tales!
DESCRIPTION:We are delighted to say that the Winter Festival will be held in Padstow this year. This will be an afternoon event with pasties\, saffron buns and tea to be enjoyed as part of the proceedings! \nProgramme:  \n1.00pm – Welcome\n• Parade of Banners\n• Roll Call of Societies (please ensure your Society is present)\n1.30pm – 4.00pm\n• Mike O`Conner and Barbara Griggs\n• The Mermaid of Padstow – Linda Hornabrook\n• May Day – Mayers\n• Enys Tregarthen – John & Liz Buckingham\n• Music and Dance with Finley Bray and family\n4.00pm Trelawny and exit of the Banners\n4.15pm Refreshments including saffron buns served in the Church Rooms\n\nFree parking is available in Charlie’s Field and a map has been circulated.\n\nPlease submit your form to Ivor Corkell as soon as possible – we will not be able to accept bookings after the 14th October\, as food orders have to be submitted!\n\nPlease check that you have returned your Banner Bearer Forms\, and that your Festival Booking Forms are sent in promptly. Please make every effort to ensure a good attendance\, and make sure that your banners are part of the parade. You will know by now that we place great importance on the Old Cornwall Family regularly coming together. We look forward to seeing everyone at the Festival.
URL:https://kernowgoth.org/event/winter-festival/
LOCATION:St Petroc’s Church\, Padstow\, Church Street\, Padstow\, PL28 8BG\, United Kingdom
ATTACH;FMTTYPE=image/png:https://kernowgoth.org/wp-content/uploads/2023/08/Screenshot-2023-10-01-at-15.40.02.png
GEO:50.5415226;-4.9428037
X-APPLE-STRUCTURED-LOCATION;VALUE=URI;X-ADDRESS=St Petroc’s Church Padstow Church Street Padstow PL28 8BG United Kingdom;X-APPLE-RADIUS=500;X-TITLE=Church Street:geo:-4.9428037,50.5415226
END:VEVENT
BEGIN:VEVENT
DTSTART;TZID=UTC:20231004T193000
DTEND;TZID=UTC:20231004T203000
DTSTAMP:20260419T173741
CREATED:20230814T161748Z
LAST-MODIFIED:20230814T161910Z
UID:10000102-1696447800-1696451400@kernowgoth.org
SUMMARY:'Cornish bards and Gorsedh Kernow' - Merv Davey
DESCRIPTION:£3.50/visitors\, £1/juniors
URL:https://kernowgoth.org/event/cornish-bards-and-gorsedh-kernow-merv-davey/
LOCATION:Padstow Social Club\, The Lawns\, Senders Hill\, Padstow\, Cornwall\, PL28 8DT\, United Kingdom
GEO:50.3678287;-4.8675323
X-APPLE-STRUCTURED-LOCATION;VALUE=URI;X-ADDRESS=Padstow Social Club The Lawns Senders Hill Padstow Cornwall PL28 8DT United Kingdom;X-APPLE-RADIUS=500;X-TITLE=The Lawns\, Senders Hill:geo:-4.8675323,50.3678287
END:VEVENT
END:VCALENDAR